BEGIN:VCALENDAR
VERSION:2.0
PRODID:-//Shekinah - ECPv6.15.18//NONSGML v1.0//EN
CALSCALE:GREGORIAN
METHOD:PUBLISH
X-WR-CALNAME:Shekinah
X-ORIGINAL-URL:https://shekinah.co.uk
X-WR-CALDESC:Events for Shekinah
REFRESH-INTERVAL;VALUE=DURATION:PT1H
X-Robots-Tag:noindex
X-PUBLISHED-TTL:PT1H
BEGIN:VTIMEZONE
TZID:UTC
BEGIN:STANDARD
TZOFFSETFROM:+0000
TZOFFSETTO:+0000
TZNAME:UTC
DTSTART:20230101T000000
END:STANDARD
END:VTIMEZONE
BEGIN:VEVENT
DTSTART;TZID=UTC:20250501T140000
DTEND;TZID=UTC:20250501T160000
DTSTAMP:20260421T084034
CREATED:20250410T121522Z
LAST-MODIFIED:20250410T121522Z
UID:10008726-1746108000-1746115200@shekinah.co.uk
SUMMARY:Acoustic Guitar lessons
DESCRIPTION:Course description: Everyone welcome no matter what level you are at.\nIt’s about giving it a go and learning something new or old.\nTeaching and Learning Approaches: Workshop format
URL:https://shekinah.co.uk/event/acoustic-guitar-lessons/2025-05-01/
LOCATION:CentrePeace\, 56a Palace Ave\, Paignton\, TQ3 3HF
CATEGORIES:Job Centre Plus
END:VEVENT
BEGIN:VEVENT
DTSTART;TZID=UTC:20250426T110000
DTEND;TZID=UTC:20250426T120000
DTSTAMP:20260421T084034
CREATED:20250410T122627Z
LAST-MODIFIED:20250410T122627Z
UID:10008812-1745665200-1745668800@shekinah.co.uk
SUMMARY:Meditation with Lily
DESCRIPTION:Course description: Sharpen your body\, strengthen your mind\, balance your emotions. Meditation significantly improves your mental health by reducing stress and anxiety.\nRegular practice can enhance focus and concentration leading to better productivity and cognitive function.\nTeaching and Learning Approaches: Workshop format
URL:https://shekinah.co.uk/event/meditation-with-lily/2025-04-26/
LOCATION:CentrePeace\, 56a Palace Ave\, Paignton\, TQ3 3HF
CATEGORIES:Learning Exchange
END:VEVENT
BEGIN:VEVENT
DTSTART;TZID=UTC:20250425T130000
DTEND;TZID=UTC:20250425T150000
DTSTAMP:20260421T084034
CREATED:20250410T121903Z
LAST-MODIFIED:20250410T121903Z
UID:10008769-1745586000-1745593200@shekinah.co.uk
SUMMARY:Craft for mind and soul
DESCRIPTION:Course description: Come and get away from it all. Being creative can not only create something crafty but will transport you to be wholly present. A great mindful experience.\nAll materials are provided\, lots of different craft projects to choose from.\nTeaching and Learning Approaches: Workshop format
URL:https://shekinah.co.uk/event/craft-for-mind-and-soul-2/2025-04-25/
LOCATION:CentrePeace\, 56a Palace Ave\, Paignton\, TQ3 3HF
CATEGORIES:Learning Exchange
END:VEVENT
BEGIN:VEVENT
DTSTART;TZID=UTC:20250424T140000
DTEND;TZID=UTC:20250424T160000
DTSTAMP:20260421T084034
CREATED:20250410T121522Z
LAST-MODIFIED:20250410T121522Z
UID:10008725-1745503200-1745510400@shekinah.co.uk
SUMMARY:Acoustic Guitar lessons
DESCRIPTION:Course description: Everyone welcome no matter what level you are at.\nIt’s about giving it a go and learning something new or old.\nTeaching and Learning Approaches: Workshop format
URL:https://shekinah.co.uk/event/acoustic-guitar-lessons/2025-04-24/
LOCATION:CentrePeace\, 56a Palace Ave\, Paignton\, TQ3 3HF
CATEGORIES:Job Centre Plus
END:VEVENT
BEGIN:VEVENT
DTSTART;TZID=UTC:20250419T110000
DTEND;TZID=UTC:20250419T120000
DTSTAMP:20260421T084034
CREATED:20250410T122627Z
LAST-MODIFIED:20250410T122627Z
UID:10008811-1745060400-1745064000@shekinah.co.uk
SUMMARY:Meditation with Lily
DESCRIPTION:Course description: Sharpen your body\, strengthen your mind\, balance your emotions. Meditation significantly improves your mental health by reducing stress and anxiety.\nRegular practice can enhance focus and concentration leading to better productivity and cognitive function.\nTeaching and Learning Approaches: Workshop format
URL:https://shekinah.co.uk/event/meditation-with-lily/2025-04-19/
LOCATION:CentrePeace\, 56a Palace Ave\, Paignton\, TQ3 3HF
CATEGORIES:Learning Exchange
END:VEVENT
BEGIN:VEVENT
DTSTART;TZID=UTC:20250418T130000
DTEND;TZID=UTC:20250418T150000
DTSTAMP:20260421T084034
CREATED:20250410T121903Z
LAST-MODIFIED:20250410T121903Z
UID:10008768-1744981200-1744988400@shekinah.co.uk
SUMMARY:Craft for mind and soul
DESCRIPTION:Course description: Come and get away from it all. Being creative can not only create something crafty but will transport you to be wholly present. A great mindful experience.\nAll materials are provided\, lots of different craft projects to choose from.\nTeaching and Learning Approaches: Workshop format
URL:https://shekinah.co.uk/event/craft-for-mind-and-soul-2/2025-04-18/
LOCATION:CentrePeace\, 56a Palace Ave\, Paignton\, TQ3 3HF
CATEGORIES:Learning Exchange
END:VEVENT
BEGIN:VEVENT
DTSTART;TZID=UTC:20250417T140000
DTEND;TZID=UTC:20250417T160000
DTSTAMP:20260421T084034
CREATED:20250410T121522Z
LAST-MODIFIED:20250410T121522Z
UID:10008724-1744898400-1744905600@shekinah.co.uk
SUMMARY:Acoustic Guitar lessons
DESCRIPTION:Course description: Everyone welcome no matter what level you are at.\nIt’s about giving it a go and learning something new or old.\nTeaching and Learning Approaches: Workshop format
URL:https://shekinah.co.uk/event/acoustic-guitar-lessons/2025-04-17/
LOCATION:CentrePeace\, 56a Palace Ave\, Paignton\, TQ3 3HF
CATEGORIES:Job Centre Plus
END:VEVENT
BEGIN:VEVENT
DTSTART;TZID=UTC:20250412T110000
DTEND;TZID=UTC:20250412T120000
DTSTAMP:20260421T084034
CREATED:20250410T122627Z
LAST-MODIFIED:20250410T122627Z
UID:10008810-1744455600-1744459200@shekinah.co.uk
SUMMARY:Meditation with Lily
DESCRIPTION:Course description: Sharpen your body\, strengthen your mind\, balance your emotions. Meditation significantly improves your mental health by reducing stress and anxiety.\nRegular practice can enhance focus and concentration leading to better productivity and cognitive function.\nTeaching and Learning Approaches: Workshop format
URL:https://shekinah.co.uk/event/meditation-with-lily/2025-04-12/
LOCATION:CentrePeace\, 56a Palace Ave\, Paignton\, TQ3 3HF
CATEGORIES:Learning Exchange
END:VEVENT
BEGIN:VEVENT
DTSTART;TZID=UTC:20250411T130000
DTEND;TZID=UTC:20250411T150000
DTSTAMP:20260421T084034
CREATED:20250410T121903Z
LAST-MODIFIED:20250410T121903Z
UID:10008767-1744376400-1744383600@shekinah.co.uk
SUMMARY:Craft for mind and soul
DESCRIPTION:Course description: Come and get away from it all. Being creative can not only create something crafty but will transport you to be wholly present. A great mindful experience.\nAll materials are provided\, lots of different craft projects to choose from.\nTeaching and Learning Approaches: Workshop format
URL:https://shekinah.co.uk/event/craft-for-mind-and-soul-2/2025-04-11/
LOCATION:CentrePeace\, 56a Palace Ave\, Paignton\, TQ3 3HF
CATEGORIES:Learning Exchange
END:VEVENT
BEGIN:VEVENT
DTSTART;TZID=UTC:20250410T140000
DTEND;TZID=UTC:20250410T160000
DTSTAMP:20260421T084034
CREATED:20250410T121522Z
LAST-MODIFIED:20250410T121522Z
UID:10008723-1744293600-1744300800@shekinah.co.uk
SUMMARY:Acoustic Guitar lessons
DESCRIPTION:Course description: Everyone welcome no matter what level you are at.\nIt’s about giving it a go and learning something new or old.\nTeaching and Learning Approaches: Workshop format
URL:https://shekinah.co.uk/event/acoustic-guitar-lessons/2025-04-10/
LOCATION:CentrePeace\, 56a Palace Ave\, Paignton\, TQ3 3HF
CATEGORIES:Job Centre Plus
END:VEVENT
BEGIN:VEVENT
DTSTART;TZID=UTC:20250405T110000
DTEND;TZID=UTC:20250405T120000
DTSTAMP:20260421T084034
CREATED:20250410T122627Z
LAST-MODIFIED:20250410T122627Z
UID:10008809-1743850800-1743854400@shekinah.co.uk
SUMMARY:Meditation with Lily
DESCRIPTION:Course description: Sharpen your body\, strengthen your mind\, balance your emotions. Meditation significantly improves your mental health by reducing stress and anxiety.\nRegular practice can enhance focus and concentration leading to better productivity and cognitive function.\nTeaching and Learning Approaches: Workshop format
URL:https://shekinah.co.uk/event/meditation-with-lily/2025-04-05/
LOCATION:CentrePeace\, 56a Palace Ave\, Paignton\, TQ3 3HF
CATEGORIES:Learning Exchange
END:VEVENT
BEGIN:VEVENT
DTSTART;TZID=UTC:20250404T130000
DTEND;TZID=UTC:20250404T150000
DTSTAMP:20260421T084034
CREATED:20250410T121903Z
LAST-MODIFIED:20250410T121903Z
UID:10008766-1743771600-1743778800@shekinah.co.uk
SUMMARY:Craft for mind and soul
DESCRIPTION:Course description: Come and get away from it all. Being creative can not only create something crafty but will transport you to be wholly present. A great mindful experience.\nAll materials are provided\, lots of different craft projects to choose from.\nTeaching and Learning Approaches: Workshop format
URL:https://shekinah.co.uk/event/craft-for-mind-and-soul-2/2025-04-04/
LOCATION:CentrePeace\, 56a Palace Ave\, Paignton\, TQ3 3HF
CATEGORIES:Learning Exchange
END:VEVENT
BEGIN:VEVENT
DTSTART;TZID=UTC:20250403T140000
DTEND;TZID=UTC:20250403T160000
DTSTAMP:20260421T084034
CREATED:20250410T121522Z
LAST-MODIFIED:20250410T121522Z
UID:10008722-1743688800-1743696000@shekinah.co.uk
SUMMARY:Acoustic Guitar lessons
DESCRIPTION:Course description: Everyone welcome no matter what level you are at.\nIt’s about giving it a go and learning something new or old.\nTeaching and Learning Approaches: Workshop format
URL:https://shekinah.co.uk/event/acoustic-guitar-lessons/2025-04-03/
LOCATION:CentrePeace\, 56a Palace Ave\, Paignton\, TQ3 3HF
CATEGORIES:Job Centre Plus
END:VEVENT
BEGIN:VEVENT
DTSTART;TZID=UTC:20250328T100000
DTEND;TZID=UTC:20250328T130000
DTSTAMP:20260421T084034
CREATED:20241219T123124Z
LAST-MODIFIED:20241219T123124Z
UID:10006185-1743156000-1743166800@shekinah.co.uk
SUMMARY:Crafting for Mind and Soul
DESCRIPTION:Course description: Come and get away from it all.\nBeing creative can not only create something crafty but will transport you to be wholly present. A great mindful experience. All materials are provided\, lots of different craft projects to choose from.\nTeaching and Learning Approaches: Practical Workshop.
URL:https://shekinah.co.uk/event/crafting-for-mind-and-soul/2025-03-28/
LOCATION:CentrePeace\, 56a Palace Ave\, Paignton\, TQ3 3HF
CATEGORIES:Learning Exchange
END:VEVENT
BEGIN:VEVENT
DTSTART;TZID=UTC:20250321T100000
DTEND;TZID=UTC:20250321T130000
DTSTAMP:20260421T084034
CREATED:20241219T123124Z
LAST-MODIFIED:20241219T123124Z
UID:10006184-1742551200-1742562000@shekinah.co.uk
SUMMARY:Crafting for Mind and Soul
DESCRIPTION:Course description: Come and get away from it all.\nBeing creative can not only create something crafty but will transport you to be wholly present. A great mindful experience. All materials are provided\, lots of different craft projects to choose from.\nTeaching and Learning Approaches: Practical Workshop.
URL:https://shekinah.co.uk/event/crafting-for-mind-and-soul/2025-03-21/
LOCATION:CentrePeace\, 56a Palace Ave\, Paignton\, TQ3 3HF
CATEGORIES:Learning Exchange
END:VEVENT
BEGIN:VEVENT
DTSTART;TZID=UTC:20250314T100000
DTEND;TZID=UTC:20250314T130000
DTSTAMP:20260421T084034
CREATED:20241219T123124Z
LAST-MODIFIED:20241219T123124Z
UID:10006183-1741946400-1741957200@shekinah.co.uk
SUMMARY:Crafting for Mind and Soul
DESCRIPTION:Course description: Come and get away from it all.\nBeing creative can not only create something crafty but will transport you to be wholly present. A great mindful experience. All materials are provided\, lots of different craft projects to choose from.\nTeaching and Learning Approaches: Practical Workshop.
URL:https://shekinah.co.uk/event/crafting-for-mind-and-soul/2025-03-14/
LOCATION:CentrePeace\, 56a Palace Ave\, Paignton\, TQ3 3HF
CATEGORIES:Learning Exchange
END:VEVENT
BEGIN:VEVENT
DTSTART;TZID=UTC:20250307T100000
DTEND;TZID=UTC:20250307T130000
DTSTAMP:20260421T084034
CREATED:20241219T123124Z
LAST-MODIFIED:20241219T123124Z
UID:10006182-1741341600-1741352400@shekinah.co.uk
SUMMARY:Crafting for Mind and Soul
DESCRIPTION:Course description: Come and get away from it all.\nBeing creative can not only create something crafty but will transport you to be wholly present. A great mindful experience. All materials are provided\, lots of different craft projects to choose from.\nTeaching and Learning Approaches: Practical Workshop.
URL:https://shekinah.co.uk/event/crafting-for-mind-and-soul/2025-03-07/
LOCATION:CentrePeace\, 56a Palace Ave\, Paignton\, TQ3 3HF
CATEGORIES:Learning Exchange
END:VEVENT
BEGIN:VEVENT
DTSTART;TZID=UTC:20250228T100000
DTEND;TZID=UTC:20250228T130000
DTSTAMP:20260421T084034
CREATED:20241219T123124Z
LAST-MODIFIED:20241219T123124Z
UID:10006181-1740736800-1740747600@shekinah.co.uk
SUMMARY:Crafting for Mind and Soul
DESCRIPTION:Course description: Come and get away from it all.\nBeing creative can not only create something crafty but will transport you to be wholly present. A great mindful experience. All materials are provided\, lots of different craft projects to choose from.\nTeaching and Learning Approaches: Practical Workshop.
URL:https://shekinah.co.uk/event/crafting-for-mind-and-soul/2025-02-28/
LOCATION:CentrePeace\, 56a Palace Ave\, Paignton\, TQ3 3HF
CATEGORIES:Learning Exchange
END:VEVENT
BEGIN:VEVENT
DTSTART;TZID=UTC:20250221T100000
DTEND;TZID=UTC:20250221T130000
DTSTAMP:20260421T084034
CREATED:20241219T123124Z
LAST-MODIFIED:20241219T123124Z
UID:10006180-1740132000-1740142800@shekinah.co.uk
SUMMARY:Crafting for Mind and Soul
DESCRIPTION:Course description: Come and get away from it all.\nBeing creative can not only create something crafty but will transport you to be wholly present. A great mindful experience. All materials are provided\, lots of different craft projects to choose from.\nTeaching and Learning Approaches: Practical Workshop.
URL:https://shekinah.co.uk/event/crafting-for-mind-and-soul/2025-02-21/
LOCATION:CentrePeace\, 56a Palace Ave\, Paignton\, TQ3 3HF
CATEGORIES:Learning Exchange
END:VEVENT
BEGIN:VEVENT
DTSTART;TZID=UTC:20250214T100000
DTEND;TZID=UTC:20250214T130000
DTSTAMP:20260421T084035
CREATED:20241219T123124Z
LAST-MODIFIED:20241219T123124Z
UID:10006179-1739527200-1739538000@shekinah.co.uk
SUMMARY:Crafting for Mind and Soul
DESCRIPTION:Course description: Come and get away from it all.\nBeing creative can not only create something crafty but will transport you to be wholly present. A great mindful experience. All materials are provided\, lots of different craft projects to choose from.\nTeaching and Learning Approaches: Practical Workshop.
URL:https://shekinah.co.uk/event/crafting-for-mind-and-soul/2025-02-14/
LOCATION:CentrePeace\, 56a Palace Ave\, Paignton\, TQ3 3HF
CATEGORIES:Learning Exchange
END:VEVENT
BEGIN:VEVENT
DTSTART;TZID=UTC:20250207T100000
DTEND;TZID=UTC:20250207T130000
DTSTAMP:20260421T084035
CREATED:20241219T123124Z
LAST-MODIFIED:20241219T123124Z
UID:10006178-1738922400-1738933200@shekinah.co.uk
SUMMARY:Crafting for Mind and Soul
DESCRIPTION:Course description: Come and get away from it all.\nBeing creative can not only create something crafty but will transport you to be wholly present. A great mindful experience. All materials are provided\, lots of different craft projects to choose from.\nTeaching and Learning Approaches: Practical Workshop.
URL:https://shekinah.co.uk/event/crafting-for-mind-and-soul/2025-02-07/
LOCATION:CentrePeace\, 56a Palace Ave\, Paignton\, TQ3 3HF
CATEGORIES:Learning Exchange
END:VEVENT
BEGIN:VEVENT
DTSTART;TZID=UTC:20250131T100000
DTEND;TZID=UTC:20250131T130000
DTSTAMP:20260421T084035
CREATED:20241219T123124Z
LAST-MODIFIED:20241219T123124Z
UID:10006177-1738317600-1738328400@shekinah.co.uk
SUMMARY:Crafting for Mind and Soul
DESCRIPTION:Course description: Come and get away from it all.\nBeing creative can not only create something crafty but will transport you to be wholly present. A great mindful experience. All materials are provided\, lots of different craft projects to choose from.\nTeaching and Learning Approaches: Practical Workshop.
URL:https://shekinah.co.uk/event/crafting-for-mind-and-soul/2025-01-31/
LOCATION:CentrePeace\, 56a Palace Ave\, Paignton\, TQ3 3HF
CATEGORIES:Learning Exchange
END:VEVENT
BEGIN:VEVENT
DTSTART;TZID=UTC:20250124T100000
DTEND;TZID=UTC:20250124T130000
DTSTAMP:20260421T084035
CREATED:20241219T123124Z
LAST-MODIFIED:20241219T123124Z
UID:10006176-1737712800-1737723600@shekinah.co.uk
SUMMARY:Crafting for Mind and Soul
DESCRIPTION:Course description: Come and get away from it all.\nBeing creative can not only create something crafty but will transport you to be wholly present. A great mindful experience. All materials are provided\, lots of different craft projects to choose from.\nTeaching and Learning Approaches: Practical Workshop.
URL:https://shekinah.co.uk/event/crafting-for-mind-and-soul/2025-01-24/
LOCATION:CentrePeace\, 56a Palace Ave\, Paignton\, TQ3 3HF
CATEGORIES:Learning Exchange
END:VEVENT
BEGIN:VEVENT
DTSTART;TZID=UTC:20250117T100000
DTEND;TZID=UTC:20250117T130000
DTSTAMP:20260421T084035
CREATED:20241219T123124Z
LAST-MODIFIED:20241219T123124Z
UID:10006175-1737108000-1737118800@shekinah.co.uk
SUMMARY:Crafting for Mind and Soul
DESCRIPTION:Course description: Come and get away from it all.\nBeing creative can not only create something crafty but will transport you to be wholly present. A great mindful experience. All materials are provided\, lots of different craft projects to choose from.\nTeaching and Learning Approaches: Practical Workshop.
URL:https://shekinah.co.uk/event/crafting-for-mind-and-soul/2025-01-17/
LOCATION:CentrePeace\, 56a Palace Ave\, Paignton\, TQ3 3HF
CATEGORIES:Learning Exchange
END:VEVENT
BEGIN:VEVENT
DTSTART;TZID=UTC:20250110T100000
DTEND;TZID=UTC:20250110T130000
DTSTAMP:20260421T084035
CREATED:20241219T123124Z
LAST-MODIFIED:20241219T123124Z
UID:10006174-1736503200-1736514000@shekinah.co.uk
SUMMARY:Crafting for Mind and Soul
DESCRIPTION:Course description: Come and get away from it all.\nBeing creative can not only create something crafty but will transport you to be wholly present. A great mindful experience. All materials are provided\, lots of different craft projects to choose from.\nTeaching and Learning Approaches: Practical Workshop.
URL:https://shekinah.co.uk/event/crafting-for-mind-and-soul/2025-01-10/
LOCATION:CentrePeace\, 56a Palace Ave\, Paignton\, TQ3 3HF
CATEGORIES:Learning Exchange
END:VEVENT
BEGIN:VEVENT
DTSTART;TZID=UTC:20241210T130000
DTEND;TZID=UTC:20241210T150000
DTSTAMP:20260421T084035
CREATED:20240910T091630Z
LAST-MODIFIED:20240910T091630Z
UID:10001002-1733835600-1733842800@shekinah.co.uk
SUMMARY:Textiles and Up-cycling
DESCRIPTION:Whether you want to darn\, repair\, alter or make fabric art this is the course for you. \nMachines and materials are provided\, although if you had an item you would like to work on\, please bring it with you. \nNo experience needed.
URL:https://shekinah.co.uk/event/textiles-and-up-cycling-2/2024-12-10/
LOCATION:CentrePeace\, 56a Palace Ave\, Paignton\, TQ3 3HF
CATEGORIES:Learning Exchange
END:VEVENT
BEGIN:VEVENT
DTSTART;TZID=UTC:20241210T100000
DTEND;TZID=UTC:20241210T120000
DTSTAMP:20260421T084035
CREATED:20240910T091531Z
LAST-MODIFIED:20240910T091531Z
UID:10000988-1733824800-1733832000@shekinah.co.uk
SUMMARY:Textiles and Up-cycling
DESCRIPTION:Whether you want to darn\, repair\, alter or make fabric art this is the course for you. \nMachines and materials are provided\, although if you had an item you would like to work on\, please bring it with you. \nNo experience needed.
URL:https://shekinah.co.uk/event/textiles-and-up-cycling/2024-12-10/
LOCATION:CentrePeace\, 56a Palace Ave\, Paignton\, TQ3 3HF
CATEGORIES:Learning Exchange
END:VEVENT
BEGIN:VEVENT
DTSTART;TZID=UTC:20241209T130000
DTEND;TZID=UTC:20241209T150000
DTSTAMP:20260421T084035
CREATED:20240910T090651Z
LAST-MODIFIED:20240910T090651Z
UID:10000950-1733749200-1733756400@shekinah.co.uk
SUMMARY:Computer Skills
DESCRIPTION:Do you struggle with computers? Want to feel more confident with using a computer. Then this is the course for you. \nLearn basic skills\, how to email and access emails\, poster making\, cv writing\, power points and more…..
URL:https://shekinah.co.uk/event/computer-skills/2024-12-09/
LOCATION:CentrePeace\, 56a Palace Ave\, Paignton\, TQ3 3HF
CATEGORIES:Learning Exchange
END:VEVENT
BEGIN:VEVENT
DTSTART;TZID=UTC:20241203T130000
DTEND;TZID=UTC:20241203T150000
DTSTAMP:20260421T084035
CREATED:20240910T091630Z
LAST-MODIFIED:20240910T091630Z
UID:10001001-1733230800-1733238000@shekinah.co.uk
SUMMARY:Textiles and Up-cycling
DESCRIPTION:Whether you want to darn\, repair\, alter or make fabric art this is the course for you. \nMachines and materials are provided\, although if you had an item you would like to work on\, please bring it with you. \nNo experience needed.
URL:https://shekinah.co.uk/event/textiles-and-up-cycling-2/2024-12-03/
LOCATION:CentrePeace\, 56a Palace Ave\, Paignton\, TQ3 3HF
CATEGORIES:Learning Exchange
END:VEVENT
BEGIN:VEVENT
DTSTART;TZID=UTC:20241203T100000
DTEND;TZID=UTC:20241203T120000
DTSTAMP:20260421T084035
CREATED:20240910T091531Z
LAST-MODIFIED:20240910T091531Z
UID:10000987-1733220000-1733227200@shekinah.co.uk
SUMMARY:Textiles and Up-cycling
DESCRIPTION:Whether you want to darn\, repair\, alter or make fabric art this is the course for you. \nMachines and materials are provided\, although if you had an item you would like to work on\, please bring it with you. \nNo experience needed.
URL:https://shekinah.co.uk/event/textiles-and-up-cycling/2024-12-03/
LOCATION:CentrePeace\, 56a Palace Ave\, Paignton\, TQ3 3HF
CATEGORIES:Learning Exchange
END:VEVENT
END:VCALENDAR