BEGIN:VCALENDAR
VERSION:2.0
PRODID:-//Shekinah - ECPv6.15.18//NONSGML v1.0//EN
CALSCALE:GREGORIAN
METHOD:PUBLISH
X-ORIGINAL-URL:https://shekinah.co.uk
X-WR-CALDESC:Events for Shekinah
REFRESH-INTERVAL;VALUE=DURATION:PT1H
X-Robots-Tag:noindex
X-PUBLISHED-TTL:PT1H
BEGIN:VTIMEZONE
TZID:UTC
BEGIN:STANDARD
TZOFFSETFROM:+0000
TZOFFSETTO:+0000
TZNAME:UTC
DTSTART:20230101T000000
END:STANDARD
END:VTIMEZONE
BEGIN:VEVENT
DTSTART;TZID=UTC:20250110T100000
DTEND;TZID=UTC:20250110T130000
DTSTAMP:20260421T114406
CREATED:20241219T123124Z
LAST-MODIFIED:20241219T123124Z
UID:10006174-1736503200-1736514000@shekinah.co.uk
SUMMARY:Crafting for Mind and Soul
DESCRIPTION:Course description: Come and get away from it all.\nBeing creative can not only create something crafty but will transport you to be wholly present. A great mindful experience. All materials are provided\, lots of different craft projects to choose from.\nTeaching and Learning Approaches: Practical Workshop.
URL:https://shekinah.co.uk/event/crafting-for-mind-and-soul/2025-01-10/
LOCATION:CentrePeace\, 56a Palace Ave\, Paignton\, TQ3 3HF
CATEGORIES:Learning Exchange
END:VEVENT
BEGIN:VEVENT
DTSTART;TZID=UTC:20241210T130000
DTEND;TZID=UTC:20241210T150000
DTSTAMP:20260421T114406
CREATED:20240910T091630Z
LAST-MODIFIED:20240910T091630Z
UID:10001002-1733835600-1733842800@shekinah.co.uk
SUMMARY:Textiles and Up-cycling
DESCRIPTION:Whether you want to darn\, repair\, alter or make fabric art this is the course for you. \nMachines and materials are provided\, although if you had an item you would like to work on\, please bring it with you. \nNo experience needed.
URL:https://shekinah.co.uk/event/textiles-and-up-cycling-2/2024-12-10/
LOCATION:CentrePeace\, 56a Palace Ave\, Paignton\, TQ3 3HF
CATEGORIES:Learning Exchange
END:VEVENT
BEGIN:VEVENT
DTSTART;TZID=UTC:20241210T100000
DTEND;TZID=UTC:20241210T120000
DTSTAMP:20260421T114406
CREATED:20240910T091531Z
LAST-MODIFIED:20240910T091531Z
UID:10000988-1733824800-1733832000@shekinah.co.uk
SUMMARY:Textiles and Up-cycling
DESCRIPTION:Whether you want to darn\, repair\, alter or make fabric art this is the course for you. \nMachines and materials are provided\, although if you had an item you would like to work on\, please bring it with you. \nNo experience needed.
URL:https://shekinah.co.uk/event/textiles-and-up-cycling/2024-12-10/
LOCATION:CentrePeace\, 56a Palace Ave\, Paignton\, TQ3 3HF
CATEGORIES:Learning Exchange
END:VEVENT
BEGIN:VEVENT
DTSTART;TZID=UTC:20241209T130000
DTEND;TZID=UTC:20241209T150000
DTSTAMP:20260421T114406
CREATED:20240910T090651Z
LAST-MODIFIED:20240910T090651Z
UID:10000950-1733749200-1733756400@shekinah.co.uk
SUMMARY:Computer Skills
DESCRIPTION:Do you struggle with computers? Want to feel more confident with using a computer. Then this is the course for you. \nLearn basic skills\, how to email and access emails\, poster making\, cv writing\, power points and more…..
URL:https://shekinah.co.uk/event/computer-skills/2024-12-09/
LOCATION:CentrePeace\, 56a Palace Ave\, Paignton\, TQ3 3HF
CATEGORIES:Learning Exchange
END:VEVENT
BEGIN:VEVENT
DTSTART;TZID=UTC:20241203T130000
DTEND;TZID=UTC:20241203T150000
DTSTAMP:20260421T114406
CREATED:20240910T091630Z
LAST-MODIFIED:20240910T091630Z
UID:10001001-1733230800-1733238000@shekinah.co.uk
SUMMARY:Textiles and Up-cycling
DESCRIPTION:Whether you want to darn\, repair\, alter or make fabric art this is the course for you. \nMachines and materials are provided\, although if you had an item you would like to work on\, please bring it with you. \nNo experience needed.
URL:https://shekinah.co.uk/event/textiles-and-up-cycling-2/2024-12-03/
LOCATION:CentrePeace\, 56a Palace Ave\, Paignton\, TQ3 3HF
CATEGORIES:Learning Exchange
END:VEVENT
BEGIN:VEVENT
DTSTART;TZID=UTC:20241203T100000
DTEND;TZID=UTC:20241203T120000
DTSTAMP:20260421T114406
CREATED:20240910T091531Z
LAST-MODIFIED:20240910T091531Z
UID:10000987-1733220000-1733227200@shekinah.co.uk
SUMMARY:Textiles and Up-cycling
DESCRIPTION:Whether you want to darn\, repair\, alter or make fabric art this is the course for you. \nMachines and materials are provided\, although if you had an item you would like to work on\, please bring it with you. \nNo experience needed.
URL:https://shekinah.co.uk/event/textiles-and-up-cycling/2024-12-03/
LOCATION:CentrePeace\, 56a Palace Ave\, Paignton\, TQ3 3HF
CATEGORIES:Learning Exchange
END:VEVENT
BEGIN:VEVENT
DTSTART;TZID=UTC:20241202T130000
DTEND;TZID=UTC:20241202T150000
DTSTAMP:20260421T114406
CREATED:20240910T090651Z
LAST-MODIFIED:20240910T090651Z
UID:10000949-1733144400-1733151600@shekinah.co.uk
SUMMARY:Computer Skills
DESCRIPTION:Do you struggle with computers? Want to feel more confident with using a computer. Then this is the course for you. \nLearn basic skills\, how to email and access emails\, poster making\, cv writing\, power points and more…..
URL:https://shekinah.co.uk/event/computer-skills/2024-12-02/
LOCATION:CentrePeace\, 56a Palace Ave\, Paignton\, TQ3 3HF
CATEGORIES:Learning Exchange
END:VEVENT
BEGIN:VEVENT
DTSTART;TZID=UTC:20241126T130000
DTEND;TZID=UTC:20241126T150000
DTSTAMP:20260421T114406
CREATED:20240910T091630Z
LAST-MODIFIED:20240910T091630Z
UID:10001000-1732626000-1732633200@shekinah.co.uk
SUMMARY:Textiles and Up-cycling
DESCRIPTION:Whether you want to darn\, repair\, alter or make fabric art this is the course for you. \nMachines and materials are provided\, although if you had an item you would like to work on\, please bring it with you. \nNo experience needed.
URL:https://shekinah.co.uk/event/textiles-and-up-cycling-2/2024-11-26/
LOCATION:CentrePeace\, 56a Palace Ave\, Paignton\, TQ3 3HF
CATEGORIES:Learning Exchange
END:VEVENT
BEGIN:VEVENT
DTSTART;TZID=UTC:20241126T100000
DTEND;TZID=UTC:20241126T120000
DTSTAMP:20260421T114406
CREATED:20240910T091531Z
LAST-MODIFIED:20240910T091531Z
UID:10000986-1732615200-1732622400@shekinah.co.uk
SUMMARY:Textiles and Up-cycling
DESCRIPTION:Whether you want to darn\, repair\, alter or make fabric art this is the course for you. \nMachines and materials are provided\, although if you had an item you would like to work on\, please bring it with you. \nNo experience needed.
URL:https://shekinah.co.uk/event/textiles-and-up-cycling/2024-11-26/
LOCATION:CentrePeace\, 56a Palace Ave\, Paignton\, TQ3 3HF
CATEGORIES:Learning Exchange
END:VEVENT
BEGIN:VEVENT
DTSTART;TZID=UTC:20241125T130000
DTEND;TZID=UTC:20241125T150000
DTSTAMP:20260421T114406
CREATED:20240910T090651Z
LAST-MODIFIED:20240910T090651Z
UID:10000948-1732539600-1732546800@shekinah.co.uk
SUMMARY:Computer Skills
DESCRIPTION:Do you struggle with computers? Want to feel more confident with using a computer. Then this is the course for you. \nLearn basic skills\, how to email and access emails\, poster making\, cv writing\, power points and more…..
URL:https://shekinah.co.uk/event/computer-skills/2024-11-25/
LOCATION:CentrePeace\, 56a Palace Ave\, Paignton\, TQ3 3HF
CATEGORIES:Learning Exchange
END:VEVENT
BEGIN:VEVENT
DTSTART;TZID=UTC:20241119T130000
DTEND;TZID=UTC:20241119T150000
DTSTAMP:20260421T114406
CREATED:20240910T091630Z
LAST-MODIFIED:20240910T091630Z
UID:10000999-1732021200-1732028400@shekinah.co.uk
SUMMARY:Textiles and Up-cycling
DESCRIPTION:Whether you want to darn\, repair\, alter or make fabric art this is the course for you. \nMachines and materials are provided\, although if you had an item you would like to work on\, please bring it with you. \nNo experience needed.
URL:https://shekinah.co.uk/event/textiles-and-up-cycling-2/2024-11-19/
LOCATION:CentrePeace\, 56a Palace Ave\, Paignton\, TQ3 3HF
CATEGORIES:Learning Exchange
END:VEVENT
BEGIN:VEVENT
DTSTART;TZID=UTC:20241119T100000
DTEND;TZID=UTC:20241119T120000
DTSTAMP:20260421T114406
CREATED:20240910T091531Z
LAST-MODIFIED:20240910T091531Z
UID:10000985-1732010400-1732017600@shekinah.co.uk
SUMMARY:Textiles and Up-cycling
DESCRIPTION:Whether you want to darn\, repair\, alter or make fabric art this is the course for you. \nMachines and materials are provided\, although if you had an item you would like to work on\, please bring it with you. \nNo experience needed.
URL:https://shekinah.co.uk/event/textiles-and-up-cycling/2024-11-19/
LOCATION:CentrePeace\, 56a Palace Ave\, Paignton\, TQ3 3HF
CATEGORIES:Learning Exchange
END:VEVENT
BEGIN:VEVENT
DTSTART;TZID=UTC:20241118T130000
DTEND;TZID=UTC:20241118T150000
DTSTAMP:20260421T114406
CREATED:20240910T090651Z
LAST-MODIFIED:20240910T090651Z
UID:10000947-1731934800-1731942000@shekinah.co.uk
SUMMARY:Computer Skills
DESCRIPTION:Do you struggle with computers? Want to feel more confident with using a computer. Then this is the course for you. \nLearn basic skills\, how to email and access emails\, poster making\, cv writing\, power points and more…..
URL:https://shekinah.co.uk/event/computer-skills/2024-11-18/
LOCATION:CentrePeace\, 56a Palace Ave\, Paignton\, TQ3 3HF
CATEGORIES:Learning Exchange
END:VEVENT
BEGIN:VEVENT
DTSTART;TZID=UTC:20241112T130000
DTEND;TZID=UTC:20241112T150000
DTSTAMP:20260421T114406
CREATED:20240910T091630Z
LAST-MODIFIED:20240910T091630Z
UID:10000998-1731416400-1731423600@shekinah.co.uk
SUMMARY:Textiles and Up-cycling
DESCRIPTION:Whether you want to darn\, repair\, alter or make fabric art this is the course for you. \nMachines and materials are provided\, although if you had an item you would like to work on\, please bring it with you. \nNo experience needed.
URL:https://shekinah.co.uk/event/textiles-and-up-cycling-2/2024-11-12/
LOCATION:CentrePeace\, 56a Palace Ave\, Paignton\, TQ3 3HF
CATEGORIES:Learning Exchange
END:VEVENT
BEGIN:VEVENT
DTSTART;TZID=UTC:20241112T100000
DTEND;TZID=UTC:20241112T120000
DTSTAMP:20260421T114406
CREATED:20240910T091531Z
LAST-MODIFIED:20240910T091531Z
UID:10000984-1731405600-1731412800@shekinah.co.uk
SUMMARY:Textiles and Up-cycling
DESCRIPTION:Whether you want to darn\, repair\, alter or make fabric art this is the course for you. \nMachines and materials are provided\, although if you had an item you would like to work on\, please bring it with you. \nNo experience needed.
URL:https://shekinah.co.uk/event/textiles-and-up-cycling/2024-11-12/
LOCATION:CentrePeace\, 56a Palace Ave\, Paignton\, TQ3 3HF
CATEGORIES:Learning Exchange
END:VEVENT
BEGIN:VEVENT
DTSTART;TZID=UTC:20241111T130000
DTEND;TZID=UTC:20241111T150000
DTSTAMP:20260421T114406
CREATED:20240910T090651Z
LAST-MODIFIED:20240910T090651Z
UID:10000946-1731330000-1731337200@shekinah.co.uk
SUMMARY:Computer Skills
DESCRIPTION:Do you struggle with computers? Want to feel more confident with using a computer. Then this is the course for you. \nLearn basic skills\, how to email and access emails\, poster making\, cv writing\, power points and more…..
URL:https://shekinah.co.uk/event/computer-skills/2024-11-11/
LOCATION:CentrePeace\, 56a Palace Ave\, Paignton\, TQ3 3HF
CATEGORIES:Learning Exchange
END:VEVENT
BEGIN:VEVENT
DTSTART;TZID=UTC:20241105T130000
DTEND;TZID=UTC:20241105T150000
DTSTAMP:20260421T114406
CREATED:20240910T091630Z
LAST-MODIFIED:20240910T091630Z
UID:10000997-1730811600-1730818800@shekinah.co.uk
SUMMARY:Textiles and Up-cycling
DESCRIPTION:Whether you want to darn\, repair\, alter or make fabric art this is the course for you. \nMachines and materials are provided\, although if you had an item you would like to work on\, please bring it with you. \nNo experience needed.
URL:https://shekinah.co.uk/event/textiles-and-up-cycling-2/2024-11-05/
LOCATION:CentrePeace\, 56a Palace Ave\, Paignton\, TQ3 3HF
CATEGORIES:Learning Exchange
END:VEVENT
BEGIN:VEVENT
DTSTART;TZID=UTC:20241105T100000
DTEND;TZID=UTC:20241105T120000
DTSTAMP:20260421T114406
CREATED:20240910T091531Z
LAST-MODIFIED:20240910T091531Z
UID:10000983-1730800800-1730808000@shekinah.co.uk
SUMMARY:Textiles and Up-cycling
DESCRIPTION:Whether you want to darn\, repair\, alter or make fabric art this is the course for you. \nMachines and materials are provided\, although if you had an item you would like to work on\, please bring it with you. \nNo experience needed.
URL:https://shekinah.co.uk/event/textiles-and-up-cycling/2024-11-05/
LOCATION:CentrePeace\, 56a Palace Ave\, Paignton\, TQ3 3HF
CATEGORIES:Learning Exchange
END:VEVENT
BEGIN:VEVENT
DTSTART;TZID=UTC:20241104T130000
DTEND;TZID=UTC:20241104T150000
DTSTAMP:20260421T114406
CREATED:20240910T090651Z
LAST-MODIFIED:20240910T090651Z
UID:10000945-1730725200-1730732400@shekinah.co.uk
SUMMARY:Computer Skills
DESCRIPTION:Do you struggle with computers? Want to feel more confident with using a computer. Then this is the course for you. \nLearn basic skills\, how to email and access emails\, poster making\, cv writing\, power points and more…..
URL:https://shekinah.co.uk/event/computer-skills/2024-11-04/
LOCATION:CentrePeace\, 56a Palace Ave\, Paignton\, TQ3 3HF
CATEGORIES:Learning Exchange
END:VEVENT
BEGIN:VEVENT
DTSTART;TZID=UTC:20241029T130000
DTEND;TZID=UTC:20241029T150000
DTSTAMP:20260421T114406
CREATED:20240910T091630Z
LAST-MODIFIED:20240910T091630Z
UID:10000996-1730206800-1730214000@shekinah.co.uk
SUMMARY:Textiles and Up-cycling
DESCRIPTION:Whether you want to darn\, repair\, alter or make fabric art this is the course for you. \nMachines and materials are provided\, although if you had an item you would like to work on\, please bring it with you. \nNo experience needed.
URL:https://shekinah.co.uk/event/textiles-and-up-cycling-2/2024-10-29/
LOCATION:CentrePeace\, 56a Palace Ave\, Paignton\, TQ3 3HF
CATEGORIES:Learning Exchange
END:VEVENT
BEGIN:VEVENT
DTSTART;TZID=UTC:20241029T100000
DTEND;TZID=UTC:20241029T120000
DTSTAMP:20260421T114406
CREATED:20240910T091531Z
LAST-MODIFIED:20240910T091531Z
UID:10000982-1730196000-1730203200@shekinah.co.uk
SUMMARY:Textiles and Up-cycling
DESCRIPTION:Whether you want to darn\, repair\, alter or make fabric art this is the course for you. \nMachines and materials are provided\, although if you had an item you would like to work on\, please bring it with you. \nNo experience needed.
URL:https://shekinah.co.uk/event/textiles-and-up-cycling/2024-10-29/
LOCATION:CentrePeace\, 56a Palace Ave\, Paignton\, TQ3 3HF
CATEGORIES:Learning Exchange
END:VEVENT
BEGIN:VEVENT
DTSTART;TZID=UTC:20241028T130000
DTEND;TZID=UTC:20241028T150000
DTSTAMP:20260421T114406
CREATED:20240910T090651Z
LAST-MODIFIED:20240910T090651Z
UID:10000944-1730120400-1730127600@shekinah.co.uk
SUMMARY:Computer Skills
DESCRIPTION:Do you struggle with computers? Want to feel more confident with using a computer. Then this is the course for you. \nLearn basic skills\, how to email and access emails\, poster making\, cv writing\, power points and more…..
URL:https://shekinah.co.uk/event/computer-skills/2024-10-28/
LOCATION:CentrePeace\, 56a Palace Ave\, Paignton\, TQ3 3HF
CATEGORIES:Learning Exchange
END:VEVENT
BEGIN:VEVENT
DTSTART;TZID=UTC:20241022T130000
DTEND;TZID=UTC:20241022T150000
DTSTAMP:20260421T114406
CREATED:20240910T091630Z
LAST-MODIFIED:20240910T091630Z
UID:10000995-1729602000-1729609200@shekinah.co.uk
SUMMARY:Textiles and Up-cycling
DESCRIPTION:Whether you want to darn\, repair\, alter or make fabric art this is the course for you. \nMachines and materials are provided\, although if you had an item you would like to work on\, please bring it with you. \nNo experience needed.
URL:https://shekinah.co.uk/event/textiles-and-up-cycling-2/2024-10-22/
LOCATION:CentrePeace\, 56a Palace Ave\, Paignton\, TQ3 3HF
CATEGORIES:Learning Exchange
END:VEVENT
BEGIN:VEVENT
DTSTART;TZID=UTC:20241022T100000
DTEND;TZID=UTC:20241022T120000
DTSTAMP:20260421T114406
CREATED:20240910T091531Z
LAST-MODIFIED:20240910T091531Z
UID:10000981-1729591200-1729598400@shekinah.co.uk
SUMMARY:Textiles and Up-cycling
DESCRIPTION:Whether you want to darn\, repair\, alter or make fabric art this is the course for you. \nMachines and materials are provided\, although if you had an item you would like to work on\, please bring it with you. \nNo experience needed.
URL:https://shekinah.co.uk/event/textiles-and-up-cycling/2024-10-22/
LOCATION:CentrePeace\, 56a Palace Ave\, Paignton\, TQ3 3HF
CATEGORIES:Learning Exchange
END:VEVENT
BEGIN:VEVENT
DTSTART;TZID=UTC:20241021T130000
DTEND;TZID=UTC:20241021T150000
DTSTAMP:20260421T114406
CREATED:20240910T090651Z
LAST-MODIFIED:20240910T090651Z
UID:10000943-1729515600-1729522800@shekinah.co.uk
SUMMARY:Computer Skills
DESCRIPTION:Do you struggle with computers? Want to feel more confident with using a computer. Then this is the course for you. \nLearn basic skills\, how to email and access emails\, poster making\, cv writing\, power points and more…..
URL:https://shekinah.co.uk/event/computer-skills/2024-10-21/
LOCATION:CentrePeace\, 56a Palace Ave\, Paignton\, TQ3 3HF
CATEGORIES:Learning Exchange
END:VEVENT
BEGIN:VEVENT
DTSTART;TZID=UTC:20241015T130000
DTEND;TZID=UTC:20241015T150000
DTSTAMP:20260421T114406
CREATED:20240910T091630Z
LAST-MODIFIED:20240910T091630Z
UID:10000994-1728997200-1729004400@shekinah.co.uk
SUMMARY:Textiles and Up-cycling
DESCRIPTION:Whether you want to darn\, repair\, alter or make fabric art this is the course for you. \nMachines and materials are provided\, although if you had an item you would like to work on\, please bring it with you. \nNo experience needed.
URL:https://shekinah.co.uk/event/textiles-and-up-cycling-2/2024-10-15/
LOCATION:CentrePeace\, 56a Palace Ave\, Paignton\, TQ3 3HF
CATEGORIES:Learning Exchange
END:VEVENT
BEGIN:VEVENT
DTSTART;TZID=UTC:20241015T100000
DTEND;TZID=UTC:20241015T120000
DTSTAMP:20260421T114406
CREATED:20240910T091531Z
LAST-MODIFIED:20240910T091531Z
UID:10000980-1728986400-1728993600@shekinah.co.uk
SUMMARY:Textiles and Up-cycling
DESCRIPTION:Whether you want to darn\, repair\, alter or make fabric art this is the course for you. \nMachines and materials are provided\, although if you had an item you would like to work on\, please bring it with you. \nNo experience needed.
URL:https://shekinah.co.uk/event/textiles-and-up-cycling/2024-10-15/
LOCATION:CentrePeace\, 56a Palace Ave\, Paignton\, TQ3 3HF
CATEGORIES:Learning Exchange
END:VEVENT
BEGIN:VEVENT
DTSTART;TZID=UTC:20241014T130000
DTEND;TZID=UTC:20241014T150000
DTSTAMP:20260421T114406
CREATED:20240910T090651Z
LAST-MODIFIED:20240910T090651Z
UID:10000942-1728910800-1728918000@shekinah.co.uk
SUMMARY:Computer Skills
DESCRIPTION:Do you struggle with computers? Want to feel more confident with using a computer. Then this is the course for you. \nLearn basic skills\, how to email and access emails\, poster making\, cv writing\, power points and more…..
URL:https://shekinah.co.uk/event/computer-skills/2024-10-14/
LOCATION:CentrePeace\, 56a Palace Ave\, Paignton\, TQ3 3HF
CATEGORIES:Learning Exchange
END:VEVENT
BEGIN:VEVENT
DTSTART;TZID=UTC:20241008T130000
DTEND;TZID=UTC:20241008T150000
DTSTAMP:20260421T114406
CREATED:20240910T091630Z
LAST-MODIFIED:20240910T091630Z
UID:10000993-1728392400-1728399600@shekinah.co.uk
SUMMARY:Textiles and Up-cycling
DESCRIPTION:Whether you want to darn\, repair\, alter or make fabric art this is the course for you. \nMachines and materials are provided\, although if you had an item you would like to work on\, please bring it with you. \nNo experience needed.
URL:https://shekinah.co.uk/event/textiles-and-up-cycling-2/2024-10-08/
LOCATION:CentrePeace\, 56a Palace Ave\, Paignton\, TQ3 3HF
CATEGORIES:Learning Exchange
END:VEVENT
BEGIN:VEVENT
DTSTART;TZID=UTC:20241008T100000
DTEND;TZID=UTC:20241008T120000
DTSTAMP:20260421T114406
CREATED:20240910T091531Z
LAST-MODIFIED:20240910T091531Z
UID:10000979-1728381600-1728388800@shekinah.co.uk
SUMMARY:Textiles and Up-cycling
DESCRIPTION:Whether you want to darn\, repair\, alter or make fabric art this is the course for you. \nMachines and materials are provided\, although if you had an item you would like to work on\, please bring it with you. \nNo experience needed.
URL:https://shekinah.co.uk/event/textiles-and-up-cycling/2024-10-08/
LOCATION:CentrePeace\, 56a Palace Ave\, Paignton\, TQ3 3HF
CATEGORIES:Learning Exchange
END:VEVENT
END:VCALENDAR