BEGIN:VCALENDAR
VERSION:2.0
PRODID:-//Shekinah - ECPv6.15.18//NONSGML v1.0//EN
CALSCALE:GREGORIAN
METHOD:PUBLISH
X-WR-CALNAME:Shekinah
X-ORIGINAL-URL:https://shekinah.co.uk
X-WR-CALDESC:Events for Shekinah
REFRESH-INTERVAL;VALUE=DURATION:PT1H
X-Robots-Tag:noindex
X-PUBLISHED-TTL:PT1H
BEGIN:VTIMEZONE
TZID:UTC
BEGIN:STANDARD
TZOFFSETFROM:+0000
TZOFFSETTO:+0000
TZNAME:UTC
DTSTART:20280101T000000
END:STANDARD
END:VTIMEZONE
BEGIN:VEVENT
DTSTART;TZID=UTC:20290810T190000
DTEND;TZID=UTC:20290810T210000
DTSTAMP:20260421T150428
CREATED:20241009T072912Z
LAST-MODIFIED:20241009T072912Z
UID:10003354-1881082800-1881090000@shekinah.co.uk
SUMMARY:Narcotics Anonymous
DESCRIPTION:
URL:https://shekinah.co.uk/event/narcotics-anonymous/2029-08-10/
LOCATION:Endeavour House\, Torquay
CATEGORIES:Learning Exchange
END:VEVENT
BEGIN:VEVENT
DTSTART;TZID=UTC:20290812T183000
DTEND;TZID=UTC:20290812T203000
DTSTAMP:20260421T150428
CREATED:20250224T145359Z
LAST-MODIFIED:20250224T145359Z
UID:10008575-1881253800-1881261000@shekinah.co.uk
SUMMARY:NA
DESCRIPTION:A non- profit society of men and women for who drugs had become an issue. No appointment needed. Please contact for more info 0300 999 1212.
URL:https://shekinah.co.uk/event/na-4/2029-08-12/
LOCATION:Endeavour House\, Torquay
CATEGORIES:Drop in,Mental Health
END:VEVENT
BEGIN:VEVENT
DTSTART;TZID=UTC:20290813T100000
DTEND;TZID=UTC:20290813T113000
DTSTAMP:20260421T150428
CREATED:20241219T135911Z
LAST-MODIFIED:20241219T135911Z
UID:10006494-1881309600-1881315000@shekinah.co.uk
SUMMARY:NA
DESCRIPTION:A non- profit society of men and women for who drugs had become an issue. No\nappointment needed. please Contact for more info 0300 999 1212
URL:https://shekinah.co.uk/event/na-2/2029-08-13/
LOCATION:Endeavour House\, Torquay
CATEGORIES:Learning Exchange
END:VEVENT
BEGIN:VEVENT
DTSTART;TZID=UTC:20290813T190000
DTEND;TZID=UTC:20290813T210000
DTSTAMP:20260421T150428
CREATED:20241217T082922Z
LAST-MODIFIED:20260319T085708Z
UID:10005860-1881342000-1881349200@shekinah.co.uk
SUMMARY:Andy's Man Club
DESCRIPTION:This is a support group (survivors of DV/SV) solely for men.
URL:https://shekinah.co.uk/event/andys-man-club/2029-08-13/
LOCATION:Endeavour House\, Torquay
CATEGORIES:Mental Health
END:VEVENT
BEGIN:VEVENT
DTSTART;TZID=UTC:20290814T110000
DTEND;TZID=UTC:20290814T130000
DTSTAMP:20260421T150428
CREATED:20260114T072652Z
LAST-MODIFIED:20260114T072854Z
UID:10010797-1881399600-1881406800@shekinah.co.uk
SUMMARY:Breathing Spaces drop in
DESCRIPTION:Support for parents after the removal of a child. \nBreathing Space is a voluntary support service. We can offer support to any parent living in Torbay\, who has had a child removed from their care. Our team will help you to decide which parts of your life you would most like support with and we will help you to make a plan.
URL:https://shekinah.co.uk/event/breathing-spaces-drop-in/2029-08-14/
LOCATION:Endeavour House\, Torquay
CATEGORIES:Learning Exchange
END:VEVENT
BEGIN:VEVENT
DTSTART;TZID=UTC:20290814T120000
DTEND;TZID=UTC:20290814T130000
DTSTAMP:20260421T150428
CREATED:20241009T071855Z
LAST-MODIFIED:20251119T113733Z
UID:10001263-1881403200-1881406800@shekinah.co.uk
SUMMARY:Reediness for change
DESCRIPTION:
URL:https://shekinah.co.uk/event/reediness-for-change/2029-08-14/
LOCATION:Endeavour House\, Torquay
CATEGORIES:Learning Exchange
END:VEVENT
BEGIN:VEVENT
DTSTART;TZID=UTC:20290814T130000
DTEND;TZID=UTC:20290814T140000
DTSTAMP:20260421T150428
CREATED:20241009T072103Z
LAST-MODIFIED:20251119T113824Z
UID:10001787-1881406800-1881410400@shekinah.co.uk
SUMMARY:Kens coffee group
DESCRIPTION:
URL:https://shekinah.co.uk/event/kens-coffee-group/2029-08-14/
LOCATION:Endeavour House\, Torquay
CATEGORIES:Learning Exchange
END:VEVENT
BEGIN:VEVENT
DTSTART;TZID=UTC:20290814T130000
DTEND;TZID=UTC:20290814T140000
DTSTAMP:20260421T150428
CREATED:20241219T140724Z
LAST-MODIFIED:20251119T113906Z
UID:10006753-1881406800-1881410400@shekinah.co.uk
SUMMARY:Christian Talk
DESCRIPTION:A friendly peer support group\, why not come along and meet Ken and friends. Coffee\, cake\, sharing story’s all welcome.
URL:https://shekinah.co.uk/event/christian-talk/2029-08-14/
LOCATION:Endeavour House\, Torquay
CATEGORIES:Learning Exchange
END:VEVENT
BEGIN:VEVENT
DTSTART;TZID=UTC:20290814T141500
DTEND;TZID=UTC:20290814T153000
DTSTAMP:20260421T150428
CREATED:20260319T091612Z
LAST-MODIFIED:20260319T091612Z
UID:10001525-1881411300-1881415800@shekinah.co.uk
SUMMARY:SMART
DESCRIPTION:
URL:https://shekinah.co.uk/event/smart-4/2029-08-14/
LOCATION:Endeavour House\, Torquay
CATEGORIES:Learning Exchange
END:VEVENT
BEGIN:VEVENT
DTSTART;TZID=UTC:20290815T110000
DTEND;TZID=UTC:20290815T120000
DTSTAMP:20260421T150428
CREATED:20241009T072201Z
LAST-MODIFIED:20251119T113638Z
UID:10002049-1881486000-1881489600@shekinah.co.uk
SUMMARY:SMART Woman's group
DESCRIPTION:
URL:https://shekinah.co.uk/event/smart-womans-group/2029-08-15/
LOCATION:Endeavour House\, Torquay
CATEGORIES:Learning Exchange
END:VEVENT
BEGIN:VEVENT
DTSTART;TZID=UTC:20290815T110000
DTEND;TZID=UTC:20290815T130000
DTSTAMP:20260421T150428
CREATED:20241009T072239Z
LAST-MODIFIED:20251119T112504Z
UID:10002310-1881486000-1881493200@shekinah.co.uk
SUMMARY:Wellness drop in
DESCRIPTION:
URL:https://shekinah.co.uk/event/wellness-drop-in/2029-08-15/
LOCATION:Endeavour House\, Torquay
CATEGORIES:Learning Exchange
END:VEVENT
BEGIN:VEVENT
DTSTART;TZID=UTC:20290815T110000
DTEND;TZID=UTC:20290815T160000
DTSTAMP:20260421T150428
CREATED:20260114T073047Z
LAST-MODIFIED:20260114T073047Z
UID:10011058-1881486000-1881504000@shekinah.co.uk
SUMMARY:Care leavers Drop in
DESCRIPTION:Experienced Care leavers team support young people who are facing challenges\, including housing needs.
URL:https://shekinah.co.uk/event/care-leavers-drop-in/2029-08-15/
LOCATION:Endeavour House\, Torquay
CATEGORIES:Learning Exchange
END:VEVENT
BEGIN:VEVENT
DTSTART;TZID=UTC:20290815T130000
DTEND;TZID=UTC:20290815T160000
DTSTAMP:20260421T150428
CREATED:20241009T072322Z
LAST-MODIFIED:20251119T112928Z
UID:10002571-1881493200-1881504000@shekinah.co.uk
SUMMARY:Drop in Mental health Recovery practitioners
DESCRIPTION:
URL:https://shekinah.co.uk/event/drop-in-mental-health-recovery-practitioners/2029-08-15/
LOCATION:Endeavour House\, Torquay
CATEGORIES:Mental Health
END:VEVENT
BEGIN:VEVENT
DTSTART;TZID=UTC:20290815T130000
DTEND;TZID=UTC:20290815T160000
DTSTAMP:20260421T150428
CREATED:20241128T120358Z
LAST-MODIFIED:20251119T113026Z
UID:10005447-1881493200-1881504000@shekinah.co.uk
SUMMARY:Mental Health Drop In
DESCRIPTION:
URL:https://shekinah.co.uk/event/mental-health-drop-in/2029-08-15/
LOCATION:Endeavour House\, Torquay
CATEGORIES:Mental Health
END:VEVENT
BEGIN:VEVENT
DTSTART;TZID=UTC:20290816T093000
DTEND;TZID=UTC:20290816T160000
DTSTAMP:20260421T150428
CREATED:20250224T144758Z
LAST-MODIFIED:20251119T113200Z
UID:10008315-1881567000-1881590400@shekinah.co.uk
SUMMARY:Women's Wellness day
DESCRIPTION:
URL:https://shekinah.co.uk/event/womens-wellness-day/2029-08-16/
LOCATION:Endeavour House\, Torquay
CATEGORIES:Drop in,Learning Exchange,Mental Health
END:VEVENT
BEGIN:VEVENT
DTSTART;TZID=UTC:20290816T101500
DTEND;TZID=UTC:20290816T121500
DTSTAMP:20260421T150428
CREATED:20241009T072441Z
LAST-MODIFIED:20251119T113302Z
UID:10002832-1881569700-1881576900@shekinah.co.uk
SUMMARY:Torbay Woman Circle
DESCRIPTION:
URL:https://shekinah.co.uk/event/torbay-woman-circle/2029-08-16/
LOCATION:Endeavour House\, Torquay
CATEGORIES:Learning Exchange
END:VEVENT
BEGIN:VEVENT
DTSTART;TZID=UTC:20290816T123000
DTEND;TZID=UTC:20290816T143000
DTSTAMP:20260421T150428
CREATED:20260320T105442Z
LAST-MODIFIED:20260320T105442Z
UID:10011506-1881577800-1881585000@shekinah.co.uk
SUMMARY:Woman's Circle Thursdays
DESCRIPTION:
URL:https://shekinah.co.uk/event/womans-circle-thursdays/2029-08-16/
LOCATION:Endeavour House\, Torquay
CATEGORIES:Learning Exchange
END:VEVENT
BEGIN:VEVENT
DTSTART;TZID=UTC:20290816T143000
DTEND;TZID=UTC:20290816T163000
DTSTAMP:20260421T150428
CREATED:20241009T072549Z
LAST-MODIFIED:20251119T113406Z
UID:10003093-1881585000-1881592200@shekinah.co.uk
SUMMARY:Coproduction
DESCRIPTION:
URL:https://shekinah.co.uk/event/coproduction/2029-08-16/
LOCATION:Endeavour House\, Torquay
CATEGORIES:Learning Exchange
END:VEVENT
BEGIN:VEVENT
DTSTART;TZID=UTC:20290816T170000
DTEND;TZID=UTC:20290816T190000
DTSTAMP:20260421T150428
CREATED:20241219T141624Z
LAST-MODIFIED:20251119T113523Z
UID:10007270-1881594000-1881601200@shekinah.co.uk
SUMMARY:Girl’s Circle
DESCRIPTION:A program for Girls aged 8-12years providing an emotionally safe and creative space. A way to make new friends\, socialise support one another using their\nauthentic voice\, play and having fun.\nContact info Joanna Kamionkova – kamionkova@gmail.com
URL:https://shekinah.co.uk/event/womens-pathway-to-wellness/2029-08-16/
LOCATION:Endeavour House\, Torquay
CATEGORIES:Learning Exchange
END:VEVENT
BEGIN:VEVENT
DTSTART;TZID=UTC:20290816T190000
DTEND;TZID=UTC:20290816T210000
DTSTAMP:20260421T150428
CREATED:20250224T144602Z
LAST-MODIFIED:20250224T144602Z
UID:10008054-1881601200-1881608400@shekinah.co.uk
SUMMARY:NA
DESCRIPTION:A non- profit society of men and women for who drugs had become an issue. No\nappointment needed. Please Contact for more info 0300 999 1212
URL:https://shekinah.co.uk/event/na-3/2029-08-16/
LOCATION:Endeavour House\, Torquay
CATEGORIES:Drop in,Learning Exchange,Mental Health
END:VEVENT
BEGIN:VEVENT
DTSTART;TZID=UTC:20290817T141500
DTEND;TZID=UTC:20290817T153000
DTSTAMP:20260421T150428
CREATED:20241009T073050Z
LAST-MODIFIED:20260319T091733Z
UID:10003615-1881670500-1881675000@shekinah.co.uk
SUMMARY:SMART
DESCRIPTION:
URL:https://shekinah.co.uk/event/smart-2/2029-08-17/
LOCATION:Endeavour House\, Torquay
CATEGORIES:Learning Exchange
END:VEVENT
BEGIN:VEVENT
DTSTART;TZID=UTC:20290817T170000
DTEND;TZID=UTC:20290817T190000
DTSTAMP:20260421T150428
CREATED:20241009T073412Z
LAST-MODIFIED:20251119T114421Z
UID:10003935-1881680400-1881687600@shekinah.co.uk
SUMMARY:Girls Circle 8-11yrs only
DESCRIPTION:
URL:https://shekinah.co.uk/event/girls-circle-8-11yrs-only/2029-08-17/
LOCATION:Endeavour House\, Torquay
CATEGORIES:Learning Exchange
END:VEVENT
BEGIN:VEVENT
DTSTART;TZID=UTC:20290817T190000
DTEND;TZID=UTC:20290817T210000
DTSTAMP:20260421T150428
CREATED:20241009T072912Z
LAST-MODIFIED:20241009T072912Z
UID:10003355-1881687600-1881694800@shekinah.co.uk
SUMMARY:Narcotics Anonymous
DESCRIPTION:
URL:https://shekinah.co.uk/event/narcotics-anonymous/2029-08-17/
LOCATION:Endeavour House\, Torquay
CATEGORIES:Learning Exchange
END:VEVENT
BEGIN:VEVENT
DTSTART;TZID=UTC:20290819T183000
DTEND;TZID=UTC:20290819T203000
DTSTAMP:20260421T150428
CREATED:20250224T145359Z
LAST-MODIFIED:20250224T145359Z
UID:10008576-1881858600-1881865800@shekinah.co.uk
SUMMARY:NA
DESCRIPTION:A non- profit society of men and women for who drugs had become an issue. No appointment needed. Please contact for more info 0300 999 1212.
URL:https://shekinah.co.uk/event/na-4/2029-08-19/
LOCATION:Endeavour House\, Torquay
CATEGORIES:Drop in,Mental Health
END:VEVENT
BEGIN:VEVENT
DTSTART;TZID=UTC:20290820T100000
DTEND;TZID=UTC:20290820T113000
DTSTAMP:20260421T150428
CREATED:20241219T135911Z
LAST-MODIFIED:20241219T135911Z
UID:10006495-1881914400-1881919800@shekinah.co.uk
SUMMARY:NA
DESCRIPTION:A non- profit society of men and women for who drugs had become an issue. No\nappointment needed. please Contact for more info 0300 999 1212
URL:https://shekinah.co.uk/event/na-2/2029-08-20/
LOCATION:Endeavour House\, Torquay
CATEGORIES:Learning Exchange
END:VEVENT
BEGIN:VEVENT
DTSTART;TZID=UTC:20290820T190000
DTEND;TZID=UTC:20290820T210000
DTSTAMP:20260421T150428
CREATED:20241217T082922Z
LAST-MODIFIED:20260319T085708Z
UID:10005861-1881946800-1881954000@shekinah.co.uk
SUMMARY:Andy's Man Club
DESCRIPTION:This is a support group (survivors of DV/SV) solely for men.
URL:https://shekinah.co.uk/event/andys-man-club/2029-08-20/
LOCATION:Endeavour House\, Torquay
CATEGORIES:Mental Health
END:VEVENT
BEGIN:VEVENT
DTSTART;TZID=UTC:20290821T110000
DTEND;TZID=UTC:20290821T130000
DTSTAMP:20260421T150428
CREATED:20260114T072652Z
LAST-MODIFIED:20260114T072854Z
UID:10010798-1882004400-1882011600@shekinah.co.uk
SUMMARY:Breathing Spaces drop in
DESCRIPTION:Support for parents after the removal of a child. \nBreathing Space is a voluntary support service. We can offer support to any parent living in Torbay\, who has had a child removed from their care. Our team will help you to decide which parts of your life you would most like support with and we will help you to make a plan.
URL:https://shekinah.co.uk/event/breathing-spaces-drop-in/2029-08-21/
LOCATION:Endeavour House\, Torquay
CATEGORIES:Learning Exchange
END:VEVENT
BEGIN:VEVENT
DTSTART;TZID=UTC:20290821T120000
DTEND;TZID=UTC:20290821T130000
DTSTAMP:20260421T150428
CREATED:20241009T071855Z
LAST-MODIFIED:20251119T113733Z
UID:10001264-1882008000-1882011600@shekinah.co.uk
SUMMARY:Reediness for change
DESCRIPTION:
URL:https://shekinah.co.uk/event/reediness-for-change/2029-08-21/
LOCATION:Endeavour House\, Torquay
CATEGORIES:Learning Exchange
END:VEVENT
BEGIN:VEVENT
DTSTART;TZID=UTC:20290821T130000
DTEND;TZID=UTC:20290821T140000
DTSTAMP:20260421T150428
CREATED:20241009T072103Z
LAST-MODIFIED:20251119T113824Z
UID:10001788-1882011600-1882015200@shekinah.co.uk
SUMMARY:Kens coffee group
DESCRIPTION:
URL:https://shekinah.co.uk/event/kens-coffee-group/2029-08-21/
LOCATION:Endeavour House\, Torquay
CATEGORIES:Learning Exchange
END:VEVENT
BEGIN:VEVENT
DTSTART;TZID=UTC:20290821T130000
DTEND;TZID=UTC:20290821T140000
DTSTAMP:20260421T150428
CREATED:20241219T140724Z
LAST-MODIFIED:20251119T113906Z
UID:10006754-1882011600-1882015200@shekinah.co.uk
SUMMARY:Christian Talk
DESCRIPTION:A friendly peer support group\, why not come along and meet Ken and friends. Coffee\, cake\, sharing story’s all welcome.
URL:https://shekinah.co.uk/event/christian-talk/2029-08-21/
LOCATION:Endeavour House\, Torquay
CATEGORIES:Learning Exchange
END:VEVENT
END:VCALENDAR