BEGIN:VCALENDAR
VERSION:2.0
PRODID:-//Shekinah - ECPv6.15.18//NONSGML v1.0//EN
CALSCALE:GREGORIAN
METHOD:PUBLISH
X-ORIGINAL-URL:https://shekinah.co.uk
X-WR-CALDESC:Events for Shekinah
REFRESH-INTERVAL;VALUE=DURATION:PT1H
X-Robots-Tag:noindex
X-PUBLISHED-TTL:PT1H
BEGIN:VTIMEZONE
TZID:UTC
BEGIN:STANDARD
TZOFFSETFROM:+0000
TZOFFSETTO:+0000
TZNAME:UTC
DTSTART:20280101T000000
END:STANDARD
END:VTIMEZONE
BEGIN:VEVENT
DTSTART;TZID=UTC:20290914T170000
DTEND;TZID=UTC:20290914T190000
DTSTAMP:20260422T052126
CREATED:20241009T073412Z
LAST-MODIFIED:20251119T114421Z
UID:10003939-1884099600-1884106800@shekinah.co.uk
SUMMARY:Girls Circle 8-11yrs only
DESCRIPTION:
URL:https://shekinah.co.uk/event/girls-circle-8-11yrs-only/2029-09-14/
LOCATION:Endeavour House\, Torquay
CATEGORIES:Learning Exchange
END:VEVENT
BEGIN:VEVENT
DTSTART;TZID=UTC:20290914T190000
DTEND;TZID=UTC:20290914T210000
DTSTAMP:20260422T052126
CREATED:20241009T072912Z
LAST-MODIFIED:20241009T072912Z
UID:10003359-1884106800-1884114000@shekinah.co.uk
SUMMARY:Narcotics Anonymous
DESCRIPTION:
URL:https://shekinah.co.uk/event/narcotics-anonymous/2029-09-14/
LOCATION:Endeavour House\, Torquay
CATEGORIES:Learning Exchange
END:VEVENT
BEGIN:VEVENT
DTSTART;TZID=UTC:20290916T183000
DTEND;TZID=UTC:20290916T203000
DTSTAMP:20260422T052126
CREATED:20250224T145359Z
LAST-MODIFIED:20250224T145359Z
UID:10008580-1884277800-1884285000@shekinah.co.uk
SUMMARY:NA
DESCRIPTION:A non- profit society of men and women for who drugs had become an issue. No appointment needed. Please contact for more info 0300 999 1212.
URL:https://shekinah.co.uk/event/na-4/2029-09-16/
LOCATION:Endeavour House\, Torquay
CATEGORIES:Drop in,Mental Health
END:VEVENT
BEGIN:VEVENT
DTSTART;TZID=UTC:20290917T100000
DTEND;TZID=UTC:20290917T113000
DTSTAMP:20260422T052126
CREATED:20241219T135911Z
LAST-MODIFIED:20241219T135911Z
UID:10006499-1884333600-1884339000@shekinah.co.uk
SUMMARY:NA
DESCRIPTION:A non- profit society of men and women for who drugs had become an issue. No\nappointment needed. please Contact for more info 0300 999 1212
URL:https://shekinah.co.uk/event/na-2/2029-09-17/
LOCATION:Endeavour House\, Torquay
CATEGORIES:Learning Exchange
END:VEVENT
BEGIN:VEVENT
DTSTART;TZID=UTC:20290917T190000
DTEND;TZID=UTC:20290917T210000
DTSTAMP:20260422T052126
CREATED:20241217T082922Z
LAST-MODIFIED:20260319T085708Z
UID:10005865-1884366000-1884373200@shekinah.co.uk
SUMMARY:Andy's Man Club
DESCRIPTION:This is a support group (survivors of DV/SV) solely for men.
URL:https://shekinah.co.uk/event/andys-man-club/2029-09-17/
LOCATION:Endeavour House\, Torquay
CATEGORIES:Mental Health
END:VEVENT
BEGIN:VEVENT
DTSTART;TZID=UTC:20290918T110000
DTEND;TZID=UTC:20290918T130000
DTSTAMP:20260422T052126
CREATED:20260114T072652Z
LAST-MODIFIED:20260114T072854Z
UID:10010802-1884423600-1884430800@shekinah.co.uk
SUMMARY:Breathing Spaces drop in
DESCRIPTION:Support for parents after the removal of a child. \nBreathing Space is a voluntary support service. We can offer support to any parent living in Torbay\, who has had a child removed from their care. Our team will help you to decide which parts of your life you would most like support with and we will help you to make a plan.
URL:https://shekinah.co.uk/event/breathing-spaces-drop-in/2029-09-18/
LOCATION:Endeavour House\, Torquay
CATEGORIES:Learning Exchange
END:VEVENT
BEGIN:VEVENT
DTSTART;TZID=UTC:20290918T120000
DTEND;TZID=UTC:20290918T130000
DTSTAMP:20260422T052126
CREATED:20241009T071855Z
LAST-MODIFIED:20251119T113733Z
UID:10001268-1884427200-1884430800@shekinah.co.uk
SUMMARY:Reediness for change
DESCRIPTION:
URL:https://shekinah.co.uk/event/reediness-for-change/2029-09-18/
LOCATION:Endeavour House\, Torquay
CATEGORIES:Learning Exchange
END:VEVENT
BEGIN:VEVENT
DTSTART;TZID=UTC:20290918T130000
DTEND;TZID=UTC:20290918T140000
DTSTAMP:20260422T052126
CREATED:20241009T072103Z
LAST-MODIFIED:20251119T113824Z
UID:10001792-1884430800-1884434400@shekinah.co.uk
SUMMARY:Kens coffee group
DESCRIPTION:
URL:https://shekinah.co.uk/event/kens-coffee-group/2029-09-18/
LOCATION:Endeavour House\, Torquay
CATEGORIES:Learning Exchange
END:VEVENT
BEGIN:VEVENT
DTSTART;TZID=UTC:20290918T130000
DTEND;TZID=UTC:20290918T140000
DTSTAMP:20260422T052126
CREATED:20241219T140724Z
LAST-MODIFIED:20251119T113906Z
UID:10006758-1884430800-1884434400@shekinah.co.uk
SUMMARY:Christian Talk
DESCRIPTION:A friendly peer support group\, why not come along and meet Ken and friends. Coffee\, cake\, sharing story’s all welcome.
URL:https://shekinah.co.uk/event/christian-talk/2029-09-18/
LOCATION:Endeavour House\, Torquay
CATEGORIES:Learning Exchange
END:VEVENT
BEGIN:VEVENT
DTSTART;TZID=UTC:20290918T141500
DTEND;TZID=UTC:20290918T153000
DTSTAMP:20260422T052126
CREATED:20260319T091612Z
LAST-MODIFIED:20260319T091612Z
UID:10001530-1884435300-1884439800@shekinah.co.uk
SUMMARY:SMART
DESCRIPTION:
URL:https://shekinah.co.uk/event/smart-4/2029-09-18/
LOCATION:Endeavour House\, Torquay
CATEGORIES:Learning Exchange
END:VEVENT
BEGIN:VEVENT
DTSTART;TZID=UTC:20290919T110000
DTEND;TZID=UTC:20290919T120000
DTSTAMP:20260422T052126
CREATED:20241009T072201Z
LAST-MODIFIED:20251119T113638Z
UID:10002054-1884510000-1884513600@shekinah.co.uk
SUMMARY:SMART Woman's group
DESCRIPTION:
URL:https://shekinah.co.uk/event/smart-womans-group/2029-09-19/
LOCATION:Endeavour House\, Torquay
CATEGORIES:Learning Exchange
END:VEVENT
BEGIN:VEVENT
DTSTART;TZID=UTC:20290919T110000
DTEND;TZID=UTC:20290919T130000
DTSTAMP:20260422T052126
CREATED:20241009T072239Z
LAST-MODIFIED:20251119T112504Z
UID:10002315-1884510000-1884517200@shekinah.co.uk
SUMMARY:Wellness drop in
DESCRIPTION:
URL:https://shekinah.co.uk/event/wellness-drop-in/2029-09-19/
LOCATION:Endeavour House\, Torquay
CATEGORIES:Learning Exchange
END:VEVENT
BEGIN:VEVENT
DTSTART;TZID=UTC:20290919T110000
DTEND;TZID=UTC:20290919T160000
DTSTAMP:20260422T052126
CREATED:20260114T073047Z
LAST-MODIFIED:20260114T073047Z
UID:10011063-1884510000-1884528000@shekinah.co.uk
SUMMARY:Care leavers Drop in
DESCRIPTION:Experienced Care leavers team support young people who are facing challenges\, including housing needs.
URL:https://shekinah.co.uk/event/care-leavers-drop-in/2029-09-19/
LOCATION:Endeavour House\, Torquay
CATEGORIES:Learning Exchange
END:VEVENT
BEGIN:VEVENT
DTSTART;TZID=UTC:20290919T130000
DTEND;TZID=UTC:20290919T160000
DTSTAMP:20260422T052126
CREATED:20241009T072322Z
LAST-MODIFIED:20251119T112928Z
UID:10002576-1884517200-1884528000@shekinah.co.uk
SUMMARY:Drop in Mental health Recovery practitioners
DESCRIPTION:
URL:https://shekinah.co.uk/event/drop-in-mental-health-recovery-practitioners/2029-09-19/
LOCATION:Endeavour House\, Torquay
CATEGORIES:Mental Health
END:VEVENT
BEGIN:VEVENT
DTSTART;TZID=UTC:20290919T130000
DTEND;TZID=UTC:20290919T160000
DTSTAMP:20260422T052126
CREATED:20241128T120358Z
LAST-MODIFIED:20251119T113026Z
UID:10005452-1884517200-1884528000@shekinah.co.uk
SUMMARY:Mental Health Drop In
DESCRIPTION:
URL:https://shekinah.co.uk/event/mental-health-drop-in/2029-09-19/
LOCATION:Endeavour House\, Torquay
CATEGORIES:Mental Health
END:VEVENT
BEGIN:VEVENT
DTSTART;TZID=UTC:20290920T093000
DTEND;TZID=UTC:20290920T160000
DTSTAMP:20260422T052126
CREATED:20250224T144758Z
LAST-MODIFIED:20251119T113200Z
UID:10008320-1884591000-1884614400@shekinah.co.uk
SUMMARY:Women's Wellness day
DESCRIPTION:
URL:https://shekinah.co.uk/event/womens-wellness-day/2029-09-20/
LOCATION:Endeavour House\, Torquay
CATEGORIES:Drop in,Learning Exchange,Mental Health
END:VEVENT
BEGIN:VEVENT
DTSTART;TZID=UTC:20290920T101500
DTEND;TZID=UTC:20290920T121500
DTSTAMP:20260422T052126
CREATED:20241009T072441Z
LAST-MODIFIED:20251119T113302Z
UID:10002837-1884593700-1884600900@shekinah.co.uk
SUMMARY:Torbay Woman Circle
DESCRIPTION:
URL:https://shekinah.co.uk/event/torbay-woman-circle/2029-09-20/
LOCATION:Endeavour House\, Torquay
CATEGORIES:Learning Exchange
END:VEVENT
BEGIN:VEVENT
DTSTART;TZID=UTC:20290920T123000
DTEND;TZID=UTC:20290920T143000
DTSTAMP:20260422T052126
CREATED:20260320T105442Z
LAST-MODIFIED:20260320T105442Z
UID:10011511-1884601800-1884609000@shekinah.co.uk
SUMMARY:Woman's Circle Thursdays
DESCRIPTION:
URL:https://shekinah.co.uk/event/womans-circle-thursdays/2029-09-20/
LOCATION:Endeavour House\, Torquay
CATEGORIES:Learning Exchange
END:VEVENT
BEGIN:VEVENT
DTSTART;TZID=UTC:20290920T143000
DTEND;TZID=UTC:20290920T163000
DTSTAMP:20260422T052126
CREATED:20241009T072549Z
LAST-MODIFIED:20251119T113406Z
UID:10003098-1884609000-1884616200@shekinah.co.uk
SUMMARY:Coproduction
DESCRIPTION:
URL:https://shekinah.co.uk/event/coproduction/2029-09-20/
LOCATION:Endeavour House\, Torquay
CATEGORIES:Learning Exchange
END:VEVENT
BEGIN:VEVENT
DTSTART;TZID=UTC:20290920T170000
DTEND;TZID=UTC:20290920T190000
DTSTAMP:20260422T052126
CREATED:20241219T141624Z
LAST-MODIFIED:20251119T113523Z
UID:10007275-1884618000-1884625200@shekinah.co.uk
SUMMARY:Girl’s Circle
DESCRIPTION:A program for Girls aged 8-12years providing an emotionally safe and creative space. A way to make new friends\, socialise support one another using their\nauthentic voice\, play and having fun.\nContact info Joanna Kamionkova – kamionkova@gmail.com
URL:https://shekinah.co.uk/event/womens-pathway-to-wellness/2029-09-20/
LOCATION:Endeavour House\, Torquay
CATEGORIES:Learning Exchange
END:VEVENT
BEGIN:VEVENT
DTSTART;TZID=UTC:20290920T190000
DTEND;TZID=UTC:20290920T210000
DTSTAMP:20260422T052126
CREATED:20250224T144602Z
LAST-MODIFIED:20250224T144602Z
UID:10008059-1884625200-1884632400@shekinah.co.uk
SUMMARY:NA
DESCRIPTION:A non- profit society of men and women for who drugs had become an issue. No\nappointment needed. Please Contact for more info 0300 999 1212
URL:https://shekinah.co.uk/event/na-3/2029-09-20/
LOCATION:Endeavour House\, Torquay
CATEGORIES:Drop in,Learning Exchange,Mental Health
END:VEVENT
BEGIN:VEVENT
DTSTART;TZID=UTC:20290921T141500
DTEND;TZID=UTC:20290921T153000
DTSTAMP:20260422T052126
CREATED:20241009T073050Z
LAST-MODIFIED:20260319T091733Z
UID:10003620-1884694500-1884699000@shekinah.co.uk
SUMMARY:SMART
DESCRIPTION:
URL:https://shekinah.co.uk/event/smart-2/2029-09-21/
LOCATION:Endeavour House\, Torquay
CATEGORIES:Learning Exchange
END:VEVENT
BEGIN:VEVENT
DTSTART;TZID=UTC:20290921T170000
DTEND;TZID=UTC:20290921T190000
DTSTAMP:20260422T052126
CREATED:20241009T073412Z
LAST-MODIFIED:20251119T114421Z
UID:10003940-1884704400-1884711600@shekinah.co.uk
SUMMARY:Girls Circle 8-11yrs only
DESCRIPTION:
URL:https://shekinah.co.uk/event/girls-circle-8-11yrs-only/2029-09-21/
LOCATION:Endeavour House\, Torquay
CATEGORIES:Learning Exchange
END:VEVENT
BEGIN:VEVENT
DTSTART;TZID=UTC:20290921T190000
DTEND;TZID=UTC:20290921T210000
DTSTAMP:20260422T052126
CREATED:20241009T072912Z
LAST-MODIFIED:20241009T072912Z
UID:10003360-1884711600-1884718800@shekinah.co.uk
SUMMARY:Narcotics Anonymous
DESCRIPTION:
URL:https://shekinah.co.uk/event/narcotics-anonymous/2029-09-21/
LOCATION:Endeavour House\, Torquay
CATEGORIES:Learning Exchange
END:VEVENT
BEGIN:VEVENT
DTSTART;TZID=UTC:20290923T183000
DTEND;TZID=UTC:20290923T203000
DTSTAMP:20260422T052126
CREATED:20250224T145359Z
LAST-MODIFIED:20250224T145359Z
UID:10008581-1884882600-1884889800@shekinah.co.uk
SUMMARY:NA
DESCRIPTION:A non- profit society of men and women for who drugs had become an issue. No appointment needed. Please contact for more info 0300 999 1212.
URL:https://shekinah.co.uk/event/na-4/2029-09-23/
LOCATION:Endeavour House\, Torquay
CATEGORIES:Drop in,Mental Health
END:VEVENT
BEGIN:VEVENT
DTSTART;TZID=UTC:20290924T100000
DTEND;TZID=UTC:20290924T113000
DTSTAMP:20260422T052126
CREATED:20241219T135911Z
LAST-MODIFIED:20241219T135911Z
UID:10006500-1884938400-1884943800@shekinah.co.uk
SUMMARY:NA
DESCRIPTION:A non- profit society of men and women for who drugs had become an issue. No\nappointment needed. please Contact for more info 0300 999 1212
URL:https://shekinah.co.uk/event/na-2/2029-09-24/
LOCATION:Endeavour House\, Torquay
CATEGORIES:Learning Exchange
END:VEVENT
BEGIN:VEVENT
DTSTART;TZID=UTC:20290924T190000
DTEND;TZID=UTC:20290924T210000
DTSTAMP:20260422T052126
CREATED:20241217T082922Z
LAST-MODIFIED:20260319T085708Z
UID:10005866-1884970800-1884978000@shekinah.co.uk
SUMMARY:Andy's Man Club
DESCRIPTION:This is a support group (survivors of DV/SV) solely for men.
URL:https://shekinah.co.uk/event/andys-man-club/2029-09-24/
LOCATION:Endeavour House\, Torquay
CATEGORIES:Mental Health
END:VEVENT
BEGIN:VEVENT
DTSTART;TZID=UTC:20290925T110000
DTEND;TZID=UTC:20290925T130000
DTSTAMP:20260422T052126
CREATED:20260114T072652Z
LAST-MODIFIED:20260114T072854Z
UID:10010803-1885028400-1885035600@shekinah.co.uk
SUMMARY:Breathing Spaces drop in
DESCRIPTION:Support for parents after the removal of a child. \nBreathing Space is a voluntary support service. We can offer support to any parent living in Torbay\, who has had a child removed from their care. Our team will help you to decide which parts of your life you would most like support with and we will help you to make a plan.
URL:https://shekinah.co.uk/event/breathing-spaces-drop-in/2029-09-25/
LOCATION:Endeavour House\, Torquay
CATEGORIES:Learning Exchange
END:VEVENT
BEGIN:VEVENT
DTSTART;TZID=UTC:20290925T120000
DTEND;TZID=UTC:20290925T130000
DTSTAMP:20260422T052126
CREATED:20241009T071855Z
LAST-MODIFIED:20251119T113733Z
UID:10001269-1885032000-1885035600@shekinah.co.uk
SUMMARY:Reediness for change
DESCRIPTION:
URL:https://shekinah.co.uk/event/reediness-for-change/2029-09-25/
LOCATION:Endeavour House\, Torquay
CATEGORIES:Learning Exchange
END:VEVENT
BEGIN:VEVENT
DTSTART;TZID=UTC:20290925T130000
DTEND;TZID=UTC:20290925T140000
DTSTAMP:20260422T052126
CREATED:20241009T072103Z
LAST-MODIFIED:20251119T113824Z
UID:10001793-1885035600-1885039200@shekinah.co.uk
SUMMARY:Kens coffee group
DESCRIPTION:
URL:https://shekinah.co.uk/event/kens-coffee-group/2029-09-25/
LOCATION:Endeavour House\, Torquay
CATEGORIES:Learning Exchange
END:VEVENT
END:VCALENDAR