BEGIN:VCALENDAR
VERSION:2.0
PRODID:-//Shekinah - ECPv6.15.18//NONSGML v1.0//EN
CALSCALE:GREGORIAN
METHOD:PUBLISH
X-WR-CALNAME:Shekinah
X-ORIGINAL-URL:https://shekinah.co.uk
X-WR-CALDESC:Events for Shekinah
REFRESH-INTERVAL;VALUE=DURATION:PT1H
X-Robots-Tag:noindex
X-PUBLISHED-TTL:PT1H
BEGIN:VTIMEZONE
TZID:UTC
BEGIN:STANDARD
TZOFFSETFROM:+0000
TZOFFSETTO:+0000
TZNAME:UTC
DTSTART:20280101T000000
END:STANDARD
END:VTIMEZONE
BEGIN:VEVENT
DTSTART;TZID=UTC:20291011T190000
DTEND;TZID=UTC:20291011T210000
DTSTAMP:20260422T154429
CREATED:20250224T144602Z
LAST-MODIFIED:20250224T144602Z
UID:10008062-1886439600-1886446800@shekinah.co.uk
SUMMARY:NA
DESCRIPTION:A non- profit society of men and women for who drugs had become an issue. No\nappointment needed. Please Contact for more info 0300 999 1212
URL:https://shekinah.co.uk/event/na-3/2029-10-11/
LOCATION:Endeavour House\, Torquay
CATEGORIES:Drop in,Learning Exchange,Mental Health
END:VEVENT
BEGIN:VEVENT
DTSTART;TZID=UTC:20291012T141500
DTEND;TZID=UTC:20291012T153000
DTSTAMP:20260422T154429
CREATED:20241009T073050Z
LAST-MODIFIED:20260319T091733Z
UID:10010284-1886508900-1886513400@shekinah.co.uk
SUMMARY:SMART
DESCRIPTION:
URL:https://shekinah.co.uk/event/smart-2/2029-10-12/
LOCATION:Endeavour House\, Torquay
CATEGORIES:Learning Exchange
END:VEVENT
BEGIN:VEVENT
DTSTART;TZID=UTC:20291012T170000
DTEND;TZID=UTC:20291012T190000
DTSTAMP:20260422T154429
CREATED:20241009T073412Z
LAST-MODIFIED:20251119T114421Z
UID:10010226-1886518800-1886526000@shekinah.co.uk
SUMMARY:Girls Circle 8-11yrs only
DESCRIPTION:
URL:https://shekinah.co.uk/event/girls-circle-8-11yrs-only/2029-10-12/
LOCATION:Endeavour House\, Torquay
CATEGORIES:Learning Exchange
END:VEVENT
BEGIN:VEVENT
DTSTART;TZID=UTC:20291014T183000
DTEND;TZID=UTC:20291014T203000
DTSTAMP:20260422T154429
CREATED:20250224T145359Z
LAST-MODIFIED:20250224T145359Z
UID:10008584-1886697000-1886704200@shekinah.co.uk
SUMMARY:NA
DESCRIPTION:A non- profit society of men and women for who drugs had become an issue. No appointment needed. Please contact for more info 0300 999 1212.
URL:https://shekinah.co.uk/event/na-4/2029-10-14/
LOCATION:Endeavour House\, Torquay
CATEGORIES:Drop in,Mental Health
END:VEVENT
BEGIN:VEVENT
DTSTART;TZID=UTC:20291015T100000
DTEND;TZID=UTC:20291015T113000
DTSTAMP:20260422T154429
CREATED:20241219T135911Z
LAST-MODIFIED:20241219T135911Z
UID:10006503-1886752800-1886758200@shekinah.co.uk
SUMMARY:NA
DESCRIPTION:A non- profit society of men and women for who drugs had become an issue. No\nappointment needed. please Contact for more info 0300 999 1212
URL:https://shekinah.co.uk/event/na-2/2029-10-15/
LOCATION:Endeavour House\, Torquay
CATEGORIES:Learning Exchange
END:VEVENT
BEGIN:VEVENT
DTSTART;TZID=UTC:20291015T190000
DTEND;TZID=UTC:20291015T210000
DTSTAMP:20260422T154429
CREATED:20241217T082922Z
LAST-MODIFIED:20260319T085708Z
UID:10005869-1886785200-1886792400@shekinah.co.uk
SUMMARY:Andy's Man Club
DESCRIPTION:This is a support group (survivors of DV/SV) solely for men.
URL:https://shekinah.co.uk/event/andys-man-club/2029-10-15/
LOCATION:Endeavour House\, Torquay
CATEGORIES:Mental Health
END:VEVENT
BEGIN:VEVENT
DTSTART;TZID=UTC:20291016T110000
DTEND;TZID=UTC:20291016T130000
DTSTAMP:20260422T154429
CREATED:20260114T072652Z
LAST-MODIFIED:20260114T072854Z
UID:10010806-1886842800-1886850000@shekinah.co.uk
SUMMARY:Breathing Spaces drop in
DESCRIPTION:Support for parents after the removal of a child. \nBreathing Space is a voluntary support service. We can offer support to any parent living in Torbay\, who has had a child removed from their care. Our team will help you to decide which parts of your life you would most like support with and we will help you to make a plan.
URL:https://shekinah.co.uk/event/breathing-spaces-drop-in/2029-10-16/
LOCATION:Endeavour House\, Torquay
CATEGORIES:Learning Exchange
END:VEVENT
BEGIN:VEVENT
DTSTART;TZID=UTC:20291016T120000
DTEND;TZID=UTC:20291016T130000
DTSTAMP:20260422T154429
CREATED:20241009T071855Z
LAST-MODIFIED:20251119T113733Z
UID:10005609-1886846400-1886850000@shekinah.co.uk
SUMMARY:Reediness for change
DESCRIPTION:
URL:https://shekinah.co.uk/event/reediness-for-change/2029-10-16/
LOCATION:Endeavour House\, Torquay
CATEGORIES:Learning Exchange
END:VEVENT
BEGIN:VEVENT
DTSTART;TZID=UTC:20291016T130000
DTEND;TZID=UTC:20291016T140000
DTSTAMP:20260422T154429
CREATED:20241009T072103Z
LAST-MODIFIED:20251119T113824Z
UID:10005571-1886850000-1886853600@shekinah.co.uk
SUMMARY:Kens coffee group
DESCRIPTION:
URL:https://shekinah.co.uk/event/kens-coffee-group/2029-10-16/
LOCATION:Endeavour House\, Torquay
CATEGORIES:Learning Exchange
END:VEVENT
BEGIN:VEVENT
DTSTART;TZID=UTC:20291016T130000
DTEND;TZID=UTC:20291016T140000
DTSTAMP:20260422T154429
CREATED:20241219T140724Z
LAST-MODIFIED:20251119T113906Z
UID:10006762-1886850000-1886853600@shekinah.co.uk
SUMMARY:Christian Talk
DESCRIPTION:A friendly peer support group\, why not come along and meet Ken and friends. Coffee\, cake\, sharing story’s all welcome.
URL:https://shekinah.co.uk/event/christian-talk/2029-10-16/
LOCATION:Endeavour House\, Torquay
CATEGORIES:Learning Exchange
END:VEVENT
BEGIN:VEVENT
DTSTART;TZID=UTC:20291016T141500
DTEND;TZID=UTC:20291016T153000
DTSTAMP:20260422T154429
CREATED:20260319T091612Z
LAST-MODIFIED:20260319T091612Z
UID:10005467-1886854500-1886859000@shekinah.co.uk
SUMMARY:SMART
DESCRIPTION:
URL:https://shekinah.co.uk/event/smart-4/2029-10-16/
LOCATION:Endeavour House\, Torquay
CATEGORIES:Learning Exchange
END:VEVENT
BEGIN:VEVENT
DTSTART;TZID=UTC:20291017T110000
DTEND;TZID=UTC:20291017T120000
DTSTAMP:20260422T154429
CREATED:20241009T072201Z
LAST-MODIFIED:20251119T113638Z
UID:10005580-1886929200-1886932800@shekinah.co.uk
SUMMARY:SMART Woman's group
DESCRIPTION:
URL:https://shekinah.co.uk/event/smart-womans-group/2029-10-17/
LOCATION:Endeavour House\, Torquay
CATEGORIES:Learning Exchange
END:VEVENT
BEGIN:VEVENT
DTSTART;TZID=UTC:20291017T110000
DTEND;TZID=UTC:20291017T130000
DTSTAMP:20260422T154429
CREATED:20241009T072239Z
LAST-MODIFIED:20251119T112504Z
UID:10005475-1886929200-1886936400@shekinah.co.uk
SUMMARY:Wellness drop in
DESCRIPTION:
URL:https://shekinah.co.uk/event/wellness-drop-in/2029-10-17/
LOCATION:Endeavour House\, Torquay
CATEGORIES:Learning Exchange
END:VEVENT
BEGIN:VEVENT
DTSTART;TZID=UTC:20291017T110000
DTEND;TZID=UTC:20291017T160000
DTSTAMP:20260422T154429
CREATED:20260114T073047Z
LAST-MODIFIED:20260114T073047Z
UID:10011067-1886929200-1886947200@shekinah.co.uk
SUMMARY:Care leavers Drop in
DESCRIPTION:Experienced Care leavers team support young people who are facing challenges\, including housing needs.
URL:https://shekinah.co.uk/event/care-leavers-drop-in/2029-10-17/
LOCATION:Endeavour House\, Torquay
CATEGORIES:Learning Exchange
END:VEVENT
BEGIN:VEVENT
DTSTART;TZID=UTC:20291017T130000
DTEND;TZID=UTC:20291017T160000
DTSTAMP:20260422T154429
CREATED:20241009T072322Z
LAST-MODIFIED:20251119T112928Z
UID:10005483-1886936400-1886947200@shekinah.co.uk
SUMMARY:Drop in Mental health Recovery practitioners
DESCRIPTION:
URL:https://shekinah.co.uk/event/drop-in-mental-health-recovery-practitioners/2029-10-17/
LOCATION:Endeavour House\, Torquay
CATEGORIES:Mental Health
END:VEVENT
BEGIN:VEVENT
DTSTART;TZID=UTC:20291017T130000
DTEND;TZID=UTC:20291017T160000
DTSTAMP:20260422T154429
CREATED:20241128T120358Z
LAST-MODIFIED:20251119T113026Z
UID:10005456-1886936400-1886947200@shekinah.co.uk
SUMMARY:Mental Health Drop In
DESCRIPTION:
URL:https://shekinah.co.uk/event/mental-health-drop-in/2029-10-17/
LOCATION:Endeavour House\, Torquay
CATEGORIES:Mental Health
END:VEVENT
BEGIN:VEVENT
DTSTART;TZID=UTC:20291018T093000
DTEND;TZID=UTC:20291018T160000
DTSTAMP:20260422T154429
CREATED:20250224T144758Z
LAST-MODIFIED:20251119T113200Z
UID:10008324-1887010200-1887033600@shekinah.co.uk
SUMMARY:Women's Wellness day
DESCRIPTION:
URL:https://shekinah.co.uk/event/womens-wellness-day/2029-10-18/
LOCATION:Endeavour House\, Torquay
CATEGORIES:Drop in,Learning Exchange,Mental Health
END:VEVENT
BEGIN:VEVENT
DTSTART;TZID=UTC:20291018T101500
DTEND;TZID=UTC:20291018T121500
DTSTAMP:20260422T154429
CREATED:20241009T072441Z
LAST-MODIFIED:20251119T113302Z
UID:10005590-1887012900-1887020100@shekinah.co.uk
SUMMARY:Torbay Woman Circle
DESCRIPTION:
URL:https://shekinah.co.uk/event/torbay-woman-circle/2029-10-18/
LOCATION:Endeavour House\, Torquay
CATEGORIES:Learning Exchange
END:VEVENT
BEGIN:VEVENT
DTSTART;TZID=UTC:20291018T123000
DTEND;TZID=UTC:20291018T143000
DTSTAMP:20260422T154429
CREATED:20260320T105442Z
LAST-MODIFIED:20260320T105442Z
UID:10011515-1887021000-1887028200@shekinah.co.uk
SUMMARY:Woman's Circle Thursdays
DESCRIPTION:
URL:https://shekinah.co.uk/event/womans-circle-thursdays/2029-10-18/
LOCATION:Endeavour House\, Torquay
CATEGORIES:Learning Exchange
END:VEVENT
BEGIN:VEVENT
DTSTART;TZID=UTC:20291018T143000
DTEND;TZID=UTC:20291018T163000
DTSTAMP:20260422T154429
CREATED:20241009T072549Z
LAST-MODIFIED:20251119T113406Z
UID:10005599-1887028200-1887035400@shekinah.co.uk
SUMMARY:Coproduction
DESCRIPTION:
URL:https://shekinah.co.uk/event/coproduction/2029-10-18/
LOCATION:Endeavour House\, Torquay
CATEGORIES:Learning Exchange
END:VEVENT
BEGIN:VEVENT
DTSTART;TZID=UTC:20291018T170000
DTEND;TZID=UTC:20291018T190000
DTSTAMP:20260422T154429
CREATED:20241219T141624Z
LAST-MODIFIED:20251119T113523Z
UID:10007279-1887037200-1887044400@shekinah.co.uk
SUMMARY:Girl’s Circle
DESCRIPTION:A program for Girls aged 8-12years providing an emotionally safe and creative space. A way to make new friends\, socialise support one another using their\nauthentic voice\, play and having fun.\nContact info Joanna Kamionkova – kamionkova@gmail.com
URL:https://shekinah.co.uk/event/womens-pathway-to-wellness/2029-10-18/
LOCATION:Endeavour House\, Torquay
CATEGORIES:Learning Exchange
END:VEVENT
BEGIN:VEVENT
DTSTART;TZID=UTC:20291018T190000
DTEND;TZID=UTC:20291018T210000
DTSTAMP:20260422T154429
CREATED:20250224T144602Z
LAST-MODIFIED:20250224T144602Z
UID:10008063-1887044400-1887051600@shekinah.co.uk
SUMMARY:NA
DESCRIPTION:A non- profit society of men and women for who drugs had become an issue. No\nappointment needed. Please Contact for more info 0300 999 1212
URL:https://shekinah.co.uk/event/na-3/2029-10-18/
LOCATION:Endeavour House\, Torquay
CATEGORIES:Drop in,Learning Exchange,Mental Health
END:VEVENT
BEGIN:VEVENT
DTSTART;TZID=UTC:20291019T141500
DTEND;TZID=UTC:20291019T153000
DTSTAMP:20260422T154429
CREATED:20241009T073050Z
LAST-MODIFIED:20260319T091733Z
UID:10010285-1887113700-1887118200@shekinah.co.uk
SUMMARY:SMART
DESCRIPTION:
URL:https://shekinah.co.uk/event/smart-2/2029-10-19/
LOCATION:Endeavour House\, Torquay
CATEGORIES:Learning Exchange
END:VEVENT
BEGIN:VEVENT
DTSTART;TZID=UTC:20291019T170000
DTEND;TZID=UTC:20291019T190000
DTSTAMP:20260422T154429
CREATED:20241009T073412Z
LAST-MODIFIED:20251119T114421Z
UID:10010227-1887123600-1887130800@shekinah.co.uk
SUMMARY:Girls Circle 8-11yrs only
DESCRIPTION:
URL:https://shekinah.co.uk/event/girls-circle-8-11yrs-only/2029-10-19/
LOCATION:Endeavour House\, Torquay
CATEGORIES:Learning Exchange
END:VEVENT
BEGIN:VEVENT
DTSTART;TZID=UTC:20291021T183000
DTEND;TZID=UTC:20291021T203000
DTSTAMP:20260422T154429
CREATED:20250224T145359Z
LAST-MODIFIED:20250224T145359Z
UID:10008585-1887301800-1887309000@shekinah.co.uk
SUMMARY:NA
DESCRIPTION:A non- profit society of men and women for who drugs had become an issue. No appointment needed. Please contact for more info 0300 999 1212.
URL:https://shekinah.co.uk/event/na-4/2029-10-21/
LOCATION:Endeavour House\, Torquay
CATEGORIES:Drop in,Mental Health
END:VEVENT
BEGIN:VEVENT
DTSTART;TZID=UTC:20291022T100000
DTEND;TZID=UTC:20291022T113000
DTSTAMP:20260422T154429
CREATED:20241219T135911Z
LAST-MODIFIED:20241219T135911Z
UID:10006504-1887357600-1887363000@shekinah.co.uk
SUMMARY:NA
DESCRIPTION:A non- profit society of men and women for who drugs had become an issue. No\nappointment needed. please Contact for more info 0300 999 1212
URL:https://shekinah.co.uk/event/na-2/2029-10-22/
LOCATION:Endeavour House\, Torquay
CATEGORIES:Learning Exchange
END:VEVENT
BEGIN:VEVENT
DTSTART;TZID=UTC:20291022T190000
DTEND;TZID=UTC:20291022T210000
DTSTAMP:20260422T154429
CREATED:20241217T082922Z
LAST-MODIFIED:20260319T085708Z
UID:10005870-1887390000-1887397200@shekinah.co.uk
SUMMARY:Andy's Man Club
DESCRIPTION:This is a support group (survivors of DV/SV) solely for men.
URL:https://shekinah.co.uk/event/andys-man-club/2029-10-22/
LOCATION:Endeavour House\, Torquay
CATEGORIES:Mental Health
END:VEVENT
BEGIN:VEVENT
DTSTART;TZID=UTC:20291023T110000
DTEND;TZID=UTC:20291023T130000
DTSTAMP:20260422T154429
CREATED:20260114T072652Z
LAST-MODIFIED:20260114T072854Z
UID:10010807-1887447600-1887454800@shekinah.co.uk
SUMMARY:Breathing Spaces drop in
DESCRIPTION:Support for parents after the removal of a child. \nBreathing Space is a voluntary support service. We can offer support to any parent living in Torbay\, who has had a child removed from their care. Our team will help you to decide which parts of your life you would most like support with and we will help you to make a plan.
URL:https://shekinah.co.uk/event/breathing-spaces-drop-in/2029-10-23/
LOCATION:Endeavour House\, Torquay
CATEGORIES:Learning Exchange
END:VEVENT
BEGIN:VEVENT
DTSTART;TZID=UTC:20291023T120000
DTEND;TZID=UTC:20291023T130000
DTSTAMP:20260422T154429
CREATED:20241009T071855Z
LAST-MODIFIED:20251119T113733Z
UID:10005610-1887451200-1887454800@shekinah.co.uk
SUMMARY:Reediness for change
DESCRIPTION:
URL:https://shekinah.co.uk/event/reediness-for-change/2029-10-23/
LOCATION:Endeavour House\, Torquay
CATEGORIES:Learning Exchange
END:VEVENT
BEGIN:VEVENT
DTSTART;TZID=UTC:20291023T130000
DTEND;TZID=UTC:20291023T140000
DTSTAMP:20260422T154429
CREATED:20241009T072103Z
LAST-MODIFIED:20251119T113824Z
UID:10005572-1887454800-1887458400@shekinah.co.uk
SUMMARY:Kens coffee group
DESCRIPTION:
URL:https://shekinah.co.uk/event/kens-coffee-group/2029-10-23/
LOCATION:Endeavour House\, Torquay
CATEGORIES:Learning Exchange
END:VEVENT
END:VCALENDAR