BEGIN:VCALENDAR
VERSION:2.0
PRODID:-//Shekinah - ECPv6.15.18//NONSGML v1.0//EN
CALSCALE:GREGORIAN
METHOD:PUBLISH
X-ORIGINAL-URL:https://shekinah.co.uk
X-WR-CALDESC:Events for Shekinah
REFRESH-INTERVAL;VALUE=DURATION:PT1H
X-Robots-Tag:noindex
X-PUBLISHED-TTL:PT1H
BEGIN:VTIMEZONE
TZID:UTC
BEGIN:STANDARD
TZOFFSETFROM:+0000
TZOFFSETTO:+0000
TZNAME:UTC
DTSTART:20280101T000000
END:STANDARD
END:VTIMEZONE
BEGIN:VEVENT
DTSTART;TZID=UTC:20291122T101500
DTEND;TZID=UTC:20291122T121500
DTSTAMP:20260423T065805
CREATED:20241009T072441Z
LAST-MODIFIED:20251119T113302Z
UID:10005595-1890036900-1890044100@shekinah.co.uk
SUMMARY:Torbay Woman Circle
DESCRIPTION:
URL:https://shekinah.co.uk/event/torbay-woman-circle/2029-11-22/
LOCATION:Endeavour House\, Torquay
CATEGORIES:Learning Exchange
END:VEVENT
BEGIN:VEVENT
DTSTART;TZID=UTC:20291122T123000
DTEND;TZID=UTC:20291122T143000
DTSTAMP:20260423T065805
CREATED:20260320T105442Z
LAST-MODIFIED:20260320T105442Z
UID:10011520-1890045000-1890052200@shekinah.co.uk
SUMMARY:Woman's Circle Thursdays
DESCRIPTION:
URL:https://shekinah.co.uk/event/womans-circle-thursdays/2029-11-22/
LOCATION:Endeavour House\, Torquay
CATEGORIES:Learning Exchange
END:VEVENT
BEGIN:VEVENT
DTSTART;TZID=UTC:20291122T143000
DTEND;TZID=UTC:20291122T163000
DTSTAMP:20260423T065805
CREATED:20241009T072549Z
LAST-MODIFIED:20251119T113406Z
UID:10005604-1890052200-1890059400@shekinah.co.uk
SUMMARY:Coproduction
DESCRIPTION:
URL:https://shekinah.co.uk/event/coproduction/2029-11-22/
LOCATION:Endeavour House\, Torquay
CATEGORIES:Learning Exchange
END:VEVENT
BEGIN:VEVENT
DTSTART;TZID=UTC:20291122T170000
DTEND;TZID=UTC:20291122T190000
DTSTAMP:20260423T065805
CREATED:20241219T141624Z
LAST-MODIFIED:20251119T113523Z
UID:10007284-1890061200-1890068400@shekinah.co.uk
SUMMARY:Girl’s Circle
DESCRIPTION:A program for Girls aged 8-12years providing an emotionally safe and creative space. A way to make new friends\, socialise support one another using their\nauthentic voice\, play and having fun.\nContact info Joanna Kamionkova – kamionkova@gmail.com
URL:https://shekinah.co.uk/event/womens-pathway-to-wellness/2029-11-22/
LOCATION:Endeavour House\, Torquay
CATEGORIES:Learning Exchange
END:VEVENT
BEGIN:VEVENT
DTSTART;TZID=UTC:20291122T190000
DTEND;TZID=UTC:20291122T210000
DTSTAMP:20260423T065805
CREATED:20250224T144602Z
LAST-MODIFIED:20250224T144602Z
UID:10008068-1890068400-1890075600@shekinah.co.uk
SUMMARY:NA
DESCRIPTION:A non- profit society of men and women for who drugs had become an issue. No\nappointment needed. Please Contact for more info 0300 999 1212
URL:https://shekinah.co.uk/event/na-3/2029-11-22/
LOCATION:Endeavour House\, Torquay
CATEGORIES:Drop in,Learning Exchange,Mental Health
END:VEVENT
BEGIN:VEVENT
DTSTART;TZID=UTC:20291123T141500
DTEND;TZID=UTC:20291123T153000
DTSTAMP:20260423T065805
CREATED:20241009T073050Z
LAST-MODIFIED:20260319T091733Z
UID:10010290-1890137700-1890142200@shekinah.co.uk
SUMMARY:SMART
DESCRIPTION:
URL:https://shekinah.co.uk/event/smart-2/2029-11-23/
LOCATION:Endeavour House\, Torquay
CATEGORIES:Learning Exchange
END:VEVENT
BEGIN:VEVENT
DTSTART;TZID=UTC:20291123T170000
DTEND;TZID=UTC:20291123T190000
DTSTAMP:20260423T065805
CREATED:20241009T073412Z
LAST-MODIFIED:20251119T114421Z
UID:10010232-1890147600-1890154800@shekinah.co.uk
SUMMARY:Girls Circle 8-11yrs only
DESCRIPTION:
URL:https://shekinah.co.uk/event/girls-circle-8-11yrs-only/2029-11-23/
LOCATION:Endeavour House\, Torquay
CATEGORIES:Learning Exchange
END:VEVENT
BEGIN:VEVENT
DTSTART;TZID=UTC:20291125T183000
DTEND;TZID=UTC:20291125T203000
DTSTAMP:20260423T065805
CREATED:20250224T145359Z
LAST-MODIFIED:20250224T145359Z
UID:10008590-1890325800-1890333000@shekinah.co.uk
SUMMARY:NA
DESCRIPTION:A non- profit society of men and women for who drugs had become an issue. No appointment needed. Please contact for more info 0300 999 1212.
URL:https://shekinah.co.uk/event/na-4/2029-11-25/
LOCATION:Endeavour House\, Torquay
CATEGORIES:Drop in,Mental Health
END:VEVENT
BEGIN:VEVENT
DTSTART;TZID=UTC:20291126T100000
DTEND;TZID=UTC:20291126T113000
DTSTAMP:20260423T065805
CREATED:20241219T135911Z
LAST-MODIFIED:20241219T135911Z
UID:10006509-1890381600-1890387000@shekinah.co.uk
SUMMARY:NA
DESCRIPTION:A non- profit society of men and women for who drugs had become an issue. No\nappointment needed. please Contact for more info 0300 999 1212
URL:https://shekinah.co.uk/event/na-2/2029-11-26/
LOCATION:Endeavour House\, Torquay
CATEGORIES:Learning Exchange
END:VEVENT
BEGIN:VEVENT
DTSTART;TZID=UTC:20291126T190000
DTEND;TZID=UTC:20291126T210000
DTSTAMP:20260423T065805
CREATED:20241217T082922Z
LAST-MODIFIED:20260319T085708Z
UID:10005875-1890414000-1890421200@shekinah.co.uk
SUMMARY:Andy's Man Club
DESCRIPTION:This is a support group (survivors of DV/SV) solely for men.
URL:https://shekinah.co.uk/event/andys-man-club/2029-11-26/
LOCATION:Endeavour House\, Torquay
CATEGORIES:Mental Health
END:VEVENT
BEGIN:VEVENT
DTSTART;TZID=UTC:20291127T110000
DTEND;TZID=UTC:20291127T130000
DTSTAMP:20260423T065805
CREATED:20260114T072652Z
LAST-MODIFIED:20260114T072854Z
UID:10010812-1890471600-1890478800@shekinah.co.uk
SUMMARY:Breathing Spaces drop in
DESCRIPTION:Support for parents after the removal of a child. \nBreathing Space is a voluntary support service. We can offer support to any parent living in Torbay\, who has had a child removed from their care. Our team will help you to decide which parts of your life you would most like support with and we will help you to make a plan.
URL:https://shekinah.co.uk/event/breathing-spaces-drop-in/2029-11-27/
LOCATION:Endeavour House\, Torquay
CATEGORIES:Learning Exchange
END:VEVENT
BEGIN:VEVENT
DTSTART;TZID=UTC:20291127T120000
DTEND;TZID=UTC:20291127T130000
DTSTAMP:20260423T065805
CREATED:20241009T071855Z
LAST-MODIFIED:20251119T113733Z
UID:10005615-1890475200-1890478800@shekinah.co.uk
SUMMARY:Reediness for change
DESCRIPTION:
URL:https://shekinah.co.uk/event/reediness-for-change/2029-11-27/
LOCATION:Endeavour House\, Torquay
CATEGORIES:Learning Exchange
END:VEVENT
BEGIN:VEVENT
DTSTART;TZID=UTC:20291127T130000
DTEND;TZID=UTC:20291127T140000
DTSTAMP:20260423T065805
CREATED:20241009T072103Z
LAST-MODIFIED:20251119T113824Z
UID:10005577-1890478800-1890482400@shekinah.co.uk
SUMMARY:Kens coffee group
DESCRIPTION:
URL:https://shekinah.co.uk/event/kens-coffee-group/2029-11-27/
LOCATION:Endeavour House\, Torquay
CATEGORIES:Learning Exchange
END:VEVENT
BEGIN:VEVENT
DTSTART;TZID=UTC:20291127T130000
DTEND;TZID=UTC:20291127T140000
DTSTAMP:20260423T065805
CREATED:20241219T140724Z
LAST-MODIFIED:20251119T113906Z
UID:10006768-1890478800-1890482400@shekinah.co.uk
SUMMARY:Christian Talk
DESCRIPTION:A friendly peer support group\, why not come along and meet Ken and friends. Coffee\, cake\, sharing story’s all welcome.
URL:https://shekinah.co.uk/event/christian-talk/2029-11-27/
LOCATION:Endeavour House\, Torquay
CATEGORIES:Learning Exchange
END:VEVENT
BEGIN:VEVENT
DTSTART;TZID=UTC:20291127T141500
DTEND;TZID=UTC:20291127T153000
DTSTAMP:20260423T065805
CREATED:20260319T091612Z
LAST-MODIFIED:20260319T091612Z
UID:10005473-1890483300-1890487800@shekinah.co.uk
SUMMARY:SMART
DESCRIPTION:
URL:https://shekinah.co.uk/event/smart-4/2029-11-27/
LOCATION:Endeavour House\, Torquay
CATEGORIES:Learning Exchange
END:VEVENT
BEGIN:VEVENT
DTSTART;TZID=UTC:20291128T100000
DTEND;TZID=UTC:20291128T140000
DTSTAMP:20260423T065805
CREATED:20260114T073311Z
LAST-MODIFIED:20260114T073311Z
UID:10011178-1890554400-1890568800@shekinah.co.uk
SUMMARY:ECOE - Drop in
DESCRIPTION:Enabling local people to own renewable energy & energy saving projects.
URL:https://shekinah.co.uk/event/ecoe-drop-in/2029-11-28/
LOCATION:Endeavour House\, Torquay
CATEGORIES:Learning Exchange
END:VEVENT
BEGIN:VEVENT
DTSTART;TZID=UTC:20291128T110000
DTEND;TZID=UTC:20291128T120000
DTSTAMP:20260423T065805
CREATED:20241009T072201Z
LAST-MODIFIED:20251119T113638Z
UID:10005586-1890558000-1890561600@shekinah.co.uk
SUMMARY:SMART Woman's group
DESCRIPTION:
URL:https://shekinah.co.uk/event/smart-womans-group/2029-11-28/
LOCATION:Endeavour House\, Torquay
CATEGORIES:Learning Exchange
END:VEVENT
BEGIN:VEVENT
DTSTART;TZID=UTC:20291128T110000
DTEND;TZID=UTC:20291128T130000
DTSTAMP:20260423T065805
CREATED:20241009T072239Z
LAST-MODIFIED:20251119T112504Z
UID:10005481-1890558000-1890565200@shekinah.co.uk
SUMMARY:Wellness drop in
DESCRIPTION:
URL:https://shekinah.co.uk/event/wellness-drop-in/2029-11-28/
LOCATION:Endeavour House\, Torquay
CATEGORIES:Learning Exchange
END:VEVENT
BEGIN:VEVENT
DTSTART;TZID=UTC:20291128T110000
DTEND;TZID=UTC:20291128T160000
DTSTAMP:20260423T065805
CREATED:20260114T073047Z
LAST-MODIFIED:20260114T073047Z
UID:10011073-1890558000-1890576000@shekinah.co.uk
SUMMARY:Care leavers Drop in
DESCRIPTION:Experienced Care leavers team support young people who are facing challenges\, including housing needs.
URL:https://shekinah.co.uk/event/care-leavers-drop-in/2029-11-28/
LOCATION:Endeavour House\, Torquay
CATEGORIES:Learning Exchange
END:VEVENT
BEGIN:VEVENT
DTSTART;TZID=UTC:20291128T130000
DTEND;TZID=UTC:20291128T160000
DTSTAMP:20260423T065805
CREATED:20241009T072322Z
LAST-MODIFIED:20251119T112928Z
UID:10005489-1890565200-1890576000@shekinah.co.uk
SUMMARY:Drop in Mental health Recovery practitioners
DESCRIPTION:
URL:https://shekinah.co.uk/event/drop-in-mental-health-recovery-practitioners/2029-11-28/
LOCATION:Endeavour House\, Torquay
CATEGORIES:Mental Health
END:VEVENT
BEGIN:VEVENT
DTSTART;TZID=UTC:20291128T130000
DTEND;TZID=UTC:20291128T160000
DTSTAMP:20260423T065805
CREATED:20241128T120358Z
LAST-MODIFIED:20251119T113026Z
UID:10005462-1890565200-1890576000@shekinah.co.uk
SUMMARY:Mental Health Drop In
DESCRIPTION:
URL:https://shekinah.co.uk/event/mental-health-drop-in/2029-11-28/
LOCATION:Endeavour House\, Torquay
CATEGORIES:Mental Health
END:VEVENT
BEGIN:VEVENT
DTSTART;TZID=UTC:20291129T093000
DTEND;TZID=UTC:20291129T160000
DTSTAMP:20260423T065805
CREATED:20250224T144758Z
LAST-MODIFIED:20251119T113200Z
UID:10008330-1890639000-1890662400@shekinah.co.uk
SUMMARY:Women's Wellness day
DESCRIPTION:
URL:https://shekinah.co.uk/event/womens-wellness-day/2029-11-29/
LOCATION:Endeavour House\, Torquay
CATEGORIES:Drop in,Learning Exchange,Mental Health
END:VEVENT
BEGIN:VEVENT
DTSTART;TZID=UTC:20291129T101500
DTEND;TZID=UTC:20291129T121500
DTSTAMP:20260423T065805
CREATED:20241009T072441Z
LAST-MODIFIED:20251119T113302Z
UID:10005596-1890641700-1890648900@shekinah.co.uk
SUMMARY:Torbay Woman Circle
DESCRIPTION:
URL:https://shekinah.co.uk/event/torbay-woman-circle/2029-11-29/
LOCATION:Endeavour House\, Torquay
CATEGORIES:Learning Exchange
END:VEVENT
BEGIN:VEVENT
DTSTART;TZID=UTC:20291129T123000
DTEND;TZID=UTC:20291129T143000
DTSTAMP:20260423T065805
CREATED:20260320T105442Z
LAST-MODIFIED:20260320T105442Z
UID:10011521-1890649800-1890657000@shekinah.co.uk
SUMMARY:Woman's Circle Thursdays
DESCRIPTION:
URL:https://shekinah.co.uk/event/womans-circle-thursdays/2029-11-29/
LOCATION:Endeavour House\, Torquay
CATEGORIES:Learning Exchange
END:VEVENT
BEGIN:VEVENT
DTSTART;TZID=UTC:20291129T143000
DTEND;TZID=UTC:20291129T163000
DTSTAMP:20260423T065805
CREATED:20241009T072549Z
LAST-MODIFIED:20251119T113406Z
UID:10005605-1890657000-1890664200@shekinah.co.uk
SUMMARY:Coproduction
DESCRIPTION:
URL:https://shekinah.co.uk/event/coproduction/2029-11-29/
LOCATION:Endeavour House\, Torquay
CATEGORIES:Learning Exchange
END:VEVENT
BEGIN:VEVENT
DTSTART;TZID=UTC:20291129T170000
DTEND;TZID=UTC:20291129T190000
DTSTAMP:20260423T065805
CREATED:20241219T141624Z
LAST-MODIFIED:20251119T113523Z
UID:10007285-1890666000-1890673200@shekinah.co.uk
SUMMARY:Girl’s Circle
DESCRIPTION:A program for Girls aged 8-12years providing an emotionally safe and creative space. A way to make new friends\, socialise support one another using their\nauthentic voice\, play and having fun.\nContact info Joanna Kamionkova – kamionkova@gmail.com
URL:https://shekinah.co.uk/event/womens-pathway-to-wellness/2029-11-29/
LOCATION:Endeavour House\, Torquay
CATEGORIES:Learning Exchange
END:VEVENT
BEGIN:VEVENT
DTSTART;TZID=UTC:20291129T190000
DTEND;TZID=UTC:20291129T210000
DTSTAMP:20260423T065805
CREATED:20250224T144602Z
LAST-MODIFIED:20250224T144602Z
UID:10008069-1890673200-1890680400@shekinah.co.uk
SUMMARY:NA
DESCRIPTION:A non- profit society of men and women for who drugs had become an issue. No\nappointment needed. Please Contact for more info 0300 999 1212
URL:https://shekinah.co.uk/event/na-3/2029-11-29/
LOCATION:Endeavour House\, Torquay
CATEGORIES:Drop in,Learning Exchange,Mental Health
END:VEVENT
BEGIN:VEVENT
DTSTART;TZID=UTC:20291130T141500
DTEND;TZID=UTC:20291130T153000
DTSTAMP:20260423T065805
CREATED:20241009T073050Z
LAST-MODIFIED:20260319T091733Z
UID:10010291-1890742500-1890747000@shekinah.co.uk
SUMMARY:SMART
DESCRIPTION:
URL:https://shekinah.co.uk/event/smart-2/2029-11-30/
LOCATION:Endeavour House\, Torquay
CATEGORIES:Learning Exchange
END:VEVENT
BEGIN:VEVENT
DTSTART;TZID=UTC:20291130T170000
DTEND;TZID=UTC:20291130T190000
DTSTAMP:20260423T065805
CREATED:20241009T073412Z
LAST-MODIFIED:20251119T114421Z
UID:10010233-1890752400-1890759600@shekinah.co.uk
SUMMARY:Girls Circle 8-11yrs only
DESCRIPTION:
URL:https://shekinah.co.uk/event/girls-circle-8-11yrs-only/2029-11-30/
LOCATION:Endeavour House\, Torquay
CATEGORIES:Learning Exchange
END:VEVENT
BEGIN:VEVENT
DTSTART;TZID=UTC:20291202T183000
DTEND;TZID=UTC:20291202T203000
DTSTAMP:20260423T065805
CREATED:20250224T145359Z
LAST-MODIFIED:20250224T145359Z
UID:10008591-1890930600-1890937800@shekinah.co.uk
SUMMARY:NA
DESCRIPTION:A non- profit society of men and women for who drugs had become an issue. No appointment needed. Please contact for more info 0300 999 1212.
URL:https://shekinah.co.uk/event/na-4/2029-12-02/
LOCATION:Endeavour House\, Torquay
CATEGORIES:Drop in,Mental Health
END:VEVENT
END:VCALENDAR