BEGIN:VCALENDAR
VERSION:2.0
PRODID:-//Shekinah - ECPv6.15.18//NONSGML v1.0//EN
CALSCALE:GREGORIAN
METHOD:PUBLISH
X-ORIGINAL-URL:https://shekinah.co.uk
X-WR-CALDESC:Events for Shekinah
REFRESH-INTERVAL;VALUE=DURATION:PT1H
X-Robots-Tag:noindex
X-PUBLISHED-TTL:PT1H
BEGIN:VTIMEZONE
TZID:UTC
BEGIN:STANDARD
TZOFFSETFROM:+0000
TZOFFSETTO:+0000
TZNAME:UTC
DTSTART:20290101T000000
END:STANDARD
END:VTIMEZONE
BEGIN:VEVENT
DTSTART;TZID=UTC:20300129T130000
DTEND;TZID=UTC:20300129T140000
DTSTAMP:20260424T073547
CREATED:20241219T140724Z
LAST-MODIFIED:20251119T113906Z
UID:10010133-1895922000-1895925600@shekinah.co.uk
SUMMARY:Christian Talk
DESCRIPTION:A friendly peer support group\, why not come along and meet Ken and friends. Coffee\, cake\, sharing story’s all welcome.
URL:https://shekinah.co.uk/event/christian-talk/2030-01-29/
LOCATION:Endeavour House\, Torquay
CATEGORIES:Learning Exchange
END:VEVENT
BEGIN:VEVENT
DTSTART;TZID=UTC:20300129T141500
DTEND;TZID=UTC:20300129T153000
DTSTAMP:20260424T073547
CREATED:20260319T091612Z
LAST-MODIFIED:20260319T091612Z
UID:10010183-1895926500-1895931000@shekinah.co.uk
SUMMARY:SMART
DESCRIPTION:
URL:https://shekinah.co.uk/event/smart-4/2030-01-29/
LOCATION:Endeavour House\, Torquay
CATEGORIES:Learning Exchange
END:VEVENT
BEGIN:VEVENT
DTSTART;TZID=UTC:20300130T110000
DTEND;TZID=UTC:20300130T120000
DTSTAMP:20260424T073547
CREATED:20241009T072201Z
LAST-MODIFIED:20251119T113638Z
UID:10009986-1896001200-1896004800@shekinah.co.uk
SUMMARY:SMART Woman's group
DESCRIPTION:
URL:https://shekinah.co.uk/event/smart-womans-group/2030-01-30/
LOCATION:Endeavour House\, Torquay
CATEGORIES:Learning Exchange
END:VEVENT
BEGIN:VEVENT
DTSTART;TZID=UTC:20300130T110000
DTEND;TZID=UTC:20300130T130000
DTSTAMP:20260424T073547
CREATED:20241009T072239Z
LAST-MODIFIED:20251119T112504Z
UID:10009654-1896001200-1896008400@shekinah.co.uk
SUMMARY:Wellness drop in
DESCRIPTION:
URL:https://shekinah.co.uk/event/wellness-drop-in/2030-01-30/
LOCATION:Endeavour House\, Torquay
CATEGORIES:Learning Exchange
END:VEVENT
BEGIN:VEVENT
DTSTART;TZID=UTC:20300130T110000
DTEND;TZID=UTC:20300130T160000
DTSTAMP:20260424T073547
CREATED:20260114T073047Z
LAST-MODIFIED:20260114T073047Z
UID:10011082-1896001200-1896019200@shekinah.co.uk
SUMMARY:Care leavers Drop in
DESCRIPTION:Experienced Care leavers team support young people who are facing challenges\, including housing needs.
URL:https://shekinah.co.uk/event/care-leavers-drop-in/2030-01-30/
LOCATION:Endeavour House\, Torquay
CATEGORIES:Learning Exchange
END:VEVENT
BEGIN:VEVENT
DTSTART;TZID=UTC:20300130T130000
DTEND;TZID=UTC:20300130T160000
DTSTAMP:20260424T073547
CREATED:20241009T072322Z
LAST-MODIFIED:20251119T112928Z
UID:10009703-1896008400-1896019200@shekinah.co.uk
SUMMARY:Drop in Mental health Recovery practitioners
DESCRIPTION:
URL:https://shekinah.co.uk/event/drop-in-mental-health-recovery-practitioners/2030-01-30/
LOCATION:Endeavour House\, Torquay
CATEGORIES:Mental Health
END:VEVENT
BEGIN:VEVENT
DTSTART;TZID=UTC:20300130T130000
DTEND;TZID=UTC:20300130T160000
DTSTAMP:20260424T073547
CREATED:20241128T120358Z
LAST-MODIFIED:20251119T113026Z
UID:10009753-1896008400-1896019200@shekinah.co.uk
SUMMARY:Mental Health Drop In
DESCRIPTION:
URL:https://shekinah.co.uk/event/mental-health-drop-in/2030-01-30/
LOCATION:Endeavour House\, Torquay
CATEGORIES:Mental Health
END:VEVENT
BEGIN:VEVENT
DTSTART;TZID=UTC:20300131T093000
DTEND;TZID=UTC:20300131T160000
DTSTAMP:20260424T073547
CREATED:20250224T144758Z
LAST-MODIFIED:20251119T113200Z
UID:10008339-1896082200-1896105600@shekinah.co.uk
SUMMARY:Women's Wellness day
DESCRIPTION:
URL:https://shekinah.co.uk/event/womens-wellness-day/2030-01-31/
LOCATION:Endeavour House\, Torquay
CATEGORIES:Drop in,Learning Exchange,Mental Health
END:VEVENT
BEGIN:VEVENT
DTSTART;TZID=UTC:20300131T101500
DTEND;TZID=UTC:20300131T121500
DTSTAMP:20260424T073547
CREATED:20241009T072441Z
LAST-MODIFIED:20251119T113302Z
UID:10009840-1896084900-1896092100@shekinah.co.uk
SUMMARY:Torbay Woman Circle
DESCRIPTION:
URL:https://shekinah.co.uk/event/torbay-woman-circle/2030-01-31/
LOCATION:Endeavour House\, Torquay
CATEGORIES:Learning Exchange
END:VEVENT
BEGIN:VEVENT
DTSTART;TZID=UTC:20300131T123000
DTEND;TZID=UTC:20300131T143000
DTSTAMP:20260424T073547
CREATED:20260320T105442Z
LAST-MODIFIED:20260320T105442Z
UID:10011530-1896093000-1896100200@shekinah.co.uk
SUMMARY:Woman's Circle Thursdays
DESCRIPTION:
URL:https://shekinah.co.uk/event/womans-circle-thursdays/2030-01-31/
LOCATION:Endeavour House\, Torquay
CATEGORIES:Learning Exchange
END:VEVENT
BEGIN:VEVENT
DTSTART;TZID=UTC:20300131T143000
DTEND;TZID=UTC:20300131T163000
DTSTAMP:20260424T073547
CREATED:20241009T072549Z
LAST-MODIFIED:20251119T113406Z
UID:10009889-1896100200-1896107400@shekinah.co.uk
SUMMARY:Coproduction
DESCRIPTION:
URL:https://shekinah.co.uk/event/coproduction/2030-01-31/
LOCATION:Endeavour House\, Torquay
CATEGORIES:Learning Exchange
END:VEVENT
BEGIN:VEVENT
DTSTART;TZID=UTC:20300131T170000
DTEND;TZID=UTC:20300131T190000
DTSTAMP:20260424T073547
CREATED:20241219T141624Z
LAST-MODIFIED:20251119T113523Z
UID:10009937-1896109200-1896116400@shekinah.co.uk
SUMMARY:Girl’s Circle
DESCRIPTION:A program for Girls aged 8-12years providing an emotionally safe and creative space. A way to make new friends\, socialise support one another using their\nauthentic voice\, play and having fun.\nContact info Joanna Kamionkova – kamionkova@gmail.com
URL:https://shekinah.co.uk/event/womens-pathway-to-wellness/2030-01-31/
LOCATION:Endeavour House\, Torquay
CATEGORIES:Learning Exchange
END:VEVENT
BEGIN:VEVENT
DTSTART;TZID=UTC:20300131T190000
DTEND;TZID=UTC:20300131T210000
DTSTAMP:20260424T073547
CREATED:20250224T144602Z
LAST-MODIFIED:20250224T144602Z
UID:10008078-1896116400-1896123600@shekinah.co.uk
SUMMARY:NA
DESCRIPTION:A non- profit society of men and women for who drugs had become an issue. No\nappointment needed. Please Contact for more info 0300 999 1212
URL:https://shekinah.co.uk/event/na-3/2030-01-31/
LOCATION:Endeavour House\, Torquay
CATEGORIES:Drop in,Learning Exchange,Mental Health
END:VEVENT
BEGIN:VEVENT
DTSTART;TZID=UTC:20300201T141500
DTEND;TZID=UTC:20300201T153000
DTSTAMP:20260424T073547
CREATED:20241009T073050Z
LAST-MODIFIED:20260319T091733Z
UID:10010300-1896185700-1896190200@shekinah.co.uk
SUMMARY:SMART
DESCRIPTION:
URL:https://shekinah.co.uk/event/smart-2/2030-02-01/
LOCATION:Endeavour House\, Torquay
CATEGORIES:Learning Exchange
END:VEVENT
BEGIN:VEVENT
DTSTART;TZID=UTC:20300201T170000
DTEND;TZID=UTC:20300201T190000
DTSTAMP:20260424T073547
CREATED:20241009T073412Z
LAST-MODIFIED:20251119T114421Z
UID:10010242-1896195600-1896202800@shekinah.co.uk
SUMMARY:Girls Circle 8-11yrs only
DESCRIPTION:
URL:https://shekinah.co.uk/event/girls-circle-8-11yrs-only/2030-02-01/
LOCATION:Endeavour House\, Torquay
CATEGORIES:Learning Exchange
END:VEVENT
BEGIN:VEVENT
DTSTART;TZID=UTC:20300203T183000
DTEND;TZID=UTC:20300203T203000
DTSTAMP:20260424T073547
CREATED:20250224T145359Z
LAST-MODIFIED:20250224T145359Z
UID:10008600-1896373800-1896381000@shekinah.co.uk
SUMMARY:NA
DESCRIPTION:A non- profit society of men and women for who drugs had become an issue. No appointment needed. Please contact for more info 0300 999 1212.
URL:https://shekinah.co.uk/event/na-4/2030-02-03/
LOCATION:Endeavour House\, Torquay
CATEGORIES:Drop in,Mental Health
END:VEVENT
BEGIN:VEVENT
DTSTART;TZID=UTC:20300204T190000
DTEND;TZID=UTC:20300204T210000
DTSTAMP:20260424T073547
CREATED:20241217T082922Z
LAST-MODIFIED:20260319T085708Z
UID:10011215-1896462000-1896469200@shekinah.co.uk
SUMMARY:Andy's Man Club
DESCRIPTION:This is a support group (survivors of DV/SV) solely for men.
URL:https://shekinah.co.uk/event/andys-man-club/2030-02-04/
LOCATION:Endeavour House\, Torquay
CATEGORIES:Mental Health
END:VEVENT
BEGIN:VEVENT
DTSTART;TZID=UTC:20300205T110000
DTEND;TZID=UTC:20300205T130000
DTSTAMP:20260424T073547
CREATED:20260114T072652Z
LAST-MODIFIED:20260114T072854Z
UID:10010822-1896519600-1896526800@shekinah.co.uk
SUMMARY:Breathing Spaces drop in
DESCRIPTION:Support for parents after the removal of a child. \nBreathing Space is a voluntary support service. We can offer support to any parent living in Torbay\, who has had a child removed from their care. Our team will help you to decide which parts of your life you would most like support with and we will help you to make a plan.
URL:https://shekinah.co.uk/event/breathing-spaces-drop-in/2030-02-05/
LOCATION:Endeavour House\, Torquay
CATEGORIES:Learning Exchange
END:VEVENT
BEGIN:VEVENT
DTSTART;TZID=UTC:20300205T120000
DTEND;TZID=UTC:20300205T130000
DTSTAMP:20260424T073547
CREATED:20241009T071855Z
LAST-MODIFIED:20251119T113733Z
UID:10010036-1896523200-1896526800@shekinah.co.uk
SUMMARY:Reediness for change
DESCRIPTION:
URL:https://shekinah.co.uk/event/reediness-for-change/2030-02-05/
LOCATION:Endeavour House\, Torquay
CATEGORIES:Learning Exchange
END:VEVENT
BEGIN:VEVENT
DTSTART;TZID=UTC:20300205T130000
DTEND;TZID=UTC:20300205T140000
DTSTAMP:20260424T073547
CREATED:20241009T072103Z
LAST-MODIFIED:20251119T113824Z
UID:10010086-1896526800-1896530400@shekinah.co.uk
SUMMARY:Kens coffee group
DESCRIPTION:
URL:https://shekinah.co.uk/event/kens-coffee-group/2030-02-05/
LOCATION:Endeavour House\, Torquay
CATEGORIES:Learning Exchange
END:VEVENT
BEGIN:VEVENT
DTSTART;TZID=UTC:20300205T130000
DTEND;TZID=UTC:20300205T140000
DTSTAMP:20260424T073547
CREATED:20241219T140724Z
LAST-MODIFIED:20251119T113906Z
UID:10010134-1896526800-1896530400@shekinah.co.uk
SUMMARY:Christian Talk
DESCRIPTION:A friendly peer support group\, why not come along and meet Ken and friends. Coffee\, cake\, sharing story’s all welcome.
URL:https://shekinah.co.uk/event/christian-talk/2030-02-05/
LOCATION:Endeavour House\, Torquay
CATEGORIES:Learning Exchange
END:VEVENT
BEGIN:VEVENT
DTSTART;TZID=UTC:20300205T141500
DTEND;TZID=UTC:20300205T153000
DTSTAMP:20260424T073547
CREATED:20260319T091612Z
LAST-MODIFIED:20260319T091612Z
UID:10010184-1896531300-1896535800@shekinah.co.uk
SUMMARY:SMART
DESCRIPTION:
URL:https://shekinah.co.uk/event/smart-4/2030-02-05/
LOCATION:Endeavour House\, Torquay
CATEGORIES:Learning Exchange
END:VEVENT
BEGIN:VEVENT
DTSTART;TZID=UTC:20300206T110000
DTEND;TZID=UTC:20300206T120000
DTSTAMP:20260424T073547
CREATED:20241009T072201Z
LAST-MODIFIED:20251119T113638Z
UID:10009987-1896606000-1896609600@shekinah.co.uk
SUMMARY:SMART Woman's group
DESCRIPTION:
URL:https://shekinah.co.uk/event/smart-womans-group/2030-02-06/
LOCATION:Endeavour House\, Torquay
CATEGORIES:Learning Exchange
END:VEVENT
BEGIN:VEVENT
DTSTART;TZID=UTC:20300206T110000
DTEND;TZID=UTC:20300206T130000
DTSTAMP:20260424T073547
CREATED:20241009T072239Z
LAST-MODIFIED:20251119T112504Z
UID:10009655-1896606000-1896613200@shekinah.co.uk
SUMMARY:Wellness drop in
DESCRIPTION:
URL:https://shekinah.co.uk/event/wellness-drop-in/2030-02-06/
LOCATION:Endeavour House\, Torquay
CATEGORIES:Learning Exchange
END:VEVENT
BEGIN:VEVENT
DTSTART;TZID=UTC:20300206T110000
DTEND;TZID=UTC:20300206T160000
DTSTAMP:20260424T073547
CREATED:20260114T073047Z
LAST-MODIFIED:20260114T073047Z
UID:10011083-1896606000-1896624000@shekinah.co.uk
SUMMARY:Care leavers Drop in
DESCRIPTION:Experienced Care leavers team support young people who are facing challenges\, including housing needs.
URL:https://shekinah.co.uk/event/care-leavers-drop-in/2030-02-06/
LOCATION:Endeavour House\, Torquay
CATEGORIES:Learning Exchange
END:VEVENT
BEGIN:VEVENT
DTSTART;TZID=UTC:20300206T130000
DTEND;TZID=UTC:20300206T160000
DTSTAMP:20260424T073547
CREATED:20241009T072322Z
LAST-MODIFIED:20251119T112928Z
UID:10009704-1896613200-1896624000@shekinah.co.uk
SUMMARY:Drop in Mental health Recovery practitioners
DESCRIPTION:
URL:https://shekinah.co.uk/event/drop-in-mental-health-recovery-practitioners/2030-02-06/
LOCATION:Endeavour House\, Torquay
CATEGORIES:Mental Health
END:VEVENT
BEGIN:VEVENT
DTSTART;TZID=UTC:20300206T130000
DTEND;TZID=UTC:20300206T160000
DTSTAMP:20260424T073547
CREATED:20241128T120358Z
LAST-MODIFIED:20251119T113026Z
UID:10009754-1896613200-1896624000@shekinah.co.uk
SUMMARY:Mental Health Drop In
DESCRIPTION:
URL:https://shekinah.co.uk/event/mental-health-drop-in/2030-02-06/
LOCATION:Endeavour House\, Torquay
CATEGORIES:Mental Health
END:VEVENT
BEGIN:VEVENT
DTSTART;TZID=UTC:20300207T093000
DTEND;TZID=UTC:20300207T160000
DTSTAMP:20260424T073547
CREATED:20250224T144758Z
LAST-MODIFIED:20251119T113200Z
UID:10008340-1896687000-1896710400@shekinah.co.uk
SUMMARY:Women's Wellness day
DESCRIPTION:
URL:https://shekinah.co.uk/event/womens-wellness-day/2030-02-07/
LOCATION:Endeavour House\, Torquay
CATEGORIES:Drop in,Learning Exchange,Mental Health
END:VEVENT
BEGIN:VEVENT
DTSTART;TZID=UTC:20300207T101500
DTEND;TZID=UTC:20300207T121500
DTSTAMP:20260424T073547
CREATED:20241009T072441Z
LAST-MODIFIED:20251119T113302Z
UID:10009841-1896689700-1896696900@shekinah.co.uk
SUMMARY:Torbay Woman Circle
DESCRIPTION:
URL:https://shekinah.co.uk/event/torbay-woman-circle/2030-02-07/
LOCATION:Endeavour House\, Torquay
CATEGORIES:Learning Exchange
END:VEVENT
BEGIN:VEVENT
DTSTART;TZID=UTC:20300207T123000
DTEND;TZID=UTC:20300207T143000
DTSTAMP:20260424T073547
CREATED:20260320T105442Z
LAST-MODIFIED:20260320T105442Z
UID:10011531-1896697800-1896705000@shekinah.co.uk
SUMMARY:Woman's Circle Thursdays
DESCRIPTION:
URL:https://shekinah.co.uk/event/womans-circle-thursdays/2030-02-07/
LOCATION:Endeavour House\, Torquay
CATEGORIES:Learning Exchange
END:VEVENT
END:VCALENDAR