BEGIN:VCALENDAR
VERSION:2.0
PRODID:-//Shekinah - ECPv6.15.18//NONSGML v1.0//EN
CALSCALE:GREGORIAN
METHOD:PUBLISH
X-ORIGINAL-URL:https://shekinah.co.uk
X-WR-CALDESC:Events for Shekinah
REFRESH-INTERVAL;VALUE=DURATION:PT1H
X-Robots-Tag:noindex
X-PUBLISHED-TTL:PT1H
BEGIN:VTIMEZONE
TZID:UTC
BEGIN:STANDARD
TZOFFSETFROM:+0000
TZOFFSETTO:+0000
TZNAME:UTC
DTSTART:20290101T000000
END:STANDARD
END:VTIMEZONE
BEGIN:VEVENT
DTSTART;TZID=UTC:20300220T110000
DTEND;TZID=UTC:20300220T120000
DTSTAMP:20260424T155446
CREATED:20241009T072201Z
LAST-MODIFIED:20251119T113638Z
UID:10009989-1897815600-1897819200@shekinah.co.uk
SUMMARY:SMART Woman's group
DESCRIPTION:
URL:https://shekinah.co.uk/event/smart-womans-group/2030-02-20/
LOCATION:Endeavour House\, Torquay
CATEGORIES:Learning Exchange
END:VEVENT
BEGIN:VEVENT
DTSTART;TZID=UTC:20300220T110000
DTEND;TZID=UTC:20300220T130000
DTSTAMP:20260424T155446
CREATED:20241009T072239Z
LAST-MODIFIED:20251119T112504Z
UID:10009657-1897815600-1897822800@shekinah.co.uk
SUMMARY:Wellness drop in
DESCRIPTION:
URL:https://shekinah.co.uk/event/wellness-drop-in/2030-02-20/
LOCATION:Endeavour House\, Torquay
CATEGORIES:Learning Exchange
END:VEVENT
BEGIN:VEVENT
DTSTART;TZID=UTC:20300220T110000
DTEND;TZID=UTC:20300220T160000
DTSTAMP:20260424T155446
CREATED:20260114T073047Z
LAST-MODIFIED:20260114T073047Z
UID:10011085-1897815600-1897833600@shekinah.co.uk
SUMMARY:Care leavers Drop in
DESCRIPTION:Experienced Care leavers team support young people who are facing challenges\, including housing needs.
URL:https://shekinah.co.uk/event/care-leavers-drop-in/2030-02-20/
LOCATION:Endeavour House\, Torquay
CATEGORIES:Learning Exchange
END:VEVENT
BEGIN:VEVENT
DTSTART;TZID=UTC:20300220T130000
DTEND;TZID=UTC:20300220T160000
DTSTAMP:20260424T155446
CREATED:20241009T072322Z
LAST-MODIFIED:20251119T112928Z
UID:10009706-1897822800-1897833600@shekinah.co.uk
SUMMARY:Drop in Mental health Recovery practitioners
DESCRIPTION:
URL:https://shekinah.co.uk/event/drop-in-mental-health-recovery-practitioners/2030-02-20/
LOCATION:Endeavour House\, Torquay
CATEGORIES:Mental Health
END:VEVENT
BEGIN:VEVENT
DTSTART;TZID=UTC:20300220T130000
DTEND;TZID=UTC:20300220T160000
DTSTAMP:20260424T155446
CREATED:20241128T120358Z
LAST-MODIFIED:20251119T113026Z
UID:10009756-1897822800-1897833600@shekinah.co.uk
SUMMARY:Mental Health Drop In
DESCRIPTION:
URL:https://shekinah.co.uk/event/mental-health-drop-in/2030-02-20/
LOCATION:Endeavour House\, Torquay
CATEGORIES:Mental Health
END:VEVENT
BEGIN:VEVENT
DTSTART;TZID=UTC:20300221T093000
DTEND;TZID=UTC:20300221T160000
DTSTAMP:20260424T155446
CREATED:20250224T144758Z
LAST-MODIFIED:20251119T113200Z
UID:10008342-1897896600-1897920000@shekinah.co.uk
SUMMARY:Women's Wellness day
DESCRIPTION:
URL:https://shekinah.co.uk/event/womens-wellness-day/2030-02-21/
LOCATION:Endeavour House\, Torquay
CATEGORIES:Drop in,Learning Exchange,Mental Health
END:VEVENT
BEGIN:VEVENT
DTSTART;TZID=UTC:20300221T101500
DTEND;TZID=UTC:20300221T121500
DTSTAMP:20260424T155446
CREATED:20241009T072441Z
LAST-MODIFIED:20251119T113302Z
UID:10009843-1897899300-1897906500@shekinah.co.uk
SUMMARY:Torbay Woman Circle
DESCRIPTION:
URL:https://shekinah.co.uk/event/torbay-woman-circle/2030-02-21/
LOCATION:Endeavour House\, Torquay
CATEGORIES:Learning Exchange
END:VEVENT
BEGIN:VEVENT
DTSTART;TZID=UTC:20300221T123000
DTEND;TZID=UTC:20300221T143000
DTSTAMP:20260424T155446
CREATED:20260320T105442Z
LAST-MODIFIED:20260320T105442Z
UID:10011533-1897907400-1897914600@shekinah.co.uk
SUMMARY:Woman's Circle Thursdays
DESCRIPTION:
URL:https://shekinah.co.uk/event/womans-circle-thursdays/2030-02-21/
LOCATION:Endeavour House\, Torquay
CATEGORIES:Learning Exchange
END:VEVENT
BEGIN:VEVENT
DTSTART;TZID=UTC:20300221T143000
DTEND;TZID=UTC:20300221T163000
DTSTAMP:20260424T155446
CREATED:20241009T072549Z
LAST-MODIFIED:20251119T113406Z
UID:10009892-1897914600-1897921800@shekinah.co.uk
SUMMARY:Coproduction
DESCRIPTION:
URL:https://shekinah.co.uk/event/coproduction/2030-02-21/
LOCATION:Endeavour House\, Torquay
CATEGORIES:Learning Exchange
END:VEVENT
BEGIN:VEVENT
DTSTART;TZID=UTC:20300221T170000
DTEND;TZID=UTC:20300221T190000
DTSTAMP:20260424T155446
CREATED:20241219T141624Z
LAST-MODIFIED:20251119T113523Z
UID:10009940-1897923600-1897930800@shekinah.co.uk
SUMMARY:Girl’s Circle
DESCRIPTION:A program for Girls aged 8-12years providing an emotionally safe and creative space. A way to make new friends\, socialise support one another using their\nauthentic voice\, play and having fun.\nContact info Joanna Kamionkova – kamionkova@gmail.com
URL:https://shekinah.co.uk/event/womens-pathway-to-wellness/2030-02-21/
LOCATION:Endeavour House\, Torquay
CATEGORIES:Learning Exchange
END:VEVENT
BEGIN:VEVENT
DTSTART;TZID=UTC:20300221T190000
DTEND;TZID=UTC:20300221T210000
DTSTAMP:20260424T155446
CREATED:20250224T144602Z
LAST-MODIFIED:20250224T144602Z
UID:10008081-1897930800-1897938000@shekinah.co.uk
SUMMARY:NA
DESCRIPTION:A non- profit society of men and women for who drugs had become an issue. No\nappointment needed. Please Contact for more info 0300 999 1212
URL:https://shekinah.co.uk/event/na-3/2030-02-21/
LOCATION:Endeavour House\, Torquay
CATEGORIES:Drop in,Learning Exchange,Mental Health
END:VEVENT
BEGIN:VEVENT
DTSTART;TZID=UTC:20300222T141500
DTEND;TZID=UTC:20300222T153000
DTSTAMP:20260424T155446
CREATED:20241009T073050Z
LAST-MODIFIED:20260319T091733Z
UID:10010303-1898000100-1898004600@shekinah.co.uk
SUMMARY:SMART
DESCRIPTION:
URL:https://shekinah.co.uk/event/smart-2/2030-02-22/
LOCATION:Endeavour House\, Torquay
CATEGORIES:Learning Exchange
END:VEVENT
BEGIN:VEVENT
DTSTART;TZID=UTC:20300222T170000
DTEND;TZID=UTC:20300222T190000
DTSTAMP:20260424T155446
CREATED:20241009T073412Z
LAST-MODIFIED:20251119T114421Z
UID:10010245-1898010000-1898017200@shekinah.co.uk
SUMMARY:Girls Circle 8-11yrs only
DESCRIPTION:
URL:https://shekinah.co.uk/event/girls-circle-8-11yrs-only/2030-02-22/
LOCATION:Endeavour House\, Torquay
CATEGORIES:Learning Exchange
END:VEVENT
BEGIN:VEVENT
DTSTART;TZID=UTC:20300224T183000
DTEND;TZID=UTC:20300224T203000
DTSTAMP:20260424T155446
CREATED:20250224T145359Z
LAST-MODIFIED:20250224T145359Z
UID:10008603-1898188200-1898195400@shekinah.co.uk
SUMMARY:NA
DESCRIPTION:A non- profit society of men and women for who drugs had become an issue. No appointment needed. Please contact for more info 0300 999 1212.
URL:https://shekinah.co.uk/event/na-4/2030-02-24/
LOCATION:Endeavour House\, Torquay
CATEGORIES:Drop in,Mental Health
END:VEVENT
BEGIN:VEVENT
DTSTART;TZID=UTC:20300225T190000
DTEND;TZID=UTC:20300225T210000
DTSTAMP:20260424T155446
CREATED:20241217T082922Z
LAST-MODIFIED:20260319T085708Z
UID:10011218-1898276400-1898283600@shekinah.co.uk
SUMMARY:Andy's Man Club
DESCRIPTION:This is a support group (survivors of DV/SV) solely for men.
URL:https://shekinah.co.uk/event/andys-man-club/2030-02-25/
LOCATION:Endeavour House\, Torquay
CATEGORIES:Mental Health
END:VEVENT
BEGIN:VEVENT
DTSTART;TZID=UTC:20300226T110000
DTEND;TZID=UTC:20300226T130000
DTSTAMP:20260424T155446
CREATED:20260114T072652Z
LAST-MODIFIED:20260114T072854Z
UID:10010825-1898334000-1898341200@shekinah.co.uk
SUMMARY:Breathing Spaces drop in
DESCRIPTION:Support for parents after the removal of a child. \nBreathing Space is a voluntary support service. We can offer support to any parent living in Torbay\, who has had a child removed from their care. Our team will help you to decide which parts of your life you would most like support with and we will help you to make a plan.
URL:https://shekinah.co.uk/event/breathing-spaces-drop-in/2030-02-26/
LOCATION:Endeavour House\, Torquay
CATEGORIES:Learning Exchange
END:VEVENT
BEGIN:VEVENT
DTSTART;TZID=UTC:20300226T120000
DTEND;TZID=UTC:20300226T130000
DTSTAMP:20260424T155446
CREATED:20241009T071855Z
LAST-MODIFIED:20251119T113733Z
UID:10010039-1898337600-1898341200@shekinah.co.uk
SUMMARY:Reediness for change
DESCRIPTION:
URL:https://shekinah.co.uk/event/reediness-for-change/2030-02-26/
LOCATION:Endeavour House\, Torquay
CATEGORIES:Learning Exchange
END:VEVENT
BEGIN:VEVENT
DTSTART;TZID=UTC:20300226T130000
DTEND;TZID=UTC:20300226T140000
DTSTAMP:20260424T155446
CREATED:20241009T072103Z
LAST-MODIFIED:20251119T113824Z
UID:10010089-1898341200-1898344800@shekinah.co.uk
SUMMARY:Kens coffee group
DESCRIPTION:
URL:https://shekinah.co.uk/event/kens-coffee-group/2030-02-26/
LOCATION:Endeavour House\, Torquay
CATEGORIES:Learning Exchange
END:VEVENT
BEGIN:VEVENT
DTSTART;TZID=UTC:20300226T130000
DTEND;TZID=UTC:20300226T140000
DTSTAMP:20260424T155446
CREATED:20241219T140724Z
LAST-MODIFIED:20251119T113906Z
UID:10010137-1898341200-1898344800@shekinah.co.uk
SUMMARY:Christian Talk
DESCRIPTION:A friendly peer support group\, why not come along and meet Ken and friends. Coffee\, cake\, sharing story’s all welcome.
URL:https://shekinah.co.uk/event/christian-talk/2030-02-26/
LOCATION:Endeavour House\, Torquay
CATEGORIES:Learning Exchange
END:VEVENT
BEGIN:VEVENT
DTSTART;TZID=UTC:20300226T141500
DTEND;TZID=UTC:20300226T153000
DTSTAMP:20260424T155446
CREATED:20260319T091612Z
LAST-MODIFIED:20260319T091612Z
UID:10010187-1898345700-1898350200@shekinah.co.uk
SUMMARY:SMART
DESCRIPTION:
URL:https://shekinah.co.uk/event/smart-4/2030-02-26/
LOCATION:Endeavour House\, Torquay
CATEGORIES:Learning Exchange
END:VEVENT
BEGIN:VEVENT
DTSTART;TZID=UTC:20300227T100000
DTEND;TZID=UTC:20300227T140000
DTSTAMP:20260424T155446
CREATED:20260114T073311Z
LAST-MODIFIED:20260114T073311Z
UID:10011181-1898416800-1898431200@shekinah.co.uk
SUMMARY:ECOE - Drop in
DESCRIPTION:Enabling local people to own renewable energy & energy saving projects.
URL:https://shekinah.co.uk/event/ecoe-drop-in/2030-02-27/
LOCATION:Endeavour House\, Torquay
CATEGORIES:Learning Exchange
END:VEVENT
BEGIN:VEVENT
DTSTART;TZID=UTC:20300227T110000
DTEND;TZID=UTC:20300227T120000
DTSTAMP:20260424T155446
CREATED:20241009T072201Z
LAST-MODIFIED:20251119T113638Z
UID:10009990-1898420400-1898424000@shekinah.co.uk
SUMMARY:SMART Woman's group
DESCRIPTION:
URL:https://shekinah.co.uk/event/smart-womans-group/2030-02-27/
LOCATION:Endeavour House\, Torquay
CATEGORIES:Learning Exchange
END:VEVENT
BEGIN:VEVENT
DTSTART;TZID=UTC:20300227T110000
DTEND;TZID=UTC:20300227T130000
DTSTAMP:20260424T155446
CREATED:20241009T072239Z
LAST-MODIFIED:20251119T112504Z
UID:10009658-1898420400-1898427600@shekinah.co.uk
SUMMARY:Wellness drop in
DESCRIPTION:
URL:https://shekinah.co.uk/event/wellness-drop-in/2030-02-27/
LOCATION:Endeavour House\, Torquay
CATEGORIES:Learning Exchange
END:VEVENT
BEGIN:VEVENT
DTSTART;TZID=UTC:20300227T110000
DTEND;TZID=UTC:20300227T160000
DTSTAMP:20260424T155446
CREATED:20260114T073047Z
LAST-MODIFIED:20260114T073047Z
UID:10011086-1898420400-1898438400@shekinah.co.uk
SUMMARY:Care leavers Drop in
DESCRIPTION:Experienced Care leavers team support young people who are facing challenges\, including housing needs.
URL:https://shekinah.co.uk/event/care-leavers-drop-in/2030-02-27/
LOCATION:Endeavour House\, Torquay
CATEGORIES:Learning Exchange
END:VEVENT
BEGIN:VEVENT
DTSTART;TZID=UTC:20300227T130000
DTEND;TZID=UTC:20300227T160000
DTSTAMP:20260424T155446
CREATED:20241009T072322Z
LAST-MODIFIED:20251119T112928Z
UID:10009707-1898427600-1898438400@shekinah.co.uk
SUMMARY:Drop in Mental health Recovery practitioners
DESCRIPTION:
URL:https://shekinah.co.uk/event/drop-in-mental-health-recovery-practitioners/2030-02-27/
LOCATION:Endeavour House\, Torquay
CATEGORIES:Mental Health
END:VEVENT
BEGIN:VEVENT
DTSTART;TZID=UTC:20300227T130000
DTEND;TZID=UTC:20300227T160000
DTSTAMP:20260424T155446
CREATED:20241128T120358Z
LAST-MODIFIED:20251119T113026Z
UID:10009757-1898427600-1898438400@shekinah.co.uk
SUMMARY:Mental Health Drop In
DESCRIPTION:
URL:https://shekinah.co.uk/event/mental-health-drop-in/2030-02-27/
LOCATION:Endeavour House\, Torquay
CATEGORIES:Mental Health
END:VEVENT
BEGIN:VEVENT
DTSTART;TZID=UTC:20300228T093000
DTEND;TZID=UTC:20300228T160000
DTSTAMP:20260424T155446
CREATED:20250224T144758Z
LAST-MODIFIED:20251119T113200Z
UID:10009795-1898501400-1898524800@shekinah.co.uk
SUMMARY:Women's Wellness day
DESCRIPTION:
URL:https://shekinah.co.uk/event/womens-wellness-day/2030-02-28/
LOCATION:Endeavour House\, Torquay
CATEGORIES:Drop in,Learning Exchange,Mental Health
END:VEVENT
BEGIN:VEVENT
DTSTART;TZID=UTC:20300228T101500
DTEND;TZID=UTC:20300228T121500
DTSTAMP:20260424T155446
CREATED:20241009T072441Z
LAST-MODIFIED:20251119T113302Z
UID:10009844-1898504100-1898511300@shekinah.co.uk
SUMMARY:Torbay Woman Circle
DESCRIPTION:
URL:https://shekinah.co.uk/event/torbay-woman-circle/2030-02-28/
LOCATION:Endeavour House\, Torquay
CATEGORIES:Learning Exchange
END:VEVENT
BEGIN:VEVENT
DTSTART;TZID=UTC:20300228T123000
DTEND;TZID=UTC:20300228T143000
DTSTAMP:20260424T155446
CREATED:20260320T105442Z
LAST-MODIFIED:20260320T105442Z
UID:10011534-1898512200-1898519400@shekinah.co.uk
SUMMARY:Woman's Circle Thursdays
DESCRIPTION:
URL:https://shekinah.co.uk/event/womans-circle-thursdays/2030-02-28/
LOCATION:Endeavour House\, Torquay
CATEGORIES:Learning Exchange
END:VEVENT
BEGIN:VEVENT
DTSTART;TZID=UTC:20300228T143000
DTEND;TZID=UTC:20300228T163000
DTSTAMP:20260424T155446
CREATED:20241009T072549Z
LAST-MODIFIED:20251119T113406Z
UID:10009893-1898519400-1898526600@shekinah.co.uk
SUMMARY:Coproduction
DESCRIPTION:
URL:https://shekinah.co.uk/event/coproduction/2030-02-28/
LOCATION:Endeavour House\, Torquay
CATEGORIES:Learning Exchange
END:VEVENT
END:VCALENDAR