BEGIN:VCALENDAR
VERSION:2.0
PRODID:-//Shekinah - ECPv6.15.18//NONSGML v1.0//EN
CALSCALE:GREGORIAN
METHOD:PUBLISH
X-ORIGINAL-URL:https://shekinah.co.uk
X-WR-CALDESC:Events for Shekinah
REFRESH-INTERVAL;VALUE=DURATION:PT1H
X-Robots-Tag:noindex
X-PUBLISHED-TTL:PT1H
BEGIN:VTIMEZONE
TZID:UTC
BEGIN:STANDARD
TZOFFSETFROM:+0000
TZOFFSETTO:+0000
TZNAME:UTC
DTSTART:20290101T000000
END:STANDARD
END:VTIMEZONE
BEGIN:VEVENT
DTSTART;TZID=UTC:20300308T170000
DTEND;TZID=UTC:20300308T190000
DTSTAMP:20260424T221049
CREATED:20241009T073412Z
LAST-MODIFIED:20251119T114421Z
UID:10010247-1899219600-1899226800@shekinah.co.uk
SUMMARY:Girls Circle 8-11yrs only
DESCRIPTION:
URL:https://shekinah.co.uk/event/girls-circle-8-11yrs-only/2030-03-08/
LOCATION:Endeavour House\, Torquay
CATEGORIES:Learning Exchange
END:VEVENT
BEGIN:VEVENT
DTSTART;TZID=UTC:20300311T190000
DTEND;TZID=UTC:20300311T210000
DTSTAMP:20260424T221049
CREATED:20241217T082922Z
LAST-MODIFIED:20260319T085708Z
UID:10011220-1899486000-1899493200@shekinah.co.uk
SUMMARY:Andy's Man Club
DESCRIPTION:This is a support group (survivors of DV/SV) solely for men.
URL:https://shekinah.co.uk/event/andys-man-club/2030-03-11/
LOCATION:Endeavour House\, Torquay
CATEGORIES:Mental Health
END:VEVENT
BEGIN:VEVENT
DTSTART;TZID=UTC:20300312T110000
DTEND;TZID=UTC:20300312T130000
DTSTAMP:20260424T221049
CREATED:20260114T072652Z
LAST-MODIFIED:20260114T072854Z
UID:10010827-1899543600-1899550800@shekinah.co.uk
SUMMARY:Breathing Spaces drop in
DESCRIPTION:Support for parents after the removal of a child. \nBreathing Space is a voluntary support service. We can offer support to any parent living in Torbay\, who has had a child removed from their care. Our team will help you to decide which parts of your life you would most like support with and we will help you to make a plan.
URL:https://shekinah.co.uk/event/breathing-spaces-drop-in/2030-03-12/
LOCATION:Endeavour House\, Torquay
CATEGORIES:Learning Exchange
END:VEVENT
BEGIN:VEVENT
DTSTART;TZID=UTC:20300312T120000
DTEND;TZID=UTC:20300312T130000
DTSTAMP:20260424T221049
CREATED:20241009T071855Z
LAST-MODIFIED:20251119T113733Z
UID:10010041-1899547200-1899550800@shekinah.co.uk
SUMMARY:Reediness for change
DESCRIPTION:
URL:https://shekinah.co.uk/event/reediness-for-change/2030-03-12/
LOCATION:Endeavour House\, Torquay
CATEGORIES:Learning Exchange
END:VEVENT
BEGIN:VEVENT
DTSTART;TZID=UTC:20300312T130000
DTEND;TZID=UTC:20300312T140000
DTSTAMP:20260424T221049
CREATED:20241009T072103Z
LAST-MODIFIED:20251119T113824Z
UID:10010091-1899550800-1899554400@shekinah.co.uk
SUMMARY:Kens coffee group
DESCRIPTION:
URL:https://shekinah.co.uk/event/kens-coffee-group/2030-03-12/
LOCATION:Endeavour House\, Torquay
CATEGORIES:Learning Exchange
END:VEVENT
BEGIN:VEVENT
DTSTART;TZID=UTC:20300312T130000
DTEND;TZID=UTC:20300312T140000
DTSTAMP:20260424T221049
CREATED:20241219T140724Z
LAST-MODIFIED:20251119T113906Z
UID:10010139-1899550800-1899554400@shekinah.co.uk
SUMMARY:Christian Talk
DESCRIPTION:A friendly peer support group\, why not come along and meet Ken and friends. Coffee\, cake\, sharing story’s all welcome.
URL:https://shekinah.co.uk/event/christian-talk/2030-03-12/
LOCATION:Endeavour House\, Torquay
CATEGORIES:Learning Exchange
END:VEVENT
BEGIN:VEVENT
DTSTART;TZID=UTC:20300312T141500
DTEND;TZID=UTC:20300312T153000
DTSTAMP:20260424T221049
CREATED:20260319T091612Z
LAST-MODIFIED:20260319T091612Z
UID:10010189-1899555300-1899559800@shekinah.co.uk
SUMMARY:SMART
DESCRIPTION:
URL:https://shekinah.co.uk/event/smart-4/2030-03-12/
LOCATION:Endeavour House\, Torquay
CATEGORIES:Learning Exchange
END:VEVENT
BEGIN:VEVENT
DTSTART;TZID=UTC:20300313T110000
DTEND;TZID=UTC:20300313T120000
DTSTAMP:20260424T221049
CREATED:20241009T072201Z
LAST-MODIFIED:20251119T113638Z
UID:10009992-1899630000-1899633600@shekinah.co.uk
SUMMARY:SMART Woman's group
DESCRIPTION:
URL:https://shekinah.co.uk/event/smart-womans-group/2030-03-13/
LOCATION:Endeavour House\, Torquay
CATEGORIES:Learning Exchange
END:VEVENT
BEGIN:VEVENT
DTSTART;TZID=UTC:20300313T110000
DTEND;TZID=UTC:20300313T130000
DTSTAMP:20260424T221049
CREATED:20241009T072239Z
LAST-MODIFIED:20251119T112504Z
UID:10009660-1899630000-1899637200@shekinah.co.uk
SUMMARY:Wellness drop in
DESCRIPTION:
URL:https://shekinah.co.uk/event/wellness-drop-in/2030-03-13/
LOCATION:Endeavour House\, Torquay
CATEGORIES:Learning Exchange
END:VEVENT
BEGIN:VEVENT
DTSTART;TZID=UTC:20300313T110000
DTEND;TZID=UTC:20300313T160000
DTSTAMP:20260424T221049
CREATED:20260114T073047Z
LAST-MODIFIED:20260114T073047Z
UID:10011088-1899630000-1899648000@shekinah.co.uk
SUMMARY:Care leavers Drop in
DESCRIPTION:Experienced Care leavers team support young people who are facing challenges\, including housing needs.
URL:https://shekinah.co.uk/event/care-leavers-drop-in/2030-03-13/
LOCATION:Endeavour House\, Torquay
CATEGORIES:Learning Exchange
END:VEVENT
BEGIN:VEVENT
DTSTART;TZID=UTC:20300313T130000
DTEND;TZID=UTC:20300313T160000
DTSTAMP:20260424T221049
CREATED:20241009T072322Z
LAST-MODIFIED:20251119T112928Z
UID:10009709-1899637200-1899648000@shekinah.co.uk
SUMMARY:Drop in Mental health Recovery practitioners
DESCRIPTION:
URL:https://shekinah.co.uk/event/drop-in-mental-health-recovery-practitioners/2030-03-13/
LOCATION:Endeavour House\, Torquay
CATEGORIES:Mental Health
END:VEVENT
BEGIN:VEVENT
DTSTART;TZID=UTC:20300313T130000
DTEND;TZID=UTC:20300313T160000
DTSTAMP:20260424T221049
CREATED:20241128T120358Z
LAST-MODIFIED:20251119T113026Z
UID:10009759-1899637200-1899648000@shekinah.co.uk
SUMMARY:Mental Health Drop In
DESCRIPTION:
URL:https://shekinah.co.uk/event/mental-health-drop-in/2030-03-13/
LOCATION:Endeavour House\, Torquay
CATEGORIES:Mental Health
END:VEVENT
BEGIN:VEVENT
DTSTART;TZID=UTC:20300314T093000
DTEND;TZID=UTC:20300314T160000
DTSTAMP:20260424T221049
CREATED:20250224T144758Z
LAST-MODIFIED:20251119T113200Z
UID:10009797-1899711000-1899734400@shekinah.co.uk
SUMMARY:Women's Wellness day
DESCRIPTION:
URL:https://shekinah.co.uk/event/womens-wellness-day/2030-03-14/
LOCATION:Endeavour House\, Torquay
CATEGORIES:Drop in,Learning Exchange,Mental Health
END:VEVENT
BEGIN:VEVENT
DTSTART;TZID=UTC:20300314T101500
DTEND;TZID=UTC:20300314T121500
DTSTAMP:20260424T221049
CREATED:20241009T072441Z
LAST-MODIFIED:20251119T113302Z
UID:10009846-1899713700-1899720900@shekinah.co.uk
SUMMARY:Torbay Woman Circle
DESCRIPTION:
URL:https://shekinah.co.uk/event/torbay-woman-circle/2030-03-14/
LOCATION:Endeavour House\, Torquay
CATEGORIES:Learning Exchange
END:VEVENT
BEGIN:VEVENT
DTSTART;TZID=UTC:20300314T123000
DTEND;TZID=UTC:20300314T143000
DTSTAMP:20260424T221049
CREATED:20260320T105442Z
LAST-MODIFIED:20260320T105442Z
UID:10011536-1899721800-1899729000@shekinah.co.uk
SUMMARY:Woman's Circle Thursdays
DESCRIPTION:
URL:https://shekinah.co.uk/event/womans-circle-thursdays/2030-03-14/
LOCATION:Endeavour House\, Torquay
CATEGORIES:Learning Exchange
END:VEVENT
BEGIN:VEVENT
DTSTART;TZID=UTC:20300314T143000
DTEND;TZID=UTC:20300314T163000
DTSTAMP:20260424T221049
CREATED:20241009T072549Z
LAST-MODIFIED:20251119T113406Z
UID:10009895-1899729000-1899736200@shekinah.co.uk
SUMMARY:Coproduction
DESCRIPTION:
URL:https://shekinah.co.uk/event/coproduction/2030-03-14/
LOCATION:Endeavour House\, Torquay
CATEGORIES:Learning Exchange
END:VEVENT
BEGIN:VEVENT
DTSTART;TZID=UTC:20300314T170000
DTEND;TZID=UTC:20300314T190000
DTSTAMP:20260424T221049
CREATED:20241219T141624Z
LAST-MODIFIED:20251119T113523Z
UID:10009943-1899738000-1899745200@shekinah.co.uk
SUMMARY:Girl’s Circle
DESCRIPTION:A program for Girls aged 8-12years providing an emotionally safe and creative space. A way to make new friends\, socialise support one another using their\nauthentic voice\, play and having fun.\nContact info Joanna Kamionkova – kamionkova@gmail.com
URL:https://shekinah.co.uk/event/womens-pathway-to-wellness/2030-03-14/
LOCATION:Endeavour House\, Torquay
CATEGORIES:Learning Exchange
END:VEVENT
BEGIN:VEVENT
DTSTART;TZID=UTC:20300315T141500
DTEND;TZID=UTC:20300315T153000
DTSTAMP:20260424T221049
CREATED:20241009T073050Z
LAST-MODIFIED:20260319T091733Z
UID:10010306-1899814500-1899819000@shekinah.co.uk
SUMMARY:SMART
DESCRIPTION:
URL:https://shekinah.co.uk/event/smart-2/2030-03-15/
LOCATION:Endeavour House\, Torquay
CATEGORIES:Learning Exchange
END:VEVENT
BEGIN:VEVENT
DTSTART;TZID=UTC:20300315T170000
DTEND;TZID=UTC:20300315T190000
DTSTAMP:20260424T221049
CREATED:20241009T073412Z
LAST-MODIFIED:20251119T114421Z
UID:10010248-1899824400-1899831600@shekinah.co.uk
SUMMARY:Girls Circle 8-11yrs only
DESCRIPTION:
URL:https://shekinah.co.uk/event/girls-circle-8-11yrs-only/2030-03-15/
LOCATION:Endeavour House\, Torquay
CATEGORIES:Learning Exchange
END:VEVENT
BEGIN:VEVENT
DTSTART;TZID=UTC:20300318T190000
DTEND;TZID=UTC:20300318T210000
DTSTAMP:20260424T221049
CREATED:20241217T082922Z
LAST-MODIFIED:20260319T085708Z
UID:10011221-1900090800-1900098000@shekinah.co.uk
SUMMARY:Andy's Man Club
DESCRIPTION:This is a support group (survivors of DV/SV) solely for men.
URL:https://shekinah.co.uk/event/andys-man-club/2030-03-18/
LOCATION:Endeavour House\, Torquay
CATEGORIES:Mental Health
END:VEVENT
BEGIN:VEVENT
DTSTART;TZID=UTC:20300319T110000
DTEND;TZID=UTC:20300319T130000
DTSTAMP:20260424T221049
CREATED:20260114T072652Z
LAST-MODIFIED:20260114T072854Z
UID:10010828-1900148400-1900155600@shekinah.co.uk
SUMMARY:Breathing Spaces drop in
DESCRIPTION:Support for parents after the removal of a child. \nBreathing Space is a voluntary support service. We can offer support to any parent living in Torbay\, who has had a child removed from their care. Our team will help you to decide which parts of your life you would most like support with and we will help you to make a plan.
URL:https://shekinah.co.uk/event/breathing-spaces-drop-in/2030-03-19/
LOCATION:Endeavour House\, Torquay
CATEGORIES:Learning Exchange
END:VEVENT
BEGIN:VEVENT
DTSTART;TZID=UTC:20300319T120000
DTEND;TZID=UTC:20300319T130000
DTSTAMP:20260424T221049
CREATED:20241009T071855Z
LAST-MODIFIED:20251119T113733Z
UID:10010042-1900152000-1900155600@shekinah.co.uk
SUMMARY:Reediness for change
DESCRIPTION:
URL:https://shekinah.co.uk/event/reediness-for-change/2030-03-19/
LOCATION:Endeavour House\, Torquay
CATEGORIES:Learning Exchange
END:VEVENT
BEGIN:VEVENT
DTSTART;TZID=UTC:20300319T130000
DTEND;TZID=UTC:20300319T140000
DTSTAMP:20260424T221049
CREATED:20241009T072103Z
LAST-MODIFIED:20251119T113824Z
UID:10010092-1900155600-1900159200@shekinah.co.uk
SUMMARY:Kens coffee group
DESCRIPTION:
URL:https://shekinah.co.uk/event/kens-coffee-group/2030-03-19/
LOCATION:Endeavour House\, Torquay
CATEGORIES:Learning Exchange
END:VEVENT
BEGIN:VEVENT
DTSTART;TZID=UTC:20300319T130000
DTEND;TZID=UTC:20300319T140000
DTSTAMP:20260424T221049
CREATED:20241219T140724Z
LAST-MODIFIED:20251119T113906Z
UID:10010140-1900155600-1900159200@shekinah.co.uk
SUMMARY:Christian Talk
DESCRIPTION:A friendly peer support group\, why not come along and meet Ken and friends. Coffee\, cake\, sharing story’s all welcome.
URL:https://shekinah.co.uk/event/christian-talk/2030-03-19/
LOCATION:Endeavour House\, Torquay
CATEGORIES:Learning Exchange
END:VEVENT
BEGIN:VEVENT
DTSTART;TZID=UTC:20300319T141500
DTEND;TZID=UTC:20300319T153000
DTSTAMP:20260424T221049
CREATED:20260319T091612Z
LAST-MODIFIED:20260319T091612Z
UID:10010190-1900160100-1900164600@shekinah.co.uk
SUMMARY:SMART
DESCRIPTION:
URL:https://shekinah.co.uk/event/smart-4/2030-03-19/
LOCATION:Endeavour House\, Torquay
CATEGORIES:Learning Exchange
END:VEVENT
BEGIN:VEVENT
DTSTART;TZID=UTC:20300320T110000
DTEND;TZID=UTC:20300320T120000
DTSTAMP:20260424T221049
CREATED:20241009T072201Z
LAST-MODIFIED:20251119T113638Z
UID:10009993-1900234800-1900238400@shekinah.co.uk
SUMMARY:SMART Woman's group
DESCRIPTION:
URL:https://shekinah.co.uk/event/smart-womans-group/2030-03-20/
LOCATION:Endeavour House\, Torquay
CATEGORIES:Learning Exchange
END:VEVENT
BEGIN:VEVENT
DTSTART;TZID=UTC:20300320T110000
DTEND;TZID=UTC:20300320T130000
DTSTAMP:20260424T221049
CREATED:20241009T072239Z
LAST-MODIFIED:20251119T112504Z
UID:10009661-1900234800-1900242000@shekinah.co.uk
SUMMARY:Wellness drop in
DESCRIPTION:
URL:https://shekinah.co.uk/event/wellness-drop-in/2030-03-20/
LOCATION:Endeavour House\, Torquay
CATEGORIES:Learning Exchange
END:VEVENT
BEGIN:VEVENT
DTSTART;TZID=UTC:20300320T110000
DTEND;TZID=UTC:20300320T160000
DTSTAMP:20260424T221049
CREATED:20260114T073047Z
LAST-MODIFIED:20260114T073047Z
UID:10011089-1900234800-1900252800@shekinah.co.uk
SUMMARY:Care leavers Drop in
DESCRIPTION:Experienced Care leavers team support young people who are facing challenges\, including housing needs.
URL:https://shekinah.co.uk/event/care-leavers-drop-in/2030-03-20/
LOCATION:Endeavour House\, Torquay
CATEGORIES:Learning Exchange
END:VEVENT
BEGIN:VEVENT
DTSTART;TZID=UTC:20300320T130000
DTEND;TZID=UTC:20300320T160000
DTSTAMP:20260424T221049
CREATED:20241009T072322Z
LAST-MODIFIED:20251119T112928Z
UID:10009710-1900242000-1900252800@shekinah.co.uk
SUMMARY:Drop in Mental health Recovery practitioners
DESCRIPTION:
URL:https://shekinah.co.uk/event/drop-in-mental-health-recovery-practitioners/2030-03-20/
LOCATION:Endeavour House\, Torquay
CATEGORIES:Mental Health
END:VEVENT
BEGIN:VEVENT
DTSTART;TZID=UTC:20300320T130000
DTEND;TZID=UTC:20300320T160000
DTSTAMP:20260424T221049
CREATED:20241128T120358Z
LAST-MODIFIED:20251119T113026Z
UID:10009760-1900242000-1900252800@shekinah.co.uk
SUMMARY:Mental Health Drop In
DESCRIPTION:
URL:https://shekinah.co.uk/event/mental-health-drop-in/2030-03-20/
LOCATION:Endeavour House\, Torquay
CATEGORIES:Mental Health
END:VEVENT
END:VCALENDAR