BEGIN:VCALENDAR
VERSION:2.0
PRODID:-//Shekinah - ECPv6.15.18//NONSGML v1.0//EN
CALSCALE:GREGORIAN
METHOD:PUBLISH
X-ORIGINAL-URL:https://shekinah.co.uk
X-WR-CALDESC:Events for Shekinah
REFRESH-INTERVAL;VALUE=DURATION:PT1H
X-Robots-Tag:noindex
X-PUBLISHED-TTL:PT1H
BEGIN:VTIMEZONE
TZID:UTC
BEGIN:STANDARD
TZOFFSETFROM:+0000
TZOFFSETTO:+0000
TZNAME:UTC
DTSTART:20290101T000000
END:STANDARD
END:VTIMEZONE
BEGIN:VEVENT
DTSTART;TZID=UTC:20300319T141500
DTEND;TZID=UTC:20300319T153000
DTSTAMP:20260425T014942
CREATED:20260319T091612Z
LAST-MODIFIED:20260319T091612Z
UID:10010190-1900160100-1900164600@shekinah.co.uk
SUMMARY:SMART
DESCRIPTION:
URL:https://shekinah.co.uk/event/smart-4/2030-03-19/
LOCATION:Endeavour House\, Torquay
CATEGORIES:Learning Exchange
END:VEVENT
BEGIN:VEVENT
DTSTART;TZID=UTC:20300320T110000
DTEND;TZID=UTC:20300320T120000
DTSTAMP:20260425T014942
CREATED:20241009T072201Z
LAST-MODIFIED:20251119T113638Z
UID:10009993-1900234800-1900238400@shekinah.co.uk
SUMMARY:SMART Woman's group
DESCRIPTION:
URL:https://shekinah.co.uk/event/smart-womans-group/2030-03-20/
LOCATION:Endeavour House\, Torquay
CATEGORIES:Learning Exchange
END:VEVENT
BEGIN:VEVENT
DTSTART;TZID=UTC:20300320T110000
DTEND;TZID=UTC:20300320T130000
DTSTAMP:20260425T014942
CREATED:20241009T072239Z
LAST-MODIFIED:20251119T112504Z
UID:10009661-1900234800-1900242000@shekinah.co.uk
SUMMARY:Wellness drop in
DESCRIPTION:
URL:https://shekinah.co.uk/event/wellness-drop-in/2030-03-20/
LOCATION:Endeavour House\, Torquay
CATEGORIES:Learning Exchange
END:VEVENT
BEGIN:VEVENT
DTSTART;TZID=UTC:20300320T110000
DTEND;TZID=UTC:20300320T160000
DTSTAMP:20260425T014942
CREATED:20260114T073047Z
LAST-MODIFIED:20260114T073047Z
UID:10011089-1900234800-1900252800@shekinah.co.uk
SUMMARY:Care leavers Drop in
DESCRIPTION:Experienced Care leavers team support young people who are facing challenges\, including housing needs.
URL:https://shekinah.co.uk/event/care-leavers-drop-in/2030-03-20/
LOCATION:Endeavour House\, Torquay
CATEGORIES:Learning Exchange
END:VEVENT
BEGIN:VEVENT
DTSTART;TZID=UTC:20300320T130000
DTEND;TZID=UTC:20300320T160000
DTSTAMP:20260425T014942
CREATED:20241009T072322Z
LAST-MODIFIED:20251119T112928Z
UID:10009710-1900242000-1900252800@shekinah.co.uk
SUMMARY:Drop in Mental health Recovery practitioners
DESCRIPTION:
URL:https://shekinah.co.uk/event/drop-in-mental-health-recovery-practitioners/2030-03-20/
LOCATION:Endeavour House\, Torquay
CATEGORIES:Mental Health
END:VEVENT
BEGIN:VEVENT
DTSTART;TZID=UTC:20300320T130000
DTEND;TZID=UTC:20300320T160000
DTSTAMP:20260425T014942
CREATED:20241128T120358Z
LAST-MODIFIED:20251119T113026Z
UID:10009760-1900242000-1900252800@shekinah.co.uk
SUMMARY:Mental Health Drop In
DESCRIPTION:
URL:https://shekinah.co.uk/event/mental-health-drop-in/2030-03-20/
LOCATION:Endeavour House\, Torquay
CATEGORIES:Mental Health
END:VEVENT
BEGIN:VEVENT
DTSTART;TZID=UTC:20300321T093000
DTEND;TZID=UTC:20300321T160000
DTSTAMP:20260425T014942
CREATED:20250224T144758Z
LAST-MODIFIED:20251119T113200Z
UID:10009798-1900315800-1900339200@shekinah.co.uk
SUMMARY:Women's Wellness day
DESCRIPTION:
URL:https://shekinah.co.uk/event/womens-wellness-day/2030-03-21/
LOCATION:Endeavour House\, Torquay
CATEGORIES:Drop in,Learning Exchange,Mental Health
END:VEVENT
BEGIN:VEVENT
DTSTART;TZID=UTC:20300321T101500
DTEND;TZID=UTC:20300321T121500
DTSTAMP:20260425T014942
CREATED:20241009T072441Z
LAST-MODIFIED:20251119T113302Z
UID:10009847-1900318500-1900325700@shekinah.co.uk
SUMMARY:Torbay Woman Circle
DESCRIPTION:
URL:https://shekinah.co.uk/event/torbay-woman-circle/2030-03-21/
LOCATION:Endeavour House\, Torquay
CATEGORIES:Learning Exchange
END:VEVENT
BEGIN:VEVENT
DTSTART;TZID=UTC:20300321T123000
DTEND;TZID=UTC:20300321T143000
DTSTAMP:20260425T014942
CREATED:20260320T105442Z
LAST-MODIFIED:20260320T105442Z
UID:10011537-1900326600-1900333800@shekinah.co.uk
SUMMARY:Woman's Circle Thursdays
DESCRIPTION:
URL:https://shekinah.co.uk/event/womans-circle-thursdays/2030-03-21/
LOCATION:Endeavour House\, Torquay
CATEGORIES:Learning Exchange
END:VEVENT
BEGIN:VEVENT
DTSTART;TZID=UTC:20300321T143000
DTEND;TZID=UTC:20300321T163000
DTSTAMP:20260425T014943
CREATED:20241009T072549Z
LAST-MODIFIED:20251119T113406Z
UID:10009896-1900333800-1900341000@shekinah.co.uk
SUMMARY:Coproduction
DESCRIPTION:
URL:https://shekinah.co.uk/event/coproduction/2030-03-21/
LOCATION:Endeavour House\, Torquay
CATEGORIES:Learning Exchange
END:VEVENT
BEGIN:VEVENT
DTSTART;TZID=UTC:20300321T170000
DTEND;TZID=UTC:20300321T190000
DTSTAMP:20260425T014943
CREATED:20241219T141624Z
LAST-MODIFIED:20251119T113523Z
UID:10009944-1900342800-1900350000@shekinah.co.uk
SUMMARY:Girl’s Circle
DESCRIPTION:A program for Girls aged 8-12years providing an emotionally safe and creative space. A way to make new friends\, socialise support one another using their\nauthentic voice\, play and having fun.\nContact info Joanna Kamionkova – kamionkova@gmail.com
URL:https://shekinah.co.uk/event/womens-pathway-to-wellness/2030-03-21/
LOCATION:Endeavour House\, Torquay
CATEGORIES:Learning Exchange
END:VEVENT
BEGIN:VEVENT
DTSTART;TZID=UTC:20300322T141500
DTEND;TZID=UTC:20300322T153000
DTSTAMP:20260425T014943
CREATED:20241009T073050Z
LAST-MODIFIED:20260319T091733Z
UID:10010307-1900419300-1900423800@shekinah.co.uk
SUMMARY:SMART
DESCRIPTION:
URL:https://shekinah.co.uk/event/smart-2/2030-03-22/
LOCATION:Endeavour House\, Torquay
CATEGORIES:Learning Exchange
END:VEVENT
BEGIN:VEVENT
DTSTART;TZID=UTC:20300322T170000
DTEND;TZID=UTC:20300322T190000
DTSTAMP:20260425T014943
CREATED:20241009T073412Z
LAST-MODIFIED:20251119T114421Z
UID:10010249-1900429200-1900436400@shekinah.co.uk
SUMMARY:Girls Circle 8-11yrs only
DESCRIPTION:
URL:https://shekinah.co.uk/event/girls-circle-8-11yrs-only/2030-03-22/
LOCATION:Endeavour House\, Torquay
CATEGORIES:Learning Exchange
END:VEVENT
BEGIN:VEVENT
DTSTART;TZID=UTC:20300325T190000
DTEND;TZID=UTC:20300325T210000
DTSTAMP:20260425T014943
CREATED:20241217T082922Z
LAST-MODIFIED:20260319T085708Z
UID:10011222-1900695600-1900702800@shekinah.co.uk
SUMMARY:Andy's Man Club
DESCRIPTION:This is a support group (survivors of DV/SV) solely for men.
URL:https://shekinah.co.uk/event/andys-man-club/2030-03-25/
LOCATION:Endeavour House\, Torquay
CATEGORIES:Mental Health
END:VEVENT
BEGIN:VEVENT
DTSTART;TZID=UTC:20300326T110000
DTEND;TZID=UTC:20300326T130000
DTSTAMP:20260425T014943
CREATED:20260114T072652Z
LAST-MODIFIED:20260114T072854Z
UID:10010829-1900753200-1900760400@shekinah.co.uk
SUMMARY:Breathing Spaces drop in
DESCRIPTION:Support for parents after the removal of a child. \nBreathing Space is a voluntary support service. We can offer support to any parent living in Torbay\, who has had a child removed from their care. Our team will help you to decide which parts of your life you would most like support with and we will help you to make a plan.
URL:https://shekinah.co.uk/event/breathing-spaces-drop-in/2030-03-26/
LOCATION:Endeavour House\, Torquay
CATEGORIES:Learning Exchange
END:VEVENT
BEGIN:VEVENT
DTSTART;TZID=UTC:20300326T120000
DTEND;TZID=UTC:20300326T130000
DTSTAMP:20260425T014943
CREATED:20241009T071855Z
LAST-MODIFIED:20251119T113733Z
UID:10010043-1900756800-1900760400@shekinah.co.uk
SUMMARY:Reediness for change
DESCRIPTION:
URL:https://shekinah.co.uk/event/reediness-for-change/2030-03-26/
LOCATION:Endeavour House\, Torquay
CATEGORIES:Learning Exchange
END:VEVENT
BEGIN:VEVENT
DTSTART;TZID=UTC:20300326T130000
DTEND;TZID=UTC:20300326T140000
DTSTAMP:20260425T014943
CREATED:20241009T072103Z
LAST-MODIFIED:20251119T113824Z
UID:10010093-1900760400-1900764000@shekinah.co.uk
SUMMARY:Kens coffee group
DESCRIPTION:
URL:https://shekinah.co.uk/event/kens-coffee-group/2030-03-26/
LOCATION:Endeavour House\, Torquay
CATEGORIES:Learning Exchange
END:VEVENT
BEGIN:VEVENT
DTSTART;TZID=UTC:20300326T130000
DTEND;TZID=UTC:20300326T140000
DTSTAMP:20260425T014943
CREATED:20241219T140724Z
LAST-MODIFIED:20251119T113906Z
UID:10010141-1900760400-1900764000@shekinah.co.uk
SUMMARY:Christian Talk
DESCRIPTION:A friendly peer support group\, why not come along and meet Ken and friends. Coffee\, cake\, sharing story’s all welcome.
URL:https://shekinah.co.uk/event/christian-talk/2030-03-26/
LOCATION:Endeavour House\, Torquay
CATEGORIES:Learning Exchange
END:VEVENT
BEGIN:VEVENT
DTSTART;TZID=UTC:20300326T141500
DTEND;TZID=UTC:20300326T153000
DTSTAMP:20260425T014943
CREATED:20260319T091612Z
LAST-MODIFIED:20260319T091612Z
UID:10010191-1900764900-1900769400@shekinah.co.uk
SUMMARY:SMART
DESCRIPTION:
URL:https://shekinah.co.uk/event/smart-4/2030-03-26/
LOCATION:Endeavour House\, Torquay
CATEGORIES:Learning Exchange
END:VEVENT
BEGIN:VEVENT
DTSTART;TZID=UTC:20300327T100000
DTEND;TZID=UTC:20300327T140000
DTSTAMP:20260425T014943
CREATED:20260114T073311Z
LAST-MODIFIED:20260114T073311Z
UID:10011182-1900836000-1900850400@shekinah.co.uk
SUMMARY:ECOE - Drop in
DESCRIPTION:Enabling local people to own renewable energy & energy saving projects.
URL:https://shekinah.co.uk/event/ecoe-drop-in/2030-03-27/
LOCATION:Endeavour House\, Torquay
CATEGORIES:Learning Exchange
END:VEVENT
BEGIN:VEVENT
DTSTART;TZID=UTC:20300327T110000
DTEND;TZID=UTC:20300327T120000
DTSTAMP:20260425T014943
CREATED:20241009T072201Z
LAST-MODIFIED:20251119T113638Z
UID:10009994-1900839600-1900843200@shekinah.co.uk
SUMMARY:SMART Woman's group
DESCRIPTION:
URL:https://shekinah.co.uk/event/smart-womans-group/2030-03-27/
LOCATION:Endeavour House\, Torquay
CATEGORIES:Learning Exchange
END:VEVENT
BEGIN:VEVENT
DTSTART;TZID=UTC:20300327T110000
DTEND;TZID=UTC:20300327T130000
DTSTAMP:20260425T014943
CREATED:20241009T072239Z
LAST-MODIFIED:20251119T112504Z
UID:10009662-1900839600-1900846800@shekinah.co.uk
SUMMARY:Wellness drop in
DESCRIPTION:
URL:https://shekinah.co.uk/event/wellness-drop-in/2030-03-27/
LOCATION:Endeavour House\, Torquay
CATEGORIES:Learning Exchange
END:VEVENT
BEGIN:VEVENT
DTSTART;TZID=UTC:20300327T110000
DTEND;TZID=UTC:20300327T160000
DTSTAMP:20260425T014943
CREATED:20260114T073047Z
LAST-MODIFIED:20260114T073047Z
UID:10011090-1900839600-1900857600@shekinah.co.uk
SUMMARY:Care leavers Drop in
DESCRIPTION:Experienced Care leavers team support young people who are facing challenges\, including housing needs.
URL:https://shekinah.co.uk/event/care-leavers-drop-in/2030-03-27/
LOCATION:Endeavour House\, Torquay
CATEGORIES:Learning Exchange
END:VEVENT
BEGIN:VEVENT
DTSTART;TZID=UTC:20300327T130000
DTEND;TZID=UTC:20300327T160000
DTSTAMP:20260425T014943
CREATED:20241009T072322Z
LAST-MODIFIED:20251119T112928Z
UID:10009711-1900846800-1900857600@shekinah.co.uk
SUMMARY:Drop in Mental health Recovery practitioners
DESCRIPTION:
URL:https://shekinah.co.uk/event/drop-in-mental-health-recovery-practitioners/2030-03-27/
LOCATION:Endeavour House\, Torquay
CATEGORIES:Mental Health
END:VEVENT
BEGIN:VEVENT
DTSTART;TZID=UTC:20300327T130000
DTEND;TZID=UTC:20300327T160000
DTSTAMP:20260425T014943
CREATED:20241128T120358Z
LAST-MODIFIED:20251119T113026Z
UID:10009761-1900846800-1900857600@shekinah.co.uk
SUMMARY:Mental Health Drop In
DESCRIPTION:
URL:https://shekinah.co.uk/event/mental-health-drop-in/2030-03-27/
LOCATION:Endeavour House\, Torquay
CATEGORIES:Mental Health
END:VEVENT
BEGIN:VEVENT
DTSTART;TZID=UTC:20300328T093000
DTEND;TZID=UTC:20300328T160000
DTSTAMP:20260425T014943
CREATED:20250224T144758Z
LAST-MODIFIED:20251119T113200Z
UID:10009799-1900920600-1900944000@shekinah.co.uk
SUMMARY:Women's Wellness day
DESCRIPTION:
URL:https://shekinah.co.uk/event/womens-wellness-day/2030-03-28/
LOCATION:Endeavour House\, Torquay
CATEGORIES:Drop in,Learning Exchange,Mental Health
END:VEVENT
BEGIN:VEVENT
DTSTART;TZID=UTC:20300328T101500
DTEND;TZID=UTC:20300328T121500
DTSTAMP:20260425T014943
CREATED:20241009T072441Z
LAST-MODIFIED:20251119T113302Z
UID:10009848-1900923300-1900930500@shekinah.co.uk
SUMMARY:Torbay Woman Circle
DESCRIPTION:
URL:https://shekinah.co.uk/event/torbay-woman-circle/2030-03-28/
LOCATION:Endeavour House\, Torquay
CATEGORIES:Learning Exchange
END:VEVENT
BEGIN:VEVENT
DTSTART;TZID=UTC:20300328T123000
DTEND;TZID=UTC:20300328T143000
DTSTAMP:20260425T014943
CREATED:20260320T105442Z
LAST-MODIFIED:20260320T105442Z
UID:10011538-1900931400-1900938600@shekinah.co.uk
SUMMARY:Woman's Circle Thursdays
DESCRIPTION:
URL:https://shekinah.co.uk/event/womans-circle-thursdays/2030-03-28/
LOCATION:Endeavour House\, Torquay
CATEGORIES:Learning Exchange
END:VEVENT
BEGIN:VEVENT
DTSTART;TZID=UTC:20300328T143000
DTEND;TZID=UTC:20300328T163000
DTSTAMP:20260425T014943
CREATED:20241009T072549Z
LAST-MODIFIED:20251119T113406Z
UID:10009897-1900938600-1900945800@shekinah.co.uk
SUMMARY:Coproduction
DESCRIPTION:
URL:https://shekinah.co.uk/event/coproduction/2030-03-28/
LOCATION:Endeavour House\, Torquay
CATEGORIES:Learning Exchange
END:VEVENT
BEGIN:VEVENT
DTSTART;TZID=UTC:20300328T170000
DTEND;TZID=UTC:20300328T190000
DTSTAMP:20260425T014943
CREATED:20241219T141624Z
LAST-MODIFIED:20251119T113523Z
UID:10009945-1900947600-1900954800@shekinah.co.uk
SUMMARY:Girl’s Circle
DESCRIPTION:A program for Girls aged 8-12years providing an emotionally safe and creative space. A way to make new friends\, socialise support one another using their\nauthentic voice\, play and having fun.\nContact info Joanna Kamionkova – kamionkova@gmail.com
URL:https://shekinah.co.uk/event/womens-pathway-to-wellness/2030-03-28/
LOCATION:Endeavour House\, Torquay
CATEGORIES:Learning Exchange
END:VEVENT
END:VCALENDAR