BEGIN:VCALENDAR
VERSION:2.0
PRODID:-//Shekinah - ECPv6.15.18//NONSGML v1.0//EN
CALSCALE:GREGORIAN
METHOD:PUBLISH
X-ORIGINAL-URL:https://shekinah.co.uk
X-WR-CALDESC:Events for Shekinah
REFRESH-INTERVAL;VALUE=DURATION:PT1H
X-Robots-Tag:noindex
X-PUBLISHED-TTL:PT1H
BEGIN:VTIMEZONE
TZID:UTC
BEGIN:STANDARD
TZOFFSETFROM:+0000
TZOFFSETTO:+0000
TZNAME:UTC
DTSTART:20290101T000000
END:STANDARD
END:VTIMEZONE
BEGIN:VEVENT
DTSTART;TZID=UTC:20300502T170000
DTEND;TZID=UTC:20300502T190000
DTSTAMP:20260425T182834
CREATED:20241219T141624Z
LAST-MODIFIED:20251119T113523Z
UID:10009950-1903971600-1903978800@shekinah.co.uk
SUMMARY:Girl’s Circle
DESCRIPTION:A program for Girls aged 8-12years providing an emotionally safe and creative space. A way to make new friends\, socialise support one another using their\nauthentic voice\, play and having fun.\nContact info Joanna Kamionkova – kamionkova@gmail.com
URL:https://shekinah.co.uk/event/womens-pathway-to-wellness/2030-05-02/
LOCATION:Endeavour House\, Torquay
CATEGORIES:Learning Exchange
END:VEVENT
BEGIN:VEVENT
DTSTART;TZID=UTC:20300503T141500
DTEND;TZID=UTC:20300503T153000
DTSTAMP:20260425T182834
CREATED:20241009T073050Z
LAST-MODIFIED:20260319T091733Z
UID:10010313-1904048100-1904052600@shekinah.co.uk
SUMMARY:SMART
DESCRIPTION:
URL:https://shekinah.co.uk/event/smart-2/2030-05-03/
LOCATION:Endeavour House\, Torquay
CATEGORIES:Learning Exchange
END:VEVENT
BEGIN:VEVENT
DTSTART;TZID=UTC:20300503T170000
DTEND;TZID=UTC:20300503T190000
DTSTAMP:20260425T182834
CREATED:20241009T073412Z
LAST-MODIFIED:20251119T114421Z
UID:10010255-1904058000-1904065200@shekinah.co.uk
SUMMARY:Girls Circle 8-11yrs only
DESCRIPTION:
URL:https://shekinah.co.uk/event/girls-circle-8-11yrs-only/2030-05-03/
LOCATION:Endeavour House\, Torquay
CATEGORIES:Learning Exchange
END:VEVENT
BEGIN:VEVENT
DTSTART;TZID=UTC:20300506T190000
DTEND;TZID=UTC:20300506T210000
DTSTAMP:20260425T182834
CREATED:20241217T082922Z
LAST-MODIFIED:20260319T085708Z
UID:10011228-1904324400-1904331600@shekinah.co.uk
SUMMARY:Andy's Man Club
DESCRIPTION:This is a support group (survivors of DV/SV) solely for men.
URL:https://shekinah.co.uk/event/andys-man-club/2030-05-06/
LOCATION:Endeavour House\, Torquay
CATEGORIES:Mental Health
END:VEVENT
BEGIN:VEVENT
DTSTART;TZID=UTC:20300507T110000
DTEND;TZID=UTC:20300507T130000
DTSTAMP:20260425T182834
CREATED:20260114T072652Z
LAST-MODIFIED:20260114T072854Z
UID:10010835-1904382000-1904389200@shekinah.co.uk
SUMMARY:Breathing Spaces drop in
DESCRIPTION:Support for parents after the removal of a child. \nBreathing Space is a voluntary support service. We can offer support to any parent living in Torbay\, who has had a child removed from their care. Our team will help you to decide which parts of your life you would most like support with and we will help you to make a plan.
URL:https://shekinah.co.uk/event/breathing-spaces-drop-in/2030-05-07/
LOCATION:Endeavour House\, Torquay
CATEGORIES:Learning Exchange
END:VEVENT
BEGIN:VEVENT
DTSTART;TZID=UTC:20300507T120000
DTEND;TZID=UTC:20300507T130000
DTSTAMP:20260425T182834
CREATED:20241009T071855Z
LAST-MODIFIED:20251119T113733Z
UID:10010049-1904385600-1904389200@shekinah.co.uk
SUMMARY:Reediness for change
DESCRIPTION:
URL:https://shekinah.co.uk/event/reediness-for-change/2030-05-07/
LOCATION:Endeavour House\, Torquay
CATEGORIES:Learning Exchange
END:VEVENT
BEGIN:VEVENT
DTSTART;TZID=UTC:20300507T130000
DTEND;TZID=UTC:20300507T140000
DTSTAMP:20260425T182834
CREATED:20241009T072103Z
LAST-MODIFIED:20251119T113824Z
UID:10010099-1904389200-1904392800@shekinah.co.uk
SUMMARY:Kens coffee group
DESCRIPTION:
URL:https://shekinah.co.uk/event/kens-coffee-group/2030-05-07/
LOCATION:Endeavour House\, Torquay
CATEGORIES:Learning Exchange
END:VEVENT
BEGIN:VEVENT
DTSTART;TZID=UTC:20300507T130000
DTEND;TZID=UTC:20300507T140000
DTSTAMP:20260425T182834
CREATED:20241219T140724Z
LAST-MODIFIED:20251119T113906Z
UID:10010147-1904389200-1904392800@shekinah.co.uk
SUMMARY:Christian Talk
DESCRIPTION:A friendly peer support group\, why not come along and meet Ken and friends. Coffee\, cake\, sharing story’s all welcome.
URL:https://shekinah.co.uk/event/christian-talk/2030-05-07/
LOCATION:Endeavour House\, Torquay
CATEGORIES:Learning Exchange
END:VEVENT
BEGIN:VEVENT
DTSTART;TZID=UTC:20300507T141500
DTEND;TZID=UTC:20300507T153000
DTSTAMP:20260425T182834
CREATED:20260319T091612Z
LAST-MODIFIED:20260319T091612Z
UID:10010197-1904393700-1904398200@shekinah.co.uk
SUMMARY:SMART
DESCRIPTION:
URL:https://shekinah.co.uk/event/smart-4/2030-05-07/
LOCATION:Endeavour House\, Torquay
CATEGORIES:Learning Exchange
END:VEVENT
BEGIN:VEVENT
DTSTART;TZID=UTC:20300508T110000
DTEND;TZID=UTC:20300508T120000
DTSTAMP:20260425T182834
CREATED:20241009T072201Z
LAST-MODIFIED:20251119T113638Z
UID:10010000-1904468400-1904472000@shekinah.co.uk
SUMMARY:SMART Woman's group
DESCRIPTION:
URL:https://shekinah.co.uk/event/smart-womans-group/2030-05-08/
LOCATION:Endeavour House\, Torquay
CATEGORIES:Learning Exchange
END:VEVENT
BEGIN:VEVENT
DTSTART;TZID=UTC:20300508T110000
DTEND;TZID=UTC:20300508T130000
DTSTAMP:20260425T182834
CREATED:20241009T072239Z
LAST-MODIFIED:20251119T112504Z
UID:10009668-1904468400-1904475600@shekinah.co.uk
SUMMARY:Wellness drop in
DESCRIPTION:
URL:https://shekinah.co.uk/event/wellness-drop-in/2030-05-08/
LOCATION:Endeavour House\, Torquay
CATEGORIES:Learning Exchange
END:VEVENT
BEGIN:VEVENT
DTSTART;TZID=UTC:20300508T110000
DTEND;TZID=UTC:20300508T160000
DTSTAMP:20260425T182834
CREATED:20260114T073047Z
LAST-MODIFIED:20260114T073047Z
UID:10011096-1904468400-1904486400@shekinah.co.uk
SUMMARY:Care leavers Drop in
DESCRIPTION:Experienced Care leavers team support young people who are facing challenges\, including housing needs.
URL:https://shekinah.co.uk/event/care-leavers-drop-in/2030-05-08/
LOCATION:Endeavour House\, Torquay
CATEGORIES:Learning Exchange
END:VEVENT
BEGIN:VEVENT
DTSTART;TZID=UTC:20300508T130000
DTEND;TZID=UTC:20300508T160000
DTSTAMP:20260425T182834
CREATED:20241009T072322Z
LAST-MODIFIED:20251119T112928Z
UID:10009717-1904475600-1904486400@shekinah.co.uk
SUMMARY:Drop in Mental health Recovery practitioners
DESCRIPTION:
URL:https://shekinah.co.uk/event/drop-in-mental-health-recovery-practitioners/2030-05-08/
LOCATION:Endeavour House\, Torquay
CATEGORIES:Mental Health
END:VEVENT
BEGIN:VEVENT
DTSTART;TZID=UTC:20300508T130000
DTEND;TZID=UTC:20300508T160000
DTSTAMP:20260425T182834
CREATED:20241128T120358Z
LAST-MODIFIED:20251119T113026Z
UID:10009767-1904475600-1904486400@shekinah.co.uk
SUMMARY:Mental Health Drop In
DESCRIPTION:
URL:https://shekinah.co.uk/event/mental-health-drop-in/2030-05-08/
LOCATION:Endeavour House\, Torquay
CATEGORIES:Mental Health
END:VEVENT
BEGIN:VEVENT
DTSTART;TZID=UTC:20300509T093000
DTEND;TZID=UTC:20300509T160000
DTSTAMP:20260425T182834
CREATED:20250224T144758Z
LAST-MODIFIED:20251119T113200Z
UID:10009805-1904549400-1904572800@shekinah.co.uk
SUMMARY:Women's Wellness day
DESCRIPTION:
URL:https://shekinah.co.uk/event/womens-wellness-day/2030-05-09/
LOCATION:Endeavour House\, Torquay
CATEGORIES:Drop in,Learning Exchange,Mental Health
END:VEVENT
BEGIN:VEVENT
DTSTART;TZID=UTC:20300509T101500
DTEND;TZID=UTC:20300509T121500
DTSTAMP:20260425T182834
CREATED:20241009T072441Z
LAST-MODIFIED:20251119T113302Z
UID:10009854-1904552100-1904559300@shekinah.co.uk
SUMMARY:Torbay Woman Circle
DESCRIPTION:
URL:https://shekinah.co.uk/event/torbay-woman-circle/2030-05-09/
LOCATION:Endeavour House\, Torquay
CATEGORIES:Learning Exchange
END:VEVENT
BEGIN:VEVENT
DTSTART;TZID=UTC:20300509T123000
DTEND;TZID=UTC:20300509T143000
DTSTAMP:20260425T182834
CREATED:20260320T105442Z
LAST-MODIFIED:20260320T105442Z
UID:10011544-1904560200-1904567400@shekinah.co.uk
SUMMARY:Woman's Circle Thursdays
DESCRIPTION:
URL:https://shekinah.co.uk/event/womans-circle-thursdays/2030-05-09/
LOCATION:Endeavour House\, Torquay
CATEGORIES:Learning Exchange
END:VEVENT
BEGIN:VEVENT
DTSTART;TZID=UTC:20300509T143000
DTEND;TZID=UTC:20300509T163000
DTSTAMP:20260425T182834
CREATED:20241009T072549Z
LAST-MODIFIED:20251119T113406Z
UID:10009903-1904567400-1904574600@shekinah.co.uk
SUMMARY:Coproduction
DESCRIPTION:
URL:https://shekinah.co.uk/event/coproduction/2030-05-09/
LOCATION:Endeavour House\, Torquay
CATEGORIES:Learning Exchange
END:VEVENT
BEGIN:VEVENT
DTSTART;TZID=UTC:20300509T170000
DTEND;TZID=UTC:20300509T190000
DTSTAMP:20260425T182834
CREATED:20241219T141624Z
LAST-MODIFIED:20251119T113523Z
UID:10009951-1904576400-1904583600@shekinah.co.uk
SUMMARY:Girl’s Circle
DESCRIPTION:A program for Girls aged 8-12years providing an emotionally safe and creative space. A way to make new friends\, socialise support one another using their\nauthentic voice\, play and having fun.\nContact info Joanna Kamionkova – kamionkova@gmail.com
URL:https://shekinah.co.uk/event/womens-pathway-to-wellness/2030-05-09/
LOCATION:Endeavour House\, Torquay
CATEGORIES:Learning Exchange
END:VEVENT
BEGIN:VEVENT
DTSTART;TZID=UTC:20300510T141500
DTEND;TZID=UTC:20300510T153000
DTSTAMP:20260425T182834
CREATED:20241009T073050Z
LAST-MODIFIED:20260319T091733Z
UID:10010314-1904652900-1904657400@shekinah.co.uk
SUMMARY:SMART
DESCRIPTION:
URL:https://shekinah.co.uk/event/smart-2/2030-05-10/
LOCATION:Endeavour House\, Torquay
CATEGORIES:Learning Exchange
END:VEVENT
BEGIN:VEVENT
DTSTART;TZID=UTC:20300510T170000
DTEND;TZID=UTC:20300510T190000
DTSTAMP:20260425T182834
CREATED:20241009T073412Z
LAST-MODIFIED:20251119T114421Z
UID:10010256-1904662800-1904670000@shekinah.co.uk
SUMMARY:Girls Circle 8-11yrs only
DESCRIPTION:
URL:https://shekinah.co.uk/event/girls-circle-8-11yrs-only/2030-05-10/
LOCATION:Endeavour House\, Torquay
CATEGORIES:Learning Exchange
END:VEVENT
BEGIN:VEVENT
DTSTART;TZID=UTC:20300513T190000
DTEND;TZID=UTC:20300513T210000
DTSTAMP:20260425T182834
CREATED:20241217T082922Z
LAST-MODIFIED:20260319T085708Z
UID:10011229-1904929200-1904936400@shekinah.co.uk
SUMMARY:Andy's Man Club
DESCRIPTION:This is a support group (survivors of DV/SV) solely for men.
URL:https://shekinah.co.uk/event/andys-man-club/2030-05-13/
LOCATION:Endeavour House\, Torquay
CATEGORIES:Mental Health
END:VEVENT
BEGIN:VEVENT
DTSTART;TZID=UTC:20300514T110000
DTEND;TZID=UTC:20300514T130000
DTSTAMP:20260425T182834
CREATED:20260114T072652Z
LAST-MODIFIED:20260114T072854Z
UID:10010836-1904986800-1904994000@shekinah.co.uk
SUMMARY:Breathing Spaces drop in
DESCRIPTION:Support for parents after the removal of a child. \nBreathing Space is a voluntary support service. We can offer support to any parent living in Torbay\, who has had a child removed from their care. Our team will help you to decide which parts of your life you would most like support with and we will help you to make a plan.
URL:https://shekinah.co.uk/event/breathing-spaces-drop-in/2030-05-14/
LOCATION:Endeavour House\, Torquay
CATEGORIES:Learning Exchange
END:VEVENT
BEGIN:VEVENT
DTSTART;TZID=UTC:20300514T120000
DTEND;TZID=UTC:20300514T130000
DTSTAMP:20260425T182834
CREATED:20241009T071855Z
LAST-MODIFIED:20251119T113733Z
UID:10010050-1904990400-1904994000@shekinah.co.uk
SUMMARY:Reediness for change
DESCRIPTION:
URL:https://shekinah.co.uk/event/reediness-for-change/2030-05-14/
LOCATION:Endeavour House\, Torquay
CATEGORIES:Learning Exchange
END:VEVENT
BEGIN:VEVENT
DTSTART;TZID=UTC:20300514T130000
DTEND;TZID=UTC:20300514T140000
DTSTAMP:20260425T182834
CREATED:20241009T072103Z
LAST-MODIFIED:20251119T113824Z
UID:10010100-1904994000-1904997600@shekinah.co.uk
SUMMARY:Kens coffee group
DESCRIPTION:
URL:https://shekinah.co.uk/event/kens-coffee-group/2030-05-14/
LOCATION:Endeavour House\, Torquay
CATEGORIES:Learning Exchange
END:VEVENT
BEGIN:VEVENT
DTSTART;TZID=UTC:20300514T130000
DTEND;TZID=UTC:20300514T140000
DTSTAMP:20260425T182834
CREATED:20241219T140724Z
LAST-MODIFIED:20251119T113906Z
UID:10010148-1904994000-1904997600@shekinah.co.uk
SUMMARY:Christian Talk
DESCRIPTION:A friendly peer support group\, why not come along and meet Ken and friends. Coffee\, cake\, sharing story’s all welcome.
URL:https://shekinah.co.uk/event/christian-talk/2030-05-14/
LOCATION:Endeavour House\, Torquay
CATEGORIES:Learning Exchange
END:VEVENT
BEGIN:VEVENT
DTSTART;TZID=UTC:20300514T141500
DTEND;TZID=UTC:20300514T153000
DTSTAMP:20260425T182834
CREATED:20260319T091612Z
LAST-MODIFIED:20260319T091612Z
UID:10010198-1904998500-1905003000@shekinah.co.uk
SUMMARY:SMART
DESCRIPTION:
URL:https://shekinah.co.uk/event/smart-4/2030-05-14/
LOCATION:Endeavour House\, Torquay
CATEGORIES:Learning Exchange
END:VEVENT
BEGIN:VEVENT
DTSTART;TZID=UTC:20300515T110000
DTEND;TZID=UTC:20300515T120000
DTSTAMP:20260425T182834
CREATED:20241009T072201Z
LAST-MODIFIED:20251119T113638Z
UID:10010001-1905073200-1905076800@shekinah.co.uk
SUMMARY:SMART Woman's group
DESCRIPTION:
URL:https://shekinah.co.uk/event/smart-womans-group/2030-05-15/
LOCATION:Endeavour House\, Torquay
CATEGORIES:Learning Exchange
END:VEVENT
BEGIN:VEVENT
DTSTART;TZID=UTC:20300515T110000
DTEND;TZID=UTC:20300515T130000
DTSTAMP:20260425T182834
CREATED:20241009T072239Z
LAST-MODIFIED:20251119T112504Z
UID:10009669-1905073200-1905080400@shekinah.co.uk
SUMMARY:Wellness drop in
DESCRIPTION:
URL:https://shekinah.co.uk/event/wellness-drop-in/2030-05-15/
LOCATION:Endeavour House\, Torquay
CATEGORIES:Learning Exchange
END:VEVENT
BEGIN:VEVENT
DTSTART;TZID=UTC:20300515T110000
DTEND;TZID=UTC:20300515T160000
DTSTAMP:20260425T182834
CREATED:20260114T073047Z
LAST-MODIFIED:20260114T073047Z
UID:10011097-1905073200-1905091200@shekinah.co.uk
SUMMARY:Care leavers Drop in
DESCRIPTION:Experienced Care leavers team support young people who are facing challenges\, including housing needs.
URL:https://shekinah.co.uk/event/care-leavers-drop-in/2030-05-15/
LOCATION:Endeavour House\, Torquay
CATEGORIES:Learning Exchange
END:VEVENT
END:VCALENDAR