BEGIN:VCALENDAR
VERSION:2.0
PRODID:-//Shekinah - ECPv6.15.18//NONSGML v1.0//EN
CALSCALE:GREGORIAN
METHOD:PUBLISH
X-ORIGINAL-URL:https://shekinah.co.uk
X-WR-CALDESC:Events for Shekinah
REFRESH-INTERVAL;VALUE=DURATION:PT1H
X-Robots-Tag:noindex
X-PUBLISHED-TTL:PT1H
BEGIN:VTIMEZONE
TZID:UTC
BEGIN:STANDARD
TZOFFSETFROM:+0000
TZOFFSETTO:+0000
TZNAME:UTC
DTSTART:20290101T000000
END:STANDARD
END:VTIMEZONE
BEGIN:VEVENT
DTSTART;TZID=UTC:20300522T110000
DTEND;TZID=UTC:20300522T160000
DTSTAMP:20260426T003122
CREATED:20260114T073047Z
LAST-MODIFIED:20260114T073047Z
UID:10011098-1905678000-1905696000@shekinah.co.uk
SUMMARY:Care leavers Drop in
DESCRIPTION:Experienced Care leavers team support young people who are facing challenges\, including housing needs.
URL:https://shekinah.co.uk/event/care-leavers-drop-in/2030-05-22/
LOCATION:Endeavour House\, Torquay
CATEGORIES:Learning Exchange
END:VEVENT
BEGIN:VEVENT
DTSTART;TZID=UTC:20300522T130000
DTEND;TZID=UTC:20300522T160000
DTSTAMP:20260426T003122
CREATED:20241009T072322Z
LAST-MODIFIED:20251119T112928Z
UID:10009719-1905685200-1905696000@shekinah.co.uk
SUMMARY:Drop in Mental health Recovery practitioners
DESCRIPTION:
URL:https://shekinah.co.uk/event/drop-in-mental-health-recovery-practitioners/2030-05-22/
LOCATION:Endeavour House\, Torquay
CATEGORIES:Mental Health
END:VEVENT
BEGIN:VEVENT
DTSTART;TZID=UTC:20300522T130000
DTEND;TZID=UTC:20300522T160000
DTSTAMP:20260426T003122
CREATED:20241128T120358Z
LAST-MODIFIED:20251119T113026Z
UID:10009769-1905685200-1905696000@shekinah.co.uk
SUMMARY:Mental Health Drop In
DESCRIPTION:
URL:https://shekinah.co.uk/event/mental-health-drop-in/2030-05-22/
LOCATION:Endeavour House\, Torquay
CATEGORIES:Mental Health
END:VEVENT
BEGIN:VEVENT
DTSTART;TZID=UTC:20300523T093000
DTEND;TZID=UTC:20300523T160000
DTSTAMP:20260426T003122
CREATED:20250224T144758Z
LAST-MODIFIED:20251119T113200Z
UID:10009807-1905759000-1905782400@shekinah.co.uk
SUMMARY:Women's Wellness day
DESCRIPTION:
URL:https://shekinah.co.uk/event/womens-wellness-day/2030-05-23/
LOCATION:Endeavour House\, Torquay
CATEGORIES:Drop in,Learning Exchange,Mental Health
END:VEVENT
BEGIN:VEVENT
DTSTART;TZID=UTC:20300523T101500
DTEND;TZID=UTC:20300523T121500
DTSTAMP:20260426T003122
CREATED:20241009T072441Z
LAST-MODIFIED:20251119T113302Z
UID:10009856-1905761700-1905768900@shekinah.co.uk
SUMMARY:Torbay Woman Circle
DESCRIPTION:
URL:https://shekinah.co.uk/event/torbay-woman-circle/2030-05-23/
LOCATION:Endeavour House\, Torquay
CATEGORIES:Learning Exchange
END:VEVENT
BEGIN:VEVENT
DTSTART;TZID=UTC:20300523T123000
DTEND;TZID=UTC:20300523T143000
DTSTAMP:20260426T003122
CREATED:20260320T105442Z
LAST-MODIFIED:20260320T105442Z
UID:10011546-1905769800-1905777000@shekinah.co.uk
SUMMARY:Woman's Circle Thursdays
DESCRIPTION:
URL:https://shekinah.co.uk/event/womans-circle-thursdays/2030-05-23/
LOCATION:Endeavour House\, Torquay
CATEGORIES:Learning Exchange
END:VEVENT
BEGIN:VEVENT
DTSTART;TZID=UTC:20300523T143000
DTEND;TZID=UTC:20300523T163000
DTSTAMP:20260426T003122
CREATED:20241009T072549Z
LAST-MODIFIED:20251119T113406Z
UID:10009905-1905777000-1905784200@shekinah.co.uk
SUMMARY:Coproduction
DESCRIPTION:
URL:https://shekinah.co.uk/event/coproduction/2030-05-23/
LOCATION:Endeavour House\, Torquay
CATEGORIES:Learning Exchange
END:VEVENT
BEGIN:VEVENT
DTSTART;TZID=UTC:20300523T170000
DTEND;TZID=UTC:20300523T190000
DTSTAMP:20260426T003122
CREATED:20241219T141624Z
LAST-MODIFIED:20251119T113523Z
UID:10009953-1905786000-1905793200@shekinah.co.uk
SUMMARY:Girl’s Circle
DESCRIPTION:A program for Girls aged 8-12years providing an emotionally safe and creative space. A way to make new friends\, socialise support one another using their\nauthentic voice\, play and having fun.\nContact info Joanna Kamionkova – kamionkova@gmail.com
URL:https://shekinah.co.uk/event/womens-pathway-to-wellness/2030-05-23/
LOCATION:Endeavour House\, Torquay
CATEGORIES:Learning Exchange
END:VEVENT
BEGIN:VEVENT
DTSTART;TZID=UTC:20300524T141500
DTEND;TZID=UTC:20300524T153000
DTSTAMP:20260426T003122
CREATED:20241009T073050Z
LAST-MODIFIED:20260319T091733Z
UID:10010316-1905862500-1905867000@shekinah.co.uk
SUMMARY:SMART
DESCRIPTION:
URL:https://shekinah.co.uk/event/smart-2/2030-05-24/
LOCATION:Endeavour House\, Torquay
CATEGORIES:Learning Exchange
END:VEVENT
BEGIN:VEVENT
DTSTART;TZID=UTC:20300524T170000
DTEND;TZID=UTC:20300524T190000
DTSTAMP:20260426T003122
CREATED:20241009T073412Z
LAST-MODIFIED:20251119T114421Z
UID:10010258-1905872400-1905879600@shekinah.co.uk
SUMMARY:Girls Circle 8-11yrs only
DESCRIPTION:
URL:https://shekinah.co.uk/event/girls-circle-8-11yrs-only/2030-05-24/
LOCATION:Endeavour House\, Torquay
CATEGORIES:Learning Exchange
END:VEVENT
BEGIN:VEVENT
DTSTART;TZID=UTC:20300527T190000
DTEND;TZID=UTC:20300527T210000
DTSTAMP:20260426T003122
CREATED:20241217T082922Z
LAST-MODIFIED:20260319T085708Z
UID:10011231-1906138800-1906146000@shekinah.co.uk
SUMMARY:Andy's Man Club
DESCRIPTION:This is a support group (survivors of DV/SV) solely for men.
URL:https://shekinah.co.uk/event/andys-man-club/2030-05-27/
LOCATION:Endeavour House\, Torquay
CATEGORIES:Mental Health
END:VEVENT
BEGIN:VEVENT
DTSTART;TZID=UTC:20300528T110000
DTEND;TZID=UTC:20300528T130000
DTSTAMP:20260426T003122
CREATED:20260114T072652Z
LAST-MODIFIED:20260114T072854Z
UID:10010838-1906196400-1906203600@shekinah.co.uk
SUMMARY:Breathing Spaces drop in
DESCRIPTION:Support for parents after the removal of a child. \nBreathing Space is a voluntary support service. We can offer support to any parent living in Torbay\, who has had a child removed from their care. Our team will help you to decide which parts of your life you would most like support with and we will help you to make a plan.
URL:https://shekinah.co.uk/event/breathing-spaces-drop-in/2030-05-28/
LOCATION:Endeavour House\, Torquay
CATEGORIES:Learning Exchange
END:VEVENT
BEGIN:VEVENT
DTSTART;TZID=UTC:20300528T120000
DTEND;TZID=UTC:20300528T130000
DTSTAMP:20260426T003122
CREATED:20241009T071855Z
LAST-MODIFIED:20251119T113733Z
UID:10010052-1906200000-1906203600@shekinah.co.uk
SUMMARY:Reediness for change
DESCRIPTION:
URL:https://shekinah.co.uk/event/reediness-for-change/2030-05-28/
LOCATION:Endeavour House\, Torquay
CATEGORIES:Learning Exchange
END:VEVENT
BEGIN:VEVENT
DTSTART;TZID=UTC:20300528T130000
DTEND;TZID=UTC:20300528T140000
DTSTAMP:20260426T003122
CREATED:20241009T072103Z
LAST-MODIFIED:20251119T113824Z
UID:10010102-1906203600-1906207200@shekinah.co.uk
SUMMARY:Kens coffee group
DESCRIPTION:
URL:https://shekinah.co.uk/event/kens-coffee-group/2030-05-28/
LOCATION:Endeavour House\, Torquay
CATEGORIES:Learning Exchange
END:VEVENT
BEGIN:VEVENT
DTSTART;TZID=UTC:20300528T130000
DTEND;TZID=UTC:20300528T140000
DTSTAMP:20260426T003122
CREATED:20241219T140724Z
LAST-MODIFIED:20251119T113906Z
UID:10010150-1906203600-1906207200@shekinah.co.uk
SUMMARY:Christian Talk
DESCRIPTION:A friendly peer support group\, why not come along and meet Ken and friends. Coffee\, cake\, sharing story’s all welcome.
URL:https://shekinah.co.uk/event/christian-talk/2030-05-28/
LOCATION:Endeavour House\, Torquay
CATEGORIES:Learning Exchange
END:VEVENT
BEGIN:VEVENT
DTSTART;TZID=UTC:20300528T141500
DTEND;TZID=UTC:20300528T153000
DTSTAMP:20260426T003122
CREATED:20260319T091612Z
LAST-MODIFIED:20260319T091612Z
UID:10010200-1906208100-1906212600@shekinah.co.uk
SUMMARY:SMART
DESCRIPTION:
URL:https://shekinah.co.uk/event/smart-4/2030-05-28/
LOCATION:Endeavour House\, Torquay
CATEGORIES:Learning Exchange
END:VEVENT
BEGIN:VEVENT
DTSTART;TZID=UTC:20300529T110000
DTEND;TZID=UTC:20300529T120000
DTSTAMP:20260426T003122
CREATED:20241009T072201Z
LAST-MODIFIED:20251119T113638Z
UID:10010003-1906282800-1906286400@shekinah.co.uk
SUMMARY:SMART Woman's group
DESCRIPTION:
URL:https://shekinah.co.uk/event/smart-womans-group/2030-05-29/
LOCATION:Endeavour House\, Torquay
CATEGORIES:Learning Exchange
END:VEVENT
BEGIN:VEVENT
DTSTART;TZID=UTC:20300529T110000
DTEND;TZID=UTC:20300529T130000
DTSTAMP:20260426T003122
CREATED:20241009T072239Z
LAST-MODIFIED:20251119T112504Z
UID:10009671-1906282800-1906290000@shekinah.co.uk
SUMMARY:Wellness drop in
DESCRIPTION:
URL:https://shekinah.co.uk/event/wellness-drop-in/2030-05-29/
LOCATION:Endeavour House\, Torquay
CATEGORIES:Learning Exchange
END:VEVENT
BEGIN:VEVENT
DTSTART;TZID=UTC:20300529T110000
DTEND;TZID=UTC:20300529T160000
DTSTAMP:20260426T003122
CREATED:20260114T073047Z
LAST-MODIFIED:20260114T073047Z
UID:10011099-1906282800-1906300800@shekinah.co.uk
SUMMARY:Care leavers Drop in
DESCRIPTION:Experienced Care leavers team support young people who are facing challenges\, including housing needs.
URL:https://shekinah.co.uk/event/care-leavers-drop-in/2030-05-29/
LOCATION:Endeavour House\, Torquay
CATEGORIES:Learning Exchange
END:VEVENT
BEGIN:VEVENT
DTSTART;TZID=UTC:20300529T130000
DTEND;TZID=UTC:20300529T160000
DTSTAMP:20260426T003122
CREATED:20241009T072322Z
LAST-MODIFIED:20251119T112928Z
UID:10009720-1906290000-1906300800@shekinah.co.uk
SUMMARY:Drop in Mental health Recovery practitioners
DESCRIPTION:
URL:https://shekinah.co.uk/event/drop-in-mental-health-recovery-practitioners/2030-05-29/
LOCATION:Endeavour House\, Torquay
CATEGORIES:Mental Health
END:VEVENT
BEGIN:VEVENT
DTSTART;TZID=UTC:20300529T130000
DTEND;TZID=UTC:20300529T160000
DTSTAMP:20260426T003122
CREATED:20241128T120358Z
LAST-MODIFIED:20251119T113026Z
UID:10009770-1906290000-1906300800@shekinah.co.uk
SUMMARY:Mental Health Drop In
DESCRIPTION:
URL:https://shekinah.co.uk/event/mental-health-drop-in/2030-05-29/
LOCATION:Endeavour House\, Torquay
CATEGORIES:Mental Health
END:VEVENT
BEGIN:VEVENT
DTSTART;TZID=UTC:20300530T093000
DTEND;TZID=UTC:20300530T160000
DTSTAMP:20260426T003122
CREATED:20250224T144758Z
LAST-MODIFIED:20251119T113200Z
UID:10009808-1906363800-1906387200@shekinah.co.uk
SUMMARY:Women's Wellness day
DESCRIPTION:
URL:https://shekinah.co.uk/event/womens-wellness-day/2030-05-30/
LOCATION:Endeavour House\, Torquay
CATEGORIES:Drop in,Learning Exchange,Mental Health
END:VEVENT
BEGIN:VEVENT
DTSTART;TZID=UTC:20300530T101500
DTEND;TZID=UTC:20300530T121500
DTSTAMP:20260426T003122
CREATED:20241009T072441Z
LAST-MODIFIED:20251119T113302Z
UID:10009857-1906366500-1906373700@shekinah.co.uk
SUMMARY:Torbay Woman Circle
DESCRIPTION:
URL:https://shekinah.co.uk/event/torbay-woman-circle/2030-05-30/
LOCATION:Endeavour House\, Torquay
CATEGORIES:Learning Exchange
END:VEVENT
BEGIN:VEVENT
DTSTART;TZID=UTC:20300530T123000
DTEND;TZID=UTC:20300530T143000
DTSTAMP:20260426T003122
CREATED:20260320T105442Z
LAST-MODIFIED:20260320T105442Z
UID:10011547-1906374600-1906381800@shekinah.co.uk
SUMMARY:Woman's Circle Thursdays
DESCRIPTION:
URL:https://shekinah.co.uk/event/womans-circle-thursdays/2030-05-30/
LOCATION:Endeavour House\, Torquay
CATEGORIES:Learning Exchange
END:VEVENT
BEGIN:VEVENT
DTSTART;TZID=UTC:20300530T143000
DTEND;TZID=UTC:20300530T163000
DTSTAMP:20260426T003122
CREATED:20241009T072549Z
LAST-MODIFIED:20251119T113406Z
UID:10009906-1906381800-1906389000@shekinah.co.uk
SUMMARY:Coproduction
DESCRIPTION:
URL:https://shekinah.co.uk/event/coproduction/2030-05-30/
LOCATION:Endeavour House\, Torquay
CATEGORIES:Learning Exchange
END:VEVENT
BEGIN:VEVENT
DTSTART;TZID=UTC:20300530T170000
DTEND;TZID=UTC:20300530T190000
DTSTAMP:20260426T003122
CREATED:20241219T141624Z
LAST-MODIFIED:20251119T113523Z
UID:10009954-1906390800-1906398000@shekinah.co.uk
SUMMARY:Girl’s Circle
DESCRIPTION:A program for Girls aged 8-12years providing an emotionally safe and creative space. A way to make new friends\, socialise support one another using their\nauthentic voice\, play and having fun.\nContact info Joanna Kamionkova – kamionkova@gmail.com
URL:https://shekinah.co.uk/event/womens-pathway-to-wellness/2030-05-30/
LOCATION:Endeavour House\, Torquay
CATEGORIES:Learning Exchange
END:VEVENT
BEGIN:VEVENT
DTSTART;TZID=UTC:20300531T141500
DTEND;TZID=UTC:20300531T153000
DTSTAMP:20260426T003122
CREATED:20241009T073050Z
LAST-MODIFIED:20260319T091733Z
UID:10010317-1906467300-1906471800@shekinah.co.uk
SUMMARY:SMART
DESCRIPTION:
URL:https://shekinah.co.uk/event/smart-2/2030-05-31/
LOCATION:Endeavour House\, Torquay
CATEGORIES:Learning Exchange
END:VEVENT
BEGIN:VEVENT
DTSTART;TZID=UTC:20300531T170000
DTEND;TZID=UTC:20300531T190000
DTSTAMP:20260426T003122
CREATED:20241009T073412Z
LAST-MODIFIED:20251119T114421Z
UID:10010259-1906477200-1906484400@shekinah.co.uk
SUMMARY:Girls Circle 8-11yrs only
DESCRIPTION:
URL:https://shekinah.co.uk/event/girls-circle-8-11yrs-only/2030-05-31/
LOCATION:Endeavour House\, Torquay
CATEGORIES:Learning Exchange
END:VEVENT
BEGIN:VEVENT
DTSTART;TZID=UTC:20300603T190000
DTEND;TZID=UTC:20300603T210000
DTSTAMP:20260426T003122
CREATED:20241217T082922Z
LAST-MODIFIED:20260319T085708Z
UID:10011232-1906743600-1906750800@shekinah.co.uk
SUMMARY:Andy's Man Club
DESCRIPTION:This is a support group (survivors of DV/SV) solely for men.
URL:https://shekinah.co.uk/event/andys-man-club/2030-06-03/
LOCATION:Endeavour House\, Torquay
CATEGORIES:Mental Health
END:VEVENT
BEGIN:VEVENT
DTSTART;TZID=UTC:20300604T110000
DTEND;TZID=UTC:20300604T130000
DTSTAMP:20260426T003122
CREATED:20260114T072652Z
LAST-MODIFIED:20260114T072854Z
UID:10010839-1906801200-1906808400@shekinah.co.uk
SUMMARY:Breathing Spaces drop in
DESCRIPTION:Support for parents after the removal of a child. \nBreathing Space is a voluntary support service. We can offer support to any parent living in Torbay\, who has had a child removed from their care. Our team will help you to decide which parts of your life you would most like support with and we will help you to make a plan.
URL:https://shekinah.co.uk/event/breathing-spaces-drop-in/2030-06-04/
LOCATION:Endeavour House\, Torquay
CATEGORIES:Learning Exchange
END:VEVENT
END:VCALENDAR