BEGIN:VCALENDAR
VERSION:2.0
PRODID:-//Shekinah - ECPv6.15.18//NONSGML v1.0//EN
CALSCALE:GREGORIAN
METHOD:PUBLISH
X-WR-CALNAME:Shekinah
X-ORIGINAL-URL:https://shekinah.co.uk
X-WR-CALDESC:Events for Shekinah
REFRESH-INTERVAL;VALUE=DURATION:PT1H
X-Robots-Tag:noindex
X-PUBLISHED-TTL:PT1H
BEGIN:VTIMEZONE
TZID:UTC
BEGIN:STANDARD
TZOFFSETFROM:+0000
TZOFFSETTO:+0000
TZNAME:UTC
DTSTART:20290101T000000
END:STANDARD
END:VTIMEZONE
BEGIN:VEVENT
DTSTART;TZID=UTC:20300605T110000
DTEND;TZID=UTC:20300605T160000
DTSTAMP:20260426T040101
CREATED:20260114T073047Z
LAST-MODIFIED:20260114T073047Z
UID:10011100-1906887600-1906905600@shekinah.co.uk
SUMMARY:Care leavers Drop in
DESCRIPTION:Experienced Care leavers team support young people who are facing challenges\, including housing needs.
URL:https://shekinah.co.uk/event/care-leavers-drop-in/2030-06-05/
LOCATION:Endeavour House\, Torquay
CATEGORIES:Learning Exchange
END:VEVENT
BEGIN:VEVENT
DTSTART;TZID=UTC:20300605T130000
DTEND;TZID=UTC:20300605T160000
DTSTAMP:20260426T040101
CREATED:20241009T072322Z
LAST-MODIFIED:20251119T112928Z
UID:10009721-1906894800-1906905600@shekinah.co.uk
SUMMARY:Drop in Mental health Recovery practitioners
DESCRIPTION:
URL:https://shekinah.co.uk/event/drop-in-mental-health-recovery-practitioners/2030-06-05/
LOCATION:Endeavour House\, Torquay
CATEGORIES:Mental Health
END:VEVENT
BEGIN:VEVENT
DTSTART;TZID=UTC:20300605T130000
DTEND;TZID=UTC:20300605T160000
DTSTAMP:20260426T040101
CREATED:20241128T120358Z
LAST-MODIFIED:20251119T113026Z
UID:10009771-1906894800-1906905600@shekinah.co.uk
SUMMARY:Mental Health Drop In
DESCRIPTION:
URL:https://shekinah.co.uk/event/mental-health-drop-in/2030-06-05/
LOCATION:Endeavour House\, Torquay
CATEGORIES:Mental Health
END:VEVENT
BEGIN:VEVENT
DTSTART;TZID=UTC:20300606T093000
DTEND;TZID=UTC:20300606T160000
DTSTAMP:20260426T040101
CREATED:20250224T144758Z
LAST-MODIFIED:20251119T113200Z
UID:10009809-1906968600-1906992000@shekinah.co.uk
SUMMARY:Women's Wellness day
DESCRIPTION:
URL:https://shekinah.co.uk/event/womens-wellness-day/2030-06-06/
LOCATION:Endeavour House\, Torquay
CATEGORIES:Drop in,Learning Exchange,Mental Health
END:VEVENT
BEGIN:VEVENT
DTSTART;TZID=UTC:20300606T101500
DTEND;TZID=UTC:20300606T121500
DTSTAMP:20260426T040101
CREATED:20241009T072441Z
LAST-MODIFIED:20251119T113302Z
UID:10009858-1906971300-1906978500@shekinah.co.uk
SUMMARY:Torbay Woman Circle
DESCRIPTION:
URL:https://shekinah.co.uk/event/torbay-woman-circle/2030-06-06/
LOCATION:Endeavour House\, Torquay
CATEGORIES:Learning Exchange
END:VEVENT
BEGIN:VEVENT
DTSTART;TZID=UTC:20300606T123000
DTEND;TZID=UTC:20300606T143000
DTSTAMP:20260426T040101
CREATED:20260320T105442Z
LAST-MODIFIED:20260320T105442Z
UID:10011548-1906979400-1906986600@shekinah.co.uk
SUMMARY:Woman's Circle Thursdays
DESCRIPTION:
URL:https://shekinah.co.uk/event/womans-circle-thursdays/2030-06-06/
LOCATION:Endeavour House\, Torquay
CATEGORIES:Learning Exchange
END:VEVENT
BEGIN:VEVENT
DTSTART;TZID=UTC:20300606T143000
DTEND;TZID=UTC:20300606T163000
DTSTAMP:20260426T040101
CREATED:20241009T072549Z
LAST-MODIFIED:20251119T113406Z
UID:10009907-1906986600-1906993800@shekinah.co.uk
SUMMARY:Coproduction
DESCRIPTION:
URL:https://shekinah.co.uk/event/coproduction/2030-06-06/
LOCATION:Endeavour House\, Torquay
CATEGORIES:Learning Exchange
END:VEVENT
BEGIN:VEVENT
DTSTART;TZID=UTC:20300606T170000
DTEND;TZID=UTC:20300606T190000
DTSTAMP:20260426T040101
CREATED:20241219T141624Z
LAST-MODIFIED:20251119T113523Z
UID:10009955-1906995600-1907002800@shekinah.co.uk
SUMMARY:Girl’s Circle
DESCRIPTION:A program for Girls aged 8-12years providing an emotionally safe and creative space. A way to make new friends\, socialise support one another using their\nauthentic voice\, play and having fun.\nContact info Joanna Kamionkova – kamionkova@gmail.com
URL:https://shekinah.co.uk/event/womens-pathway-to-wellness/2030-06-06/
LOCATION:Endeavour House\, Torquay
CATEGORIES:Learning Exchange
END:VEVENT
BEGIN:VEVENT
DTSTART;TZID=UTC:20300607T141500
DTEND;TZID=UTC:20300607T153000
DTSTAMP:20260426T040101
CREATED:20241009T073050Z
LAST-MODIFIED:20260319T091733Z
UID:10010318-1907072100-1907076600@shekinah.co.uk
SUMMARY:SMART
DESCRIPTION:
URL:https://shekinah.co.uk/event/smart-2/2030-06-07/
LOCATION:Endeavour House\, Torquay
CATEGORIES:Learning Exchange
END:VEVENT
BEGIN:VEVENT
DTSTART;TZID=UTC:20300607T170000
DTEND;TZID=UTC:20300607T190000
DTSTAMP:20260426T040101
CREATED:20241009T073412Z
LAST-MODIFIED:20251119T114421Z
UID:10010260-1907082000-1907089200@shekinah.co.uk
SUMMARY:Girls Circle 8-11yrs only
DESCRIPTION:
URL:https://shekinah.co.uk/event/girls-circle-8-11yrs-only/2030-06-07/
LOCATION:Endeavour House\, Torquay
CATEGORIES:Learning Exchange
END:VEVENT
BEGIN:VEVENT
DTSTART;TZID=UTC:20300610T190000
DTEND;TZID=UTC:20300610T210000
DTSTAMP:20260426T040101
CREATED:20241217T082922Z
LAST-MODIFIED:20260319T085708Z
UID:10011233-1907348400-1907355600@shekinah.co.uk
SUMMARY:Andy's Man Club
DESCRIPTION:This is a support group (survivors of DV/SV) solely for men.
URL:https://shekinah.co.uk/event/andys-man-club/2030-06-10/
LOCATION:Endeavour House\, Torquay
CATEGORIES:Mental Health
END:VEVENT
BEGIN:VEVENT
DTSTART;TZID=UTC:20300611T110000
DTEND;TZID=UTC:20300611T130000
DTSTAMP:20260426T040101
CREATED:20260114T072652Z
LAST-MODIFIED:20260114T072854Z
UID:10010840-1907406000-1907413200@shekinah.co.uk
SUMMARY:Breathing Spaces drop in
DESCRIPTION:Support for parents after the removal of a child. \nBreathing Space is a voluntary support service. We can offer support to any parent living in Torbay\, who has had a child removed from their care. Our team will help you to decide which parts of your life you would most like support with and we will help you to make a plan.
URL:https://shekinah.co.uk/event/breathing-spaces-drop-in/2030-06-11/
LOCATION:Endeavour House\, Torquay
CATEGORIES:Learning Exchange
END:VEVENT
BEGIN:VEVENT
DTSTART;TZID=UTC:20300611T120000
DTEND;TZID=UTC:20300611T130000
DTSTAMP:20260426T040101
CREATED:20241009T071855Z
LAST-MODIFIED:20251119T113733Z
UID:10010054-1907409600-1907413200@shekinah.co.uk
SUMMARY:Reediness for change
DESCRIPTION:
URL:https://shekinah.co.uk/event/reediness-for-change/2030-06-11/
LOCATION:Endeavour House\, Torquay
CATEGORIES:Learning Exchange
END:VEVENT
BEGIN:VEVENT
DTSTART;TZID=UTC:20300611T130000
DTEND;TZID=UTC:20300611T140000
DTSTAMP:20260426T040101
CREATED:20241009T072103Z
LAST-MODIFIED:20251119T113824Z
UID:10010104-1907413200-1907416800@shekinah.co.uk
SUMMARY:Kens coffee group
DESCRIPTION:
URL:https://shekinah.co.uk/event/kens-coffee-group/2030-06-11/
LOCATION:Endeavour House\, Torquay
CATEGORIES:Learning Exchange
END:VEVENT
BEGIN:VEVENT
DTSTART;TZID=UTC:20300611T130000
DTEND;TZID=UTC:20300611T140000
DTSTAMP:20260426T040101
CREATED:20241219T140724Z
LAST-MODIFIED:20251119T113906Z
UID:10010152-1907413200-1907416800@shekinah.co.uk
SUMMARY:Christian Talk
DESCRIPTION:A friendly peer support group\, why not come along and meet Ken and friends. Coffee\, cake\, sharing story’s all welcome.
URL:https://shekinah.co.uk/event/christian-talk/2030-06-11/
LOCATION:Endeavour House\, Torquay
CATEGORIES:Learning Exchange
END:VEVENT
BEGIN:VEVENT
DTSTART;TZID=UTC:20300611T141500
DTEND;TZID=UTC:20300611T153000
DTSTAMP:20260426T040101
CREATED:20260319T091612Z
LAST-MODIFIED:20260319T091612Z
UID:10010202-1907417700-1907422200@shekinah.co.uk
SUMMARY:SMART
DESCRIPTION:
URL:https://shekinah.co.uk/event/smart-4/2030-06-11/
LOCATION:Endeavour House\, Torquay
CATEGORIES:Learning Exchange
END:VEVENT
BEGIN:VEVENT
DTSTART;TZID=UTC:20300612T110000
DTEND;TZID=UTC:20300612T120000
DTSTAMP:20260426T040101
CREATED:20241009T072201Z
LAST-MODIFIED:20251119T113638Z
UID:10010005-1907492400-1907496000@shekinah.co.uk
SUMMARY:SMART Woman's group
DESCRIPTION:
URL:https://shekinah.co.uk/event/smart-womans-group/2030-06-12/
LOCATION:Endeavour House\, Torquay
CATEGORIES:Learning Exchange
END:VEVENT
BEGIN:VEVENT
DTSTART;TZID=UTC:20300612T110000
DTEND;TZID=UTC:20300612T130000
DTSTAMP:20260426T040101
CREATED:20241009T072239Z
LAST-MODIFIED:20251119T112504Z
UID:10009673-1907492400-1907499600@shekinah.co.uk
SUMMARY:Wellness drop in
DESCRIPTION:
URL:https://shekinah.co.uk/event/wellness-drop-in/2030-06-12/
LOCATION:Endeavour House\, Torquay
CATEGORIES:Learning Exchange
END:VEVENT
BEGIN:VEVENT
DTSTART;TZID=UTC:20300612T110000
DTEND;TZID=UTC:20300612T160000
DTSTAMP:20260426T040101
CREATED:20260114T073047Z
LAST-MODIFIED:20260114T073047Z
UID:10011101-1907492400-1907510400@shekinah.co.uk
SUMMARY:Care leavers Drop in
DESCRIPTION:Experienced Care leavers team support young people who are facing challenges\, including housing needs.
URL:https://shekinah.co.uk/event/care-leavers-drop-in/2030-06-12/
LOCATION:Endeavour House\, Torquay
CATEGORIES:Learning Exchange
END:VEVENT
BEGIN:VEVENT
DTSTART;TZID=UTC:20300612T130000
DTEND;TZID=UTC:20300612T160000
DTSTAMP:20260426T040101
CREATED:20241009T072322Z
LAST-MODIFIED:20251119T112928Z
UID:10009722-1907499600-1907510400@shekinah.co.uk
SUMMARY:Drop in Mental health Recovery practitioners
DESCRIPTION:
URL:https://shekinah.co.uk/event/drop-in-mental-health-recovery-practitioners/2030-06-12/
LOCATION:Endeavour House\, Torquay
CATEGORIES:Mental Health
END:VEVENT
BEGIN:VEVENT
DTSTART;TZID=UTC:20300612T130000
DTEND;TZID=UTC:20300612T160000
DTSTAMP:20260426T040101
CREATED:20241128T120358Z
LAST-MODIFIED:20251119T113026Z
UID:10009772-1907499600-1907510400@shekinah.co.uk
SUMMARY:Mental Health Drop In
DESCRIPTION:
URL:https://shekinah.co.uk/event/mental-health-drop-in/2030-06-12/
LOCATION:Endeavour House\, Torquay
CATEGORIES:Mental Health
END:VEVENT
BEGIN:VEVENT
DTSTART;TZID=UTC:20300613T093000
DTEND;TZID=UTC:20300613T160000
DTSTAMP:20260426T040101
CREATED:20250224T144758Z
LAST-MODIFIED:20251119T113200Z
UID:10009810-1907573400-1907596800@shekinah.co.uk
SUMMARY:Women's Wellness day
DESCRIPTION:
URL:https://shekinah.co.uk/event/womens-wellness-day/2030-06-13/
LOCATION:Endeavour House\, Torquay
CATEGORIES:Drop in,Learning Exchange,Mental Health
END:VEVENT
BEGIN:VEVENT
DTSTART;TZID=UTC:20300613T101500
DTEND;TZID=UTC:20300613T121500
DTSTAMP:20260426T040101
CREATED:20241009T072441Z
LAST-MODIFIED:20251119T113302Z
UID:10009859-1907576100-1907583300@shekinah.co.uk
SUMMARY:Torbay Woman Circle
DESCRIPTION:
URL:https://shekinah.co.uk/event/torbay-woman-circle/2030-06-13/
LOCATION:Endeavour House\, Torquay
CATEGORIES:Learning Exchange
END:VEVENT
BEGIN:VEVENT
DTSTART;TZID=UTC:20300613T123000
DTEND;TZID=UTC:20300613T143000
DTSTAMP:20260426T040101
CREATED:20260320T105442Z
LAST-MODIFIED:20260320T105442Z
UID:10011549-1907584200-1907591400@shekinah.co.uk
SUMMARY:Woman's Circle Thursdays
DESCRIPTION:
URL:https://shekinah.co.uk/event/womans-circle-thursdays/2030-06-13/
LOCATION:Endeavour House\, Torquay
CATEGORIES:Learning Exchange
END:VEVENT
BEGIN:VEVENT
DTSTART;TZID=UTC:20300613T143000
DTEND;TZID=UTC:20300613T163000
DTSTAMP:20260426T040101
CREATED:20241009T072549Z
LAST-MODIFIED:20251119T113406Z
UID:10009908-1907591400-1907598600@shekinah.co.uk
SUMMARY:Coproduction
DESCRIPTION:
URL:https://shekinah.co.uk/event/coproduction/2030-06-13/
LOCATION:Endeavour House\, Torquay
CATEGORIES:Learning Exchange
END:VEVENT
BEGIN:VEVENT
DTSTART;TZID=UTC:20300613T170000
DTEND;TZID=UTC:20300613T190000
DTSTAMP:20260426T040101
CREATED:20241219T141624Z
LAST-MODIFIED:20251119T113523Z
UID:10009956-1907600400-1907607600@shekinah.co.uk
SUMMARY:Girl’s Circle
DESCRIPTION:A program for Girls aged 8-12years providing an emotionally safe and creative space. A way to make new friends\, socialise support one another using their\nauthentic voice\, play and having fun.\nContact info Joanna Kamionkova – kamionkova@gmail.com
URL:https://shekinah.co.uk/event/womens-pathway-to-wellness/2030-06-13/
LOCATION:Endeavour House\, Torquay
CATEGORIES:Learning Exchange
END:VEVENT
BEGIN:VEVENT
DTSTART;TZID=UTC:20300614T141500
DTEND;TZID=UTC:20300614T153000
DTSTAMP:20260426T040101
CREATED:20241009T073050Z
LAST-MODIFIED:20260319T091733Z
UID:10010319-1907676900-1907681400@shekinah.co.uk
SUMMARY:SMART
DESCRIPTION:
URL:https://shekinah.co.uk/event/smart-2/2030-06-14/
LOCATION:Endeavour House\, Torquay
CATEGORIES:Learning Exchange
END:VEVENT
BEGIN:VEVENT
DTSTART;TZID=UTC:20300614T170000
DTEND;TZID=UTC:20300614T190000
DTSTAMP:20260426T040101
CREATED:20241009T073412Z
LAST-MODIFIED:20251119T114421Z
UID:10010261-1907686800-1907694000@shekinah.co.uk
SUMMARY:Girls Circle 8-11yrs only
DESCRIPTION:
URL:https://shekinah.co.uk/event/girls-circle-8-11yrs-only/2030-06-14/
LOCATION:Endeavour House\, Torquay
CATEGORIES:Learning Exchange
END:VEVENT
BEGIN:VEVENT
DTSTART;TZID=UTC:20300617T190000
DTEND;TZID=UTC:20300617T210000
DTSTAMP:20260426T040101
CREATED:20241217T082922Z
LAST-MODIFIED:20260319T085708Z
UID:10011234-1907953200-1907960400@shekinah.co.uk
SUMMARY:Andy's Man Club
DESCRIPTION:This is a support group (survivors of DV/SV) solely for men.
URL:https://shekinah.co.uk/event/andys-man-club/2030-06-17/
LOCATION:Endeavour House\, Torquay
CATEGORIES:Mental Health
END:VEVENT
BEGIN:VEVENT
DTSTART;TZID=UTC:20300618T110000
DTEND;TZID=UTC:20300618T130000
DTSTAMP:20260426T040101
CREATED:20260114T072652Z
LAST-MODIFIED:20260114T072854Z
UID:10010841-1908010800-1908018000@shekinah.co.uk
SUMMARY:Breathing Spaces drop in
DESCRIPTION:Support for parents after the removal of a child. \nBreathing Space is a voluntary support service. We can offer support to any parent living in Torbay\, who has had a child removed from their care. Our team will help you to decide which parts of your life you would most like support with and we will help you to make a plan.
URL:https://shekinah.co.uk/event/breathing-spaces-drop-in/2030-06-18/
LOCATION:Endeavour House\, Torquay
CATEGORIES:Learning Exchange
END:VEVENT
END:VCALENDAR