BEGIN:VCALENDAR
VERSION:2.0
PRODID:-//Shekinah - ECPv6.15.18//NONSGML v1.0//EN
CALSCALE:GREGORIAN
METHOD:PUBLISH
X-WR-CALNAME:Shekinah
X-ORIGINAL-URL:https://shekinah.co.uk
X-WR-CALDESC:Events for Shekinah
REFRESH-INTERVAL;VALUE=DURATION:PT1H
X-Robots-Tag:noindex
X-PUBLISHED-TTL:PT1H
BEGIN:VTIMEZONE
TZID:UTC
BEGIN:STANDARD
TZOFFSETFROM:+0000
TZOFFSETTO:+0000
TZNAME:UTC
DTSTART:20240101T000000
END:STANDARD
END:VTIMEZONE
BEGIN:VEVENT
DTSTART;TZID=UTC:20260421T110000
DTEND;TZID=UTC:20260421T130000
DTSTAMP:20260421T233025
CREATED:20260323T095625Z
LAST-MODIFIED:20260331T082917Z
UID:10011773-1776769200-1776776400@shekinah.co.uk
SUMMARY:Earth Day
DESCRIPTION:Earth day celebration come and join us at Grow to celebrate Earth Day in a beautiful setting. Enjoy\nbeing connected with nature and watch how any anxiety lifts by grounding yourself on mother earth.
URL:https://shekinah.co.uk/event/earth-day/
LOCATION:Shekinah Grow\, Preston Down Road\, Paignton\, TQ3 1DL
CATEGORIES:Learning Exchange
END:VEVENT
BEGIN:VEVENT
DTSTART;TZID=UTC:20260421T100000
DTEND;TZID=UTC:20260421T110000
DTSTAMP:20260421T233025
CREATED:20260323T100008Z
LAST-MODIFIED:20260331T082034Z
UID:10011788-1776765600-1776769200@shekinah.co.uk
SUMMARY:Grounding
DESCRIPTION:A transformative experience\, blending healing and education\, allowing individuals to rejuvenate and restore their bodies through the profound practice of conductive contact with the Earth’s surface\, commonly known as Grounding. \nDelving into the profound benefits and nature of Grounding\, offering an opportunity for attendees to\nopenly discuss their personal health challenges and explore how grounding may serve as a healing\ncatalyst. On completion of the meditation\, they will have time to be in silence with the earth and their\nbodies to integrate the energies and reflect on their journey.
URL:https://shekinah.co.uk/event/grounding-3/2026-04-21/
LOCATION:Shekinah Grow\, Preston Down Road\, Paignton\, TQ3 1DL
CATEGORIES:Learning Exchange
END:VEVENT
BEGIN:VEVENT
DTSTART;TZID=UTC:20260417T140000
DTEND;TZID=UTC:20260417T153000
DTSTAMP:20260421T233025
CREATED:20260323T095526Z
LAST-MODIFIED:20260331T082259Z
UID:10011770-1776434400-1776439800@shekinah.co.uk
SUMMARY:Breath and Ice experience
DESCRIPTION:Experience a powerful mind body reset through the combined practices of sound healing\, breathwork\, and cold-water immersion. \nThis workshop gently guides you through calming sound vibrations\, intentional breathing techniques\,\nand a supported ice-bath experience to help release tension\, boost resilience\, and reconnect with your\ninner strength. \nSuitable for all levels\, this session offers a safe\, uplifting space to relax\, energise\, and explore the healing potential of breath\, sound and cold.
URL:https://shekinah.co.uk/event/breath-and-ice-experience/2026-04-17/
LOCATION:Shekinah Grow\, Preston Down Road\, Paignton\, TQ3 1DL
CATEGORIES:Learning Exchange
END:VEVENT
BEGIN:VEVENT
DTSTART;TZID=UTC:20260414T100000
DTEND;TZID=UTC:20260414T110000
DTSTAMP:20260421T233025
CREATED:20260323T100008Z
LAST-MODIFIED:20260331T082034Z
UID:10011787-1776160800-1776164400@shekinah.co.uk
SUMMARY:Grounding
DESCRIPTION:A transformative experience\, blending healing and education\, allowing individuals to rejuvenate and restore their bodies through the profound practice of conductive contact with the Earth’s surface\, commonly known as Grounding. \nDelving into the profound benefits and nature of Grounding\, offering an opportunity for attendees to\nopenly discuss their personal health challenges and explore how grounding may serve as a healing\ncatalyst. On completion of the meditation\, they will have time to be in silence with the earth and their\nbodies to integrate the energies and reflect on their journey.
URL:https://shekinah.co.uk/event/grounding-3/2026-04-14/
LOCATION:Shekinah Grow\, Preston Down Road\, Paignton\, TQ3 1DL
CATEGORIES:Learning Exchange
END:VEVENT
BEGIN:VEVENT
DTSTART;TZID=UTC:20260407T100000
DTEND;TZID=UTC:20260407T110000
DTSTAMP:20260421T233025
CREATED:20260323T100008Z
LAST-MODIFIED:20260331T082034Z
UID:10011778-1775556000-1775559600@shekinah.co.uk
SUMMARY:Grounding
DESCRIPTION:A transformative experience\, blending healing and education\, allowing individuals to rejuvenate and restore their bodies through the profound practice of conductive contact with the Earth’s surface\, commonly known as Grounding. \nDelving into the profound benefits and nature of Grounding\, offering an opportunity for attendees to\nopenly discuss their personal health challenges and explore how grounding may serve as a healing\ncatalyst. On completion of the meditation\, they will have time to be in silence with the earth and their\nbodies to integrate the energies and reflect on their journey.
URL:https://shekinah.co.uk/event/grounding-3/2026-04-07/
LOCATION:Shekinah Grow\, Preston Down Road\, Paignton\, TQ3 1DL
CATEGORIES:Learning Exchange
END:VEVENT
BEGIN:VEVENT
DTSTART;TZID=UTC:20260324T100000
DTEND;TZID=UTC:20260324T110000
DTSTAMP:20260421T233025
CREATED:20251208T075624Z
LAST-MODIFIED:20251208T075624Z
UID:10010431-1774346400-1774350000@shekinah.co.uk
SUMMARY:Grounding
DESCRIPTION:A transformative experience blending healing and education\, this workshop invites participants to reconnect with the Earth’s natural energy through the practice of Grounding.\nBeginning with sound bowl resonance and a short teaching\, you’ll explore how conductive contact with\nthe Earth supports physical and mental well-being.\nGuided meditation\, breathwork\, and silent reflection help restore balance\, reduce stress\, and promote\ndeep healing. Suitable for all – come as you are.
URL:https://shekinah.co.uk/event/grounding-2/2026-03-24/
LOCATION:Shekinah Grow\, Preston Down Road\, Paignton\, TQ3 1DL
CATEGORIES:Learning Exchange
END:VEVENT
BEGIN:VEVENT
DTSTART;TZID=UTC:20260317T100000
DTEND;TZID=UTC:20260317T110000
DTSTAMP:20260421T233025
CREATED:20251208T075624Z
LAST-MODIFIED:20251208T075624Z
UID:10010430-1773741600-1773745200@shekinah.co.uk
SUMMARY:Grounding
DESCRIPTION:A transformative experience blending healing and education\, this workshop invites participants to reconnect with the Earth’s natural energy through the practice of Grounding.\nBeginning with sound bowl resonance and a short teaching\, you’ll explore how conductive contact with\nthe Earth supports physical and mental well-being.\nGuided meditation\, breathwork\, and silent reflection help restore balance\, reduce stress\, and promote\ndeep healing. Suitable for all – come as you are.
URL:https://shekinah.co.uk/event/grounding-2/2026-03-17/
LOCATION:Shekinah Grow\, Preston Down Road\, Paignton\, TQ3 1DL
CATEGORIES:Learning Exchange
END:VEVENT
BEGIN:VEVENT
DTSTART;TZID=UTC:20260310T100000
DTEND;TZID=UTC:20260310T110000
DTSTAMP:20260421T233025
CREATED:20251208T075624Z
LAST-MODIFIED:20251208T075624Z
UID:10010429-1773136800-1773140400@shekinah.co.uk
SUMMARY:Grounding
DESCRIPTION:A transformative experience blending healing and education\, this workshop invites participants to reconnect with the Earth’s natural energy through the practice of Grounding.\nBeginning with sound bowl resonance and a short teaching\, you’ll explore how conductive contact with\nthe Earth supports physical and mental well-being.\nGuided meditation\, breathwork\, and silent reflection help restore balance\, reduce stress\, and promote\ndeep healing. Suitable for all – come as you are.
URL:https://shekinah.co.uk/event/grounding-2/2026-03-10/
LOCATION:Shekinah Grow\, Preston Down Road\, Paignton\, TQ3 1DL
CATEGORIES:Learning Exchange
END:VEVENT
BEGIN:VEVENT
DTSTART;TZID=UTC:20260303T100000
DTEND;TZID=UTC:20260303T110000
DTSTAMP:20260421T233025
CREATED:20251208T075624Z
LAST-MODIFIED:20251208T075624Z
UID:10010428-1772532000-1772535600@shekinah.co.uk
SUMMARY:Grounding
DESCRIPTION:A transformative experience blending healing and education\, this workshop invites participants to reconnect with the Earth’s natural energy through the practice of Grounding.\nBeginning with sound bowl resonance and a short teaching\, you’ll explore how conductive contact with\nthe Earth supports physical and mental well-being.\nGuided meditation\, breathwork\, and silent reflection help restore balance\, reduce stress\, and promote\ndeep healing. Suitable for all – come as you are.
URL:https://shekinah.co.uk/event/grounding-2/2026-03-03/
LOCATION:Shekinah Grow\, Preston Down Road\, Paignton\, TQ3 1DL
CATEGORIES:Learning Exchange
END:VEVENT
BEGIN:VEVENT
DTSTART;TZID=UTC:20260224T100000
DTEND;TZID=UTC:20260224T110000
DTSTAMP:20260421T233025
CREATED:20251208T075624Z
LAST-MODIFIED:20251208T075624Z
UID:10010427-1771927200-1771930800@shekinah.co.uk
SUMMARY:Grounding
DESCRIPTION:A transformative experience blending healing and education\, this workshop invites participants to reconnect with the Earth’s natural energy through the practice of Grounding.\nBeginning with sound bowl resonance and a short teaching\, you’ll explore how conductive contact with\nthe Earth supports physical and mental well-being.\nGuided meditation\, breathwork\, and silent reflection help restore balance\, reduce stress\, and promote\ndeep healing. Suitable for all – come as you are.
URL:https://shekinah.co.uk/event/grounding-2/2026-02-24/
LOCATION:Shekinah Grow\, Preston Down Road\, Paignton\, TQ3 1DL
CATEGORIES:Learning Exchange
END:VEVENT
BEGIN:VEVENT
DTSTART;TZID=UTC:20260217T100000
DTEND;TZID=UTC:20260217T110000
DTSTAMP:20260421T233025
CREATED:20251208T075624Z
LAST-MODIFIED:20251208T075624Z
UID:10010426-1771322400-1771326000@shekinah.co.uk
SUMMARY:Grounding
DESCRIPTION:A transformative experience blending healing and education\, this workshop invites participants to reconnect with the Earth’s natural energy through the practice of Grounding.\nBeginning with sound bowl resonance and a short teaching\, you’ll explore how conductive contact with\nthe Earth supports physical and mental well-being.\nGuided meditation\, breathwork\, and silent reflection help restore balance\, reduce stress\, and promote\ndeep healing. Suitable for all – come as you are.
URL:https://shekinah.co.uk/event/grounding-2/2026-02-17/
LOCATION:Shekinah Grow\, Preston Down Road\, Paignton\, TQ3 1DL
CATEGORIES:Learning Exchange
END:VEVENT
BEGIN:VEVENT
DTSTART;TZID=UTC:20260210T100000
DTEND;TZID=UTC:20260210T110000
DTSTAMP:20260421T233025
CREATED:20251208T075624Z
LAST-MODIFIED:20251208T075624Z
UID:10010425-1770717600-1770721200@shekinah.co.uk
SUMMARY:Grounding
DESCRIPTION:A transformative experience blending healing and education\, this workshop invites participants to reconnect with the Earth’s natural energy through the practice of Grounding.\nBeginning with sound bowl resonance and a short teaching\, you’ll explore how conductive contact with\nthe Earth supports physical and mental well-being.\nGuided meditation\, breathwork\, and silent reflection help restore balance\, reduce stress\, and promote\ndeep healing. Suitable for all – come as you are.
URL:https://shekinah.co.uk/event/grounding-2/2026-02-10/
LOCATION:Shekinah Grow\, Preston Down Road\, Paignton\, TQ3 1DL
CATEGORIES:Learning Exchange
END:VEVENT
BEGIN:VEVENT
DTSTART;TZID=UTC:20260203T100000
DTEND;TZID=UTC:20260203T110000
DTSTAMP:20260421T233025
CREATED:20251208T075624Z
LAST-MODIFIED:20251208T075624Z
UID:10010424-1770112800-1770116400@shekinah.co.uk
SUMMARY:Grounding
DESCRIPTION:A transformative experience blending healing and education\, this workshop invites participants to reconnect with the Earth’s natural energy through the practice of Grounding.\nBeginning with sound bowl resonance and a short teaching\, you’ll explore how conductive contact with\nthe Earth supports physical and mental well-being.\nGuided meditation\, breathwork\, and silent reflection help restore balance\, reduce stress\, and promote\ndeep healing. Suitable for all – come as you are.
URL:https://shekinah.co.uk/event/grounding-2/2026-02-03/
LOCATION:Shekinah Grow\, Preston Down Road\, Paignton\, TQ3 1DL
CATEGORIES:Learning Exchange
END:VEVENT
BEGIN:VEVENT
DTSTART;TZID=UTC:20260127T100000
DTEND;TZID=UTC:20260127T110000
DTSTAMP:20260421T233025
CREATED:20251208T075624Z
LAST-MODIFIED:20251208T075624Z
UID:10010423-1769508000-1769511600@shekinah.co.uk
SUMMARY:Grounding
DESCRIPTION:A transformative experience blending healing and education\, this workshop invites participants to reconnect with the Earth’s natural energy through the practice of Grounding.\nBeginning with sound bowl resonance and a short teaching\, you’ll explore how conductive contact with\nthe Earth supports physical and mental well-being.\nGuided meditation\, breathwork\, and silent reflection help restore balance\, reduce stress\, and promote\ndeep healing. Suitable for all – come as you are.
URL:https://shekinah.co.uk/event/grounding-2/2026-01-27/
LOCATION:Shekinah Grow\, Preston Down Road\, Paignton\, TQ3 1DL
CATEGORIES:Learning Exchange
END:VEVENT
BEGIN:VEVENT
DTSTART;TZID=UTC:20260120T100000
DTEND;TZID=UTC:20260120T110000
DTSTAMP:20260421T233025
CREATED:20251208T075624Z
LAST-MODIFIED:20251208T075624Z
UID:10010422-1768903200-1768906800@shekinah.co.uk
SUMMARY:Grounding
DESCRIPTION:A transformative experience blending healing and education\, this workshop invites participants to reconnect with the Earth’s natural energy through the practice of Grounding.\nBeginning with sound bowl resonance and a short teaching\, you’ll explore how conductive contact with\nthe Earth supports physical and mental well-being.\nGuided meditation\, breathwork\, and silent reflection help restore balance\, reduce stress\, and promote\ndeep healing. Suitable for all – come as you are.
URL:https://shekinah.co.uk/event/grounding-2/2026-01-20/
LOCATION:Shekinah Grow\, Preston Down Road\, Paignton\, TQ3 1DL
CATEGORIES:Learning Exchange
END:VEVENT
BEGIN:VEVENT
DTSTART;TZID=UTC:20260113T100000
DTEND;TZID=UTC:20260113T110000
DTSTAMP:20260421T233025
CREATED:20251208T075624Z
LAST-MODIFIED:20251208T075624Z
UID:10010421-1768298400-1768302000@shekinah.co.uk
SUMMARY:Grounding
DESCRIPTION:A transformative experience blending healing and education\, this workshop invites participants to reconnect with the Earth’s natural energy through the practice of Grounding.\nBeginning with sound bowl resonance and a short teaching\, you’ll explore how conductive contact with\nthe Earth supports physical and mental well-being.\nGuided meditation\, breathwork\, and silent reflection help restore balance\, reduce stress\, and promote\ndeep healing. Suitable for all – come as you are.
URL:https://shekinah.co.uk/event/grounding-2/2026-01-13/
LOCATION:Shekinah Grow\, Preston Down Road\, Paignton\, TQ3 1DL
CATEGORIES:Learning Exchange
END:VEVENT
BEGIN:VEVENT
DTSTART;TZID=UTC:20251028T133000
DTEND;TZID=UTC:20251028T150000
DTSTAMP:20260421T233025
CREATED:20250814T093331Z
LAST-MODIFIED:20250814T093331Z
UID:10009350-1761658200-1761663600@shekinah.co.uk
SUMMARY:Pumpkin Carving
DESCRIPTION:Come and have a go at pumpkin carving\, creating a face\, witch’s hat or anything spooky. \nGreat way to be creative\, get a little messy and have some fun. \nTo book your spot please click here.
URL:https://shekinah.co.uk/event/pumpkin-carving-2/
LOCATION:Shekinah Grow\, Preston Down Road\, Paignton\, TQ3 1DL
CATEGORIES:Learning Exchange
END:VEVENT
BEGIN:VEVENT
DTSTART;TZID=UTC:20251007T103000
DTEND;TZID=UTC:20251007T120000
DTSTAMP:20260421T233025
CREATED:20250814T093720Z
LAST-MODIFIED:20250814T093720Z
UID:10009355-1759833000-1759838400@shekinah.co.uk
SUMMARY:Grounding
DESCRIPTION:A transformative experience\, blending healing and education\, allowing individuals to rejuvenate and restore their bodies through the profound practice of conductive contact with the Earth’s surface\, commonly known as Grounding. \nDelving into the profound benefits and nature of Grounding\, offering an opportunity for attendees to\nopenly discuss their personal health challenges and explore how grounding may serve as a healing\ncatalyst. On completion of the meditation\, they will have time to be in silence with the earth and their\nbodies to integrate the energies and reflect on their journey. \nTo book your spot please click here.
URL:https://shekinah.co.uk/event/grounding/2025-10-07/
LOCATION:Shekinah Grow\, Preston Down Road\, Paignton\, TQ3 1DL
CATEGORIES:Learning Exchange
END:VEVENT
BEGIN:VEVENT
DTSTART;TZID=UTC:20250930T103000
DTEND;TZID=UTC:20250930T120000
DTSTAMP:20260421T233025
CREATED:20250814T093720Z
LAST-MODIFIED:20250814T093720Z
UID:10009354-1759228200-1759233600@shekinah.co.uk
SUMMARY:Grounding
DESCRIPTION:A transformative experience\, blending healing and education\, allowing individuals to rejuvenate and restore their bodies through the profound practice of conductive contact with the Earth’s surface\, commonly known as Grounding. \nDelving into the profound benefits and nature of Grounding\, offering an opportunity for attendees to\nopenly discuss their personal health challenges and explore how grounding may serve as a healing\ncatalyst. On completion of the meditation\, they will have time to be in silence with the earth and their\nbodies to integrate the energies and reflect on their journey. \nTo book your spot please click here.
URL:https://shekinah.co.uk/event/grounding/2025-09-30/
LOCATION:Shekinah Grow\, Preston Down Road\, Paignton\, TQ3 1DL
CATEGORIES:Learning Exchange
END:VEVENT
BEGIN:VEVENT
DTSTART;TZID=UTC:20250925T103000
DTEND;TZID=UTC:20250925T123000
DTSTAMP:20260421T233025
CREATED:20250814T094605Z
LAST-MODIFIED:20250814T094605Z
UID:10009368-1758796200-1758803400@shekinah.co.uk
SUMMARY:Release your Anger
DESCRIPTION:This practical and supportive anger management course is designed to help individuals understand the roots of their anger\, develop healthier responses\, and build emotional resilience. Through guided discussions\, interactive exercises\, you will learn how to recognise triggers\, manage stress and communicate more effectively. \nThis 3-week course is ideal for anyone who:\n• Struggles with frequent or intense anger\n• Wants to improve relationships at home\, work\, or in\nthe community\n• Is seeking tools to manage stress and emotional\nreactions \nIncludes\, group discussions\, individual reflection\, practical exercises and take-home resources. \nTo book your spot please click here.
URL:https://shekinah.co.uk/event/release-your-anger/2025-09-25/
LOCATION:Shekinah Grow\, Preston Down Road\, Paignton\, TQ3 1DL
CATEGORIES:Learning Exchange
END:VEVENT
BEGIN:VEVENT
DTSTART;TZID=UTC:20250923T103000
DTEND;TZID=UTC:20250923T120000
DTSTAMP:20260421T233025
CREATED:20250814T093720Z
LAST-MODIFIED:20250814T093720Z
UID:10009353-1758623400-1758628800@shekinah.co.uk
SUMMARY:Grounding
DESCRIPTION:A transformative experience\, blending healing and education\, allowing individuals to rejuvenate and restore their bodies through the profound practice of conductive contact with the Earth’s surface\, commonly known as Grounding. \nDelving into the profound benefits and nature of Grounding\, offering an opportunity for attendees to\nopenly discuss their personal health challenges and explore how grounding may serve as a healing\ncatalyst. On completion of the meditation\, they will have time to be in silence with the earth and their\nbodies to integrate the energies and reflect on their journey. \nTo book your spot please click here.
URL:https://shekinah.co.uk/event/grounding/2025-09-23/
LOCATION:Shekinah Grow\, Preston Down Road\, Paignton\, TQ3 1DL
CATEGORIES:Learning Exchange
END:VEVENT
BEGIN:VEVENT
DTSTART;TZID=UTC:20250918T103000
DTEND;TZID=UTC:20250918T123000
DTSTAMP:20260421T233025
CREATED:20250814T094605Z
LAST-MODIFIED:20250814T094605Z
UID:10009367-1758191400-1758198600@shekinah.co.uk
SUMMARY:Release your Anger
DESCRIPTION:This practical and supportive anger management course is designed to help individuals understand the roots of their anger\, develop healthier responses\, and build emotional resilience. Through guided discussions\, interactive exercises\, you will learn how to recognise triggers\, manage stress and communicate more effectively. \nThis 3-week course is ideal for anyone who:\n• Struggles with frequent or intense anger\n• Wants to improve relationships at home\, work\, or in\nthe community\n• Is seeking tools to manage stress and emotional\nreactions \nIncludes\, group discussions\, individual reflection\, practical exercises and take-home resources. \nTo book your spot please click here.
URL:https://shekinah.co.uk/event/release-your-anger/2025-09-18/
LOCATION:Shekinah Grow\, Preston Down Road\, Paignton\, TQ3 1DL
CATEGORIES:Learning Exchange
END:VEVENT
BEGIN:VEVENT
DTSTART;TZID=UTC:20250916T103000
DTEND;TZID=UTC:20250916T120000
DTSTAMP:20260421T233025
CREATED:20250814T093720Z
LAST-MODIFIED:20250814T093720Z
UID:10009352-1758018600-1758024000@shekinah.co.uk
SUMMARY:Grounding
DESCRIPTION:A transformative experience\, blending healing and education\, allowing individuals to rejuvenate and restore their bodies through the profound practice of conductive contact with the Earth’s surface\, commonly known as Grounding. \nDelving into the profound benefits and nature of Grounding\, offering an opportunity for attendees to\nopenly discuss their personal health challenges and explore how grounding may serve as a healing\ncatalyst. On completion of the meditation\, they will have time to be in silence with the earth and their\nbodies to integrate the energies and reflect on their journey. \nTo book your spot please click here.
URL:https://shekinah.co.uk/event/grounding/2025-09-16/
LOCATION:Shekinah Grow\, Preston Down Road\, Paignton\, TQ3 1DL
CATEGORIES:Learning Exchange
END:VEVENT
BEGIN:VEVENT
DTSTART;TZID=UTC:20250911T103000
DTEND;TZID=UTC:20250911T123000
DTSTAMP:20260421T233025
CREATED:20250814T094605Z
LAST-MODIFIED:20250814T094605Z
UID:10009366-1757586600-1757593800@shekinah.co.uk
SUMMARY:Release your Anger
DESCRIPTION:This practical and supportive anger management course is designed to help individuals understand the roots of their anger\, develop healthier responses\, and build emotional resilience. Through guided discussions\, interactive exercises\, you will learn how to recognise triggers\, manage stress and communicate more effectively. \nThis 3-week course is ideal for anyone who:\n• Struggles with frequent or intense anger\n• Wants to improve relationships at home\, work\, or in\nthe community\n• Is seeking tools to manage stress and emotional\nreactions \nIncludes\, group discussions\, individual reflection\, practical exercises and take-home resources. \nTo book your spot please click here.
URL:https://shekinah.co.uk/event/release-your-anger/2025-09-11/
LOCATION:Shekinah Grow\, Preston Down Road\, Paignton\, TQ3 1DL
CATEGORIES:Learning Exchange
END:VEVENT
BEGIN:VEVENT
DTSTART;TZID=UTC:20250826T110000
DTEND;TZID=UTC:20250826T130000
DTSTAMP:20260421T233025
CREATED:20250619T064153Z
LAST-MODIFIED:20250619T064153Z
UID:10008936-1756206000-1756213200@shekinah.co.uk
SUMMARY:Nature Connection and Mindfulness Sessions at Shekinah Grow!
DESCRIPTION:
URL:https://shekinah.co.uk/event/nature-connection-and-mindfulness-sessions-at-shekinah-grow-2/2025-08-26/
LOCATION:Shekinah Grow\, Preston Down Road\, Paignton\, TQ3 1DL
CATEGORIES:Learning Exchange
ATTACH;FMTTYPE=application/pdf:https://shekinah.co.uk/wp-content/uploads/2025/06/Naturally-Well-Big-lottery-funded-flyer-25-1.pdf
END:VEVENT
BEGIN:VEVENT
DTSTART;TZID=UTC:20250826T080000
DTEND;TZID=UTC:20250826T170000
DTSTAMP:20260421T233025
CREATED:20250410T122154Z
LAST-MODIFIED:20250410T122154Z
UID:10008808-1756195200-1756227600@shekinah.co.uk
SUMMARY:Gardening
DESCRIPTION:Course description: Are you looking for a fulfilling way to give back to your community\, while also enjoying the benefits of gardening?\nLook no further than a community garden project! This comprehensive guide will cover everything you need to know about community gardens\, including benefits\, types\, how to start\, potential problems and solutions\, and much more.\n1.Encourages Healthy Eating\n2.Enhances Community Pride\n3.Promotes Physical Activity\n4.Improves Mental Health\n5.Educational Opportunities
URL:https://shekinah.co.uk/event/gardening/2025-08-26/
LOCATION:Shekinah Grow\, Preston Down Road\, Paignton\, TQ3 1DL
CATEGORIES:Learning Exchange
END:VEVENT
BEGIN:VEVENT
DTSTART;TZID=UTC:20250819T140000
DTEND;TZID=UTC:20250819T153000
DTSTAMP:20260421T233025
CREATED:20250410T140107Z
LAST-MODIFIED:20250410T140107Z
UID:10008912-1755612000-1755617400@shekinah.co.uk
SUMMARY:Creative Peace with Leanna
DESCRIPTION:Course description: Playful\, mindful and meditative offerings to uplift\, resource\, nourish\, and inspire\, with the intention to ripple peace out into the world. Come and join us\, gently connect with a lovely likeminded group and find a lasting path towards the peace which is so\nneeded in this beautiful world. Bring a journal\, a blanket or yoga mat and your gorgeous selves.\nTeaching and Learning Approaches: Workshop format
URL:https://shekinah.co.uk/event/creative-peace-with-leanna/2025-08-19/
LOCATION:Shekinah Grow\, Preston Down Road\, Paignton\, TQ3 1DL
CATEGORIES:Learning Exchange
END:VEVENT
BEGIN:VEVENT
DTSTART;TZID=UTC:20250819T110000
DTEND;TZID=UTC:20250819T130000
DTSTAMP:20260421T233025
CREATED:20250619T064153Z
LAST-MODIFIED:20250619T064153Z
UID:10008935-1755601200-1755608400@shekinah.co.uk
SUMMARY:Nature Connection and Mindfulness Sessions at Shekinah Grow!
DESCRIPTION:
URL:https://shekinah.co.uk/event/nature-connection-and-mindfulness-sessions-at-shekinah-grow-2/2025-08-19/
LOCATION:Shekinah Grow\, Preston Down Road\, Paignton\, TQ3 1DL
CATEGORIES:Learning Exchange
ATTACH;FMTTYPE=application/pdf:https://shekinah.co.uk/wp-content/uploads/2025/06/Naturally-Well-Big-lottery-funded-flyer-25-1.pdf
END:VEVENT
BEGIN:VEVENT
DTSTART;TZID=UTC:20250819T080000
DTEND;TZID=UTC:20250819T170000
DTSTAMP:20260421T233025
CREATED:20250410T122154Z
LAST-MODIFIED:20250410T122154Z
UID:10008807-1755590400-1755622800@shekinah.co.uk
SUMMARY:Gardening
DESCRIPTION:Course description: Are you looking for a fulfilling way to give back to your community\, while also enjoying the benefits of gardening?\nLook no further than a community garden project! This comprehensive guide will cover everything you need to know about community gardens\, including benefits\, types\, how to start\, potential problems and solutions\, and much more.\n1.Encourages Healthy Eating\n2.Enhances Community Pride\n3.Promotes Physical Activity\n4.Improves Mental Health\n5.Educational Opportunities
URL:https://shekinah.co.uk/event/gardening/2025-08-19/
LOCATION:Shekinah Grow\, Preston Down Road\, Paignton\, TQ3 1DL
CATEGORIES:Learning Exchange
END:VEVENT
BEGIN:VEVENT
DTSTART;TZID=UTC:20250812T140000
DTEND;TZID=UTC:20250812T153000
DTSTAMP:20260421T233025
CREATED:20250410T140107Z
LAST-MODIFIED:20250410T140107Z
UID:10008911-1755007200-1755012600@shekinah.co.uk
SUMMARY:Creative Peace with Leanna
DESCRIPTION:Course description: Playful\, mindful and meditative offerings to uplift\, resource\, nourish\, and inspire\, with the intention to ripple peace out into the world. Come and join us\, gently connect with a lovely likeminded group and find a lasting path towards the peace which is so\nneeded in this beautiful world. Bring a journal\, a blanket or yoga mat and your gorgeous selves.\nTeaching and Learning Approaches: Workshop format
URL:https://shekinah.co.uk/event/creative-peace-with-leanna/2025-08-12/
LOCATION:Shekinah Grow\, Preston Down Road\, Paignton\, TQ3 1DL
CATEGORIES:Learning Exchange
END:VEVENT
END:VCALENDAR