BEGIN:VCALENDAR
VERSION:2.0
PRODID:-//Shekinah - ECPv6.15.18//NONSGML v1.0//EN
CALSCALE:GREGORIAN
METHOD:PUBLISH
X-WR-CALNAME:Shekinah
X-ORIGINAL-URL:https://shekinah.co.uk
X-WR-CALDESC:Events for Shekinah
REFRESH-INTERVAL;VALUE=DURATION:PT1H
X-Robots-Tag:noindex
X-PUBLISHED-TTL:PT1H
BEGIN:VTIMEZONE
TZID:UTC
BEGIN:STANDARD
TZOFFSETFROM:+0000
TZOFFSETTO:+0000
TZNAME:UTC
DTSTART:20230101T000000
END:STANDARD
END:VTIMEZONE
BEGIN:VEVENT
DTSTART;TZID=UTC:20241203T100000
DTEND;TZID=UTC:20241203T140000
DTSTAMP:20260422T153416
CREATED:20240910T074708Z
LAST-MODIFIED:20240910T074708Z
UID:10000818-1733220000-1733234400@shekinah.co.uk
SUMMARY:Plotting to Plant
DESCRIPTION:Course description: Are you looking for a fulfilling way to give back to your community\, while also\nenjoying the benefits of gardening? \nLook no further than a community garden project! This comprehensive guide will cover everything you need to know about community gardens\, including benefits\, types\, how to start\, potential problems and\nsolutions\, and much more. \n1. Encourages Healthy Eating\n2. Enhances Community Pride\n3. Promotes Physical Activity\n4. Improves Mental Health\n5. Educational Opportunities
URL:https://shekinah.co.uk/event/plotting-to-plant/2024-12-03/
LOCATION:Shekinah Grow\, Preston Down Road\, Paignton\, TQ3 1DL
CATEGORIES:Learning Exchange
END:VEVENT
BEGIN:VEVENT
DTSTART;TZID=UTC:20241129T134500
DTEND;TZID=UTC:20241129T150000
DTSTAMP:20260422T153416
CREATED:20240910T080629Z
LAST-MODIFIED:20240910T080629Z
UID:10000884-1732887900-1732892400@shekinah.co.uk
SUMMARY:Breathworks and Ice Baths
DESCRIPTION:Come join us for a cold dip in the water studio at Grow. We will have 30 minutes of guided medication\nfollowed by breathworks\, and then a dip in one of the ice baths. \nThis therapy can help with:\n• Easing sore and aching muscles.\n• Helping the central nervous system.\n• Limiting the inflammatory response.\n• Decreasing the effect of heat and humidity.\n• Training the vagus nerve. Just to name a few. \nPlease note that there are limited spaces.
URL:https://shekinah.co.uk/event/breathworks-and-ice-baths-3/
LOCATION:Shekinah Grow\, Preston Down Road\, Paignton\, TQ3 1DL
CATEGORIES:Learning Exchange
END:VEVENT
BEGIN:VEVENT
DTSTART;TZID=UTC:20241126T100000
DTEND;TZID=UTC:20241126T140000
DTSTAMP:20260422T153416
CREATED:20240910T091101Z
LAST-MODIFIED:20240910T091101Z
UID:10000967-1732615200-1732629600@shekinah.co.uk
SUMMARY:Volunteer Days at Grow
DESCRIPTION:Are you passionate about holistic horticulture and eager to contribute to a thriving\ngreen space? Look no further! \nWhy Volunteer at Grow for Life?\n• Holistic Horticulture: Immerse yourself in the world of sustainable and holistic gardening practices.\n• Community Connection: Join a like-minded community of individuals passionate about\nnurturing nature.\n• Learn and Grow: Acquire valuable gardening skills from seasoned experts in a hands-on\, supportive\nenvironment.\n• Personalised Garden Bed: Your dedication deserves recognition! Enjoy your own garden bed to\ncultivate and harvest the fruits (and vegetables) of your labour.
URL:https://shekinah.co.uk/event/volunteer-days-at-grow/2024-11-26/
LOCATION:Shekinah Grow\, Preston Down Road\, Paignton\, TQ3 1DL
CATEGORIES:Learning Exchange
END:VEVENT
BEGIN:VEVENT
DTSTART;TZID=UTC:20241126T100000
DTEND;TZID=UTC:20241126T140000
DTSTAMP:20260422T153416
CREATED:20240910T074708Z
LAST-MODIFIED:20240910T074708Z
UID:10000817-1732615200-1732629600@shekinah.co.uk
SUMMARY:Plotting to Plant
DESCRIPTION:Course description: Are you looking for a fulfilling way to give back to your community\, while also\nenjoying the benefits of gardening? \nLook no further than a community garden project! This comprehensive guide will cover everything you need to know about community gardens\, including benefits\, types\, how to start\, potential problems and\nsolutions\, and much more. \n1. Encourages Healthy Eating\n2. Enhances Community Pride\n3. Promotes Physical Activity\n4. Improves Mental Health\n5. Educational Opportunities
URL:https://shekinah.co.uk/event/plotting-to-plant/2024-11-26/
LOCATION:Shekinah Grow\, Preston Down Road\, Paignton\, TQ3 1DL
CATEGORIES:Learning Exchange
END:VEVENT
BEGIN:VEVENT
DTSTART;TZID=UTC:20241119T100000
DTEND;TZID=UTC:20241119T140000
DTSTAMP:20260422T153416
CREATED:20240910T091101Z
LAST-MODIFIED:20240910T091101Z
UID:10000966-1732010400-1732024800@shekinah.co.uk
SUMMARY:Volunteer Days at Grow
DESCRIPTION:Are you passionate about holistic horticulture and eager to contribute to a thriving\ngreen space? Look no further! \nWhy Volunteer at Grow for Life?\n• Holistic Horticulture: Immerse yourself in the world of sustainable and holistic gardening practices.\n• Community Connection: Join a like-minded community of individuals passionate about\nnurturing nature.\n• Learn and Grow: Acquire valuable gardening skills from seasoned experts in a hands-on\, supportive\nenvironment.\n• Personalised Garden Bed: Your dedication deserves recognition! Enjoy your own garden bed to\ncultivate and harvest the fruits (and vegetables) of your labour.
URL:https://shekinah.co.uk/event/volunteer-days-at-grow/2024-11-19/
LOCATION:Shekinah Grow\, Preston Down Road\, Paignton\, TQ3 1DL
CATEGORIES:Learning Exchange
END:VEVENT
BEGIN:VEVENT
DTSTART;TZID=UTC:20241119T100000
DTEND;TZID=UTC:20241119T140000
DTSTAMP:20260422T153416
CREATED:20240910T074708Z
LAST-MODIFIED:20240910T074708Z
UID:10000816-1732010400-1732024800@shekinah.co.uk
SUMMARY:Plotting to Plant
DESCRIPTION:Course description: Are you looking for a fulfilling way to give back to your community\, while also\nenjoying the benefits of gardening? \nLook no further than a community garden project! This comprehensive guide will cover everything you need to know about community gardens\, including benefits\, types\, how to start\, potential problems and\nsolutions\, and much more. \n1. Encourages Healthy Eating\n2. Enhances Community Pride\n3. Promotes Physical Activity\n4. Improves Mental Health\n5. Educational Opportunities
URL:https://shekinah.co.uk/event/plotting-to-plant/2024-11-19/
LOCATION:Shekinah Grow\, Preston Down Road\, Paignton\, TQ3 1DL
CATEGORIES:Learning Exchange
END:VEVENT
BEGIN:VEVENT
DTSTART;TZID=UTC:20241114T103000
DTEND;TZID=UTC:20241114T123000
DTSTAMP:20260422T153416
CREATED:20240910T090144Z
LAST-MODIFIED:20240910T090144Z
UID:10000934-1731580200-1731587400@shekinah.co.uk
SUMMARY:Xmas Decoration Making
DESCRIPTION:Fancy making some xmas decs? Why not come along and be creative\, recycle from old\, forage in the\ngrounds of Grow or use some of your old decs and revamp them. \nGreat way to meet new people and have fun along the way.
URL:https://shekinah.co.uk/event/xmas-decoration-making/
LOCATION:Shekinah Grow\, Preston Down Road\, Paignton\, TQ3 1DL
CATEGORIES:Learning Exchange
END:VEVENT
BEGIN:VEVENT
DTSTART;TZID=UTC:20241112T100000
DTEND;TZID=UTC:20241112T140000
DTSTAMP:20260422T153416
CREATED:20240910T091101Z
LAST-MODIFIED:20240910T091101Z
UID:10000965-1731405600-1731420000@shekinah.co.uk
SUMMARY:Volunteer Days at Grow
DESCRIPTION:Are you passionate about holistic horticulture and eager to contribute to a thriving\ngreen space? Look no further! \nWhy Volunteer at Grow for Life?\n• Holistic Horticulture: Immerse yourself in the world of sustainable and holistic gardening practices.\n• Community Connection: Join a like-minded community of individuals passionate about\nnurturing nature.\n• Learn and Grow: Acquire valuable gardening skills from seasoned experts in a hands-on\, supportive\nenvironment.\n• Personalised Garden Bed: Your dedication deserves recognition! Enjoy your own garden bed to\ncultivate and harvest the fruits (and vegetables) of your labour.
URL:https://shekinah.co.uk/event/volunteer-days-at-grow/2024-11-12/
LOCATION:Shekinah Grow\, Preston Down Road\, Paignton\, TQ3 1DL
CATEGORIES:Learning Exchange
END:VEVENT
BEGIN:VEVENT
DTSTART;TZID=UTC:20241112T100000
DTEND;TZID=UTC:20241112T140000
DTSTAMP:20260422T153416
CREATED:20240910T074708Z
LAST-MODIFIED:20240910T074708Z
UID:10000815-1731405600-1731420000@shekinah.co.uk
SUMMARY:Plotting to Plant
DESCRIPTION:Course description: Are you looking for a fulfilling way to give back to your community\, while also\nenjoying the benefits of gardening? \nLook no further than a community garden project! This comprehensive guide will cover everything you need to know about community gardens\, including benefits\, types\, how to start\, potential problems and\nsolutions\, and much more. \n1. Encourages Healthy Eating\n2. Enhances Community Pride\n3. Promotes Physical Activity\n4. Improves Mental Health\n5. Educational Opportunities
URL:https://shekinah.co.uk/event/plotting-to-plant/2024-11-12/
LOCATION:Shekinah Grow\, Preston Down Road\, Paignton\, TQ3 1DL
CATEGORIES:Learning Exchange
END:VEVENT
BEGIN:VEVENT
DTSTART;TZID=UTC:20241105T100000
DTEND;TZID=UTC:20241105T140000
DTSTAMP:20260422T153416
CREATED:20240910T091101Z
LAST-MODIFIED:20240910T091101Z
UID:10000964-1730800800-1730815200@shekinah.co.uk
SUMMARY:Volunteer Days at Grow
DESCRIPTION:Are you passionate about holistic horticulture and eager to contribute to a thriving\ngreen space? Look no further! \nWhy Volunteer at Grow for Life?\n• Holistic Horticulture: Immerse yourself in the world of sustainable and holistic gardening practices.\n• Community Connection: Join a like-minded community of individuals passionate about\nnurturing nature.\n• Learn and Grow: Acquire valuable gardening skills from seasoned experts in a hands-on\, supportive\nenvironment.\n• Personalised Garden Bed: Your dedication deserves recognition! Enjoy your own garden bed to\ncultivate and harvest the fruits (and vegetables) of your labour.
URL:https://shekinah.co.uk/event/volunteer-days-at-grow/2024-11-05/
LOCATION:Shekinah Grow\, Preston Down Road\, Paignton\, TQ3 1DL
CATEGORIES:Learning Exchange
END:VEVENT
BEGIN:VEVENT
DTSTART;TZID=UTC:20241105T100000
DTEND;TZID=UTC:20241105T140000
DTSTAMP:20260422T153416
CREATED:20240910T074708Z
LAST-MODIFIED:20240910T074708Z
UID:10000814-1730800800-1730815200@shekinah.co.uk
SUMMARY:Plotting to Plant
DESCRIPTION:Course description: Are you looking for a fulfilling way to give back to your community\, while also\nenjoying the benefits of gardening? \nLook no further than a community garden project! This comprehensive guide will cover everything you need to know about community gardens\, including benefits\, types\, how to start\, potential problems and\nsolutions\, and much more. \n1. Encourages Healthy Eating\n2. Enhances Community Pride\n3. Promotes Physical Activity\n4. Improves Mental Health\n5. Educational Opportunities
URL:https://shekinah.co.uk/event/plotting-to-plant/2024-11-05/
LOCATION:Shekinah Grow\, Preston Down Road\, Paignton\, TQ3 1DL
CATEGORIES:Learning Exchange
END:VEVENT
BEGIN:VEVENT
DTSTART;TZID=UTC:20241101T134500
DTEND;TZID=UTC:20241101T150000
DTSTAMP:20260422T153416
CREATED:20240910T080539Z
LAST-MODIFIED:20240910T080539Z
UID:10000883-1730468700-1730473200@shekinah.co.uk
SUMMARY:Breathworks and Ice Baths
DESCRIPTION:Come join us for a cold dip in the water studio at Grow. We will have 30 minutes of guided medication\nfollowed by breathworks\, and then a dip in one of the ice baths. \nThis therapy can help with:\n• Easing sore and aching muscles.\n• Helping the central nervous system.\n• Limiting the inflammatory response.\n• Decreasing the effect of heat and humidity.\n• Training the vagus nerve. Just to name a few. \nPlease note that there are limited spaces.
URL:https://shekinah.co.uk/event/breathworks-and-ice-baths-2/
LOCATION:Shekinah Grow\, Preston Down Road\, Paignton\, TQ3 1DL
CATEGORIES:Learning Exchange
END:VEVENT
BEGIN:VEVENT
DTSTART;TZID=UTC:20241029T100000
DTEND;TZID=UTC:20241029T140000
DTSTAMP:20260422T153416
CREATED:20240910T091101Z
LAST-MODIFIED:20240910T091101Z
UID:10000963-1730196000-1730210400@shekinah.co.uk
SUMMARY:Volunteer Days at Grow
DESCRIPTION:Are you passionate about holistic horticulture and eager to contribute to a thriving\ngreen space? Look no further! \nWhy Volunteer at Grow for Life?\n• Holistic Horticulture: Immerse yourself in the world of sustainable and holistic gardening practices.\n• Community Connection: Join a like-minded community of individuals passionate about\nnurturing nature.\n• Learn and Grow: Acquire valuable gardening skills from seasoned experts in a hands-on\, supportive\nenvironment.\n• Personalised Garden Bed: Your dedication deserves recognition! Enjoy your own garden bed to\ncultivate and harvest the fruits (and vegetables) of your labour.
URL:https://shekinah.co.uk/event/volunteer-days-at-grow/2024-10-29/
LOCATION:Shekinah Grow\, Preston Down Road\, Paignton\, TQ3 1DL
CATEGORIES:Learning Exchange
END:VEVENT
BEGIN:VEVENT
DTSTART;TZID=UTC:20241029T100000
DTEND;TZID=UTC:20241029T140000
DTSTAMP:20260422T153416
CREATED:20240910T074708Z
LAST-MODIFIED:20240910T074708Z
UID:10000813-1730196000-1730210400@shekinah.co.uk
SUMMARY:Plotting to Plant
DESCRIPTION:Course description: Are you looking for a fulfilling way to give back to your community\, while also\nenjoying the benefits of gardening? \nLook no further than a community garden project! This comprehensive guide will cover everything you need to know about community gardens\, including benefits\, types\, how to start\, potential problems and\nsolutions\, and much more. \n1. Encourages Healthy Eating\n2. Enhances Community Pride\n3. Promotes Physical Activity\n4. Improves Mental Health\n5. Educational Opportunities
URL:https://shekinah.co.uk/event/plotting-to-plant/2024-10-29/
LOCATION:Shekinah Grow\, Preston Down Road\, Paignton\, TQ3 1DL
CATEGORIES:Learning Exchange
END:VEVENT
BEGIN:VEVENT
DTSTART;TZID=UTC:20241023T100000
DTEND;TZID=UTC:20241023T123000
DTSTAMP:20260422T153416
CREATED:20240910T075141Z
LAST-MODIFIED:20240910T075141Z
UID:10000843-1729677600-1729686600@shekinah.co.uk
SUMMARY:Yoga and Mindfulness in Nature
DESCRIPTION:Explore ways of integrating yoga\, mindfulness and nature connection practices into your daily\nlife as a way of supporting your mental health\, resilience and wellbeing\, this course will provide you with a friendly\, supportive and nurturing place if you are a well-seasoned practitioner and also if you are a newcomer and feel a bit shy.
URL:https://shekinah.co.uk/event/yoga-and-mindfulness-in-nature/2024-10-23/
LOCATION:Shekinah Grow\, Preston Down Road\, Paignton\, TQ3 1DL
CATEGORIES:Learning Exchange
END:VEVENT
BEGIN:VEVENT
DTSTART;TZID=UTC:20241022T100000
DTEND;TZID=UTC:20241022T140000
DTSTAMP:20260422T153416
CREATED:20240910T091101Z
LAST-MODIFIED:20240910T091101Z
UID:10000962-1729591200-1729605600@shekinah.co.uk
SUMMARY:Volunteer Days at Grow
DESCRIPTION:Are you passionate about holistic horticulture and eager to contribute to a thriving\ngreen space? Look no further! \nWhy Volunteer at Grow for Life?\n• Holistic Horticulture: Immerse yourself in the world of sustainable and holistic gardening practices.\n• Community Connection: Join a like-minded community of individuals passionate about\nnurturing nature.\n• Learn and Grow: Acquire valuable gardening skills from seasoned experts in a hands-on\, supportive\nenvironment.\n• Personalised Garden Bed: Your dedication deserves recognition! Enjoy your own garden bed to\ncultivate and harvest the fruits (and vegetables) of your labour.
URL:https://shekinah.co.uk/event/volunteer-days-at-grow/2024-10-22/
LOCATION:Shekinah Grow\, Preston Down Road\, Paignton\, TQ3 1DL
CATEGORIES:Learning Exchange
END:VEVENT
BEGIN:VEVENT
DTSTART;TZID=UTC:20241022T100000
DTEND;TZID=UTC:20241022T140000
DTSTAMP:20260422T153416
CREATED:20240910T074708Z
LAST-MODIFIED:20240910T074708Z
UID:10000812-1729591200-1729605600@shekinah.co.uk
SUMMARY:Plotting to Plant
DESCRIPTION:Course description: Are you looking for a fulfilling way to give back to your community\, while also\nenjoying the benefits of gardening? \nLook no further than a community garden project! This comprehensive guide will cover everything you need to know about community gardens\, including benefits\, types\, how to start\, potential problems and\nsolutions\, and much more. \n1. Encourages Healthy Eating\n2. Enhances Community Pride\n3. Promotes Physical Activity\n4. Improves Mental Health\n5. Educational Opportunities
URL:https://shekinah.co.uk/event/plotting-to-plant/2024-10-22/
LOCATION:Shekinah Grow\, Preston Down Road\, Paignton\, TQ3 1DL
CATEGORIES:Learning Exchange
END:VEVENT
BEGIN:VEVENT
DTSTART;TZID=UTC:20241016T100000
DTEND;TZID=UTC:20241016T123000
DTSTAMP:20260422T153416
CREATED:20240910T075141Z
LAST-MODIFIED:20240910T075141Z
UID:10000842-1729072800-1729081800@shekinah.co.uk
SUMMARY:Yoga and Mindfulness in Nature
DESCRIPTION:Explore ways of integrating yoga\, mindfulness and nature connection practices into your daily\nlife as a way of supporting your mental health\, resilience and wellbeing\, this course will provide you with a friendly\, supportive and nurturing place if you are a well-seasoned practitioner and also if you are a newcomer and feel a bit shy.
URL:https://shekinah.co.uk/event/yoga-and-mindfulness-in-nature/2024-10-16/
LOCATION:Shekinah Grow\, Preston Down Road\, Paignton\, TQ3 1DL
CATEGORIES:Learning Exchange
END:VEVENT
BEGIN:VEVENT
DTSTART;TZID=UTC:20241015T100000
DTEND;TZID=UTC:20241015T140000
DTSTAMP:20260422T153416
CREATED:20240910T091101Z
LAST-MODIFIED:20240910T091101Z
UID:10000961-1728986400-1729000800@shekinah.co.uk
SUMMARY:Volunteer Days at Grow
DESCRIPTION:Are you passionate about holistic horticulture and eager to contribute to a thriving\ngreen space? Look no further! \nWhy Volunteer at Grow for Life?\n• Holistic Horticulture: Immerse yourself in the world of sustainable and holistic gardening practices.\n• Community Connection: Join a like-minded community of individuals passionate about\nnurturing nature.\n• Learn and Grow: Acquire valuable gardening skills from seasoned experts in a hands-on\, supportive\nenvironment.\n• Personalised Garden Bed: Your dedication deserves recognition! Enjoy your own garden bed to\ncultivate and harvest the fruits (and vegetables) of your labour.
URL:https://shekinah.co.uk/event/volunteer-days-at-grow/2024-10-15/
LOCATION:Shekinah Grow\, Preston Down Road\, Paignton\, TQ3 1DL
CATEGORIES:Learning Exchange
END:VEVENT
BEGIN:VEVENT
DTSTART;TZID=UTC:20241015T100000
DTEND;TZID=UTC:20241015T140000
DTSTAMP:20260422T153416
CREATED:20240910T074708Z
LAST-MODIFIED:20240910T074708Z
UID:10000811-1728986400-1729000800@shekinah.co.uk
SUMMARY:Plotting to Plant
DESCRIPTION:Course description: Are you looking for a fulfilling way to give back to your community\, while also\nenjoying the benefits of gardening? \nLook no further than a community garden project! This comprehensive guide will cover everything you need to know about community gardens\, including benefits\, types\, how to start\, potential problems and\nsolutions\, and much more. \n1. Encourages Healthy Eating\n2. Enhances Community Pride\n3. Promotes Physical Activity\n4. Improves Mental Health\n5. Educational Opportunities
URL:https://shekinah.co.uk/event/plotting-to-plant/2024-10-15/
LOCATION:Shekinah Grow\, Preston Down Road\, Paignton\, TQ3 1DL
CATEGORIES:Learning Exchange
END:VEVENT
BEGIN:VEVENT
DTSTART;TZID=UTC:20241010T130000
DTEND;TZID=UTC:20241010T150000
DTSTAMP:20260422T153416
CREATED:20240910T091306Z
LAST-MODIFIED:20240910T091323Z
UID:10000974-1728565200-1728572400@shekinah.co.uk
SUMMARY:Pizza Apprentice
DESCRIPTION:Have you ever watched “The Apprentice” contestants starting small businesses and thought “I\ncould do that better!”? Do you love pizzas\, working with people and dealing with customers? Want to\nlearn some fun new skills such as making sourdough\, hand-stretching pizzas and cooking in a professional pizza oven? \nPizza Pirates are bringing their experience and expertise to the Learning Exchange to teach you how to not only make amazing pizza\, but how to start a small pizza business and sell to the public!
URL:https://shekinah.co.uk/event/pizza-apprentice/2024-10-10/
LOCATION:Shekinah Grow\, Preston Down Road\, Paignton\, TQ3 1DL
CATEGORIES:Learning Exchange
END:VEVENT
BEGIN:VEVENT
DTSTART;TZID=UTC:20241009T100000
DTEND;TZID=UTC:20241009T123000
DTSTAMP:20260422T153416
CREATED:20240910T075141Z
LAST-MODIFIED:20240910T075141Z
UID:10000841-1728468000-1728477000@shekinah.co.uk
SUMMARY:Yoga and Mindfulness in Nature
DESCRIPTION:Explore ways of integrating yoga\, mindfulness and nature connection practices into your daily\nlife as a way of supporting your mental health\, resilience and wellbeing\, this course will provide you with a friendly\, supportive and nurturing place if you are a well-seasoned practitioner and also if you are a newcomer and feel a bit shy.
URL:https://shekinah.co.uk/event/yoga-and-mindfulness-in-nature/2024-10-09/
LOCATION:Shekinah Grow\, Preston Down Road\, Paignton\, TQ3 1DL
CATEGORIES:Learning Exchange
END:VEVENT
BEGIN:VEVENT
DTSTART;TZID=UTC:20241008T100000
DTEND;TZID=UTC:20241008T140000
DTSTAMP:20260422T153416
CREATED:20240910T091101Z
LAST-MODIFIED:20240910T091101Z
UID:10000960-1728381600-1728396000@shekinah.co.uk
SUMMARY:Volunteer Days at Grow
DESCRIPTION:Are you passionate about holistic horticulture and eager to contribute to a thriving\ngreen space? Look no further! \nWhy Volunteer at Grow for Life?\n• Holistic Horticulture: Immerse yourself in the world of sustainable and holistic gardening practices.\n• Community Connection: Join a like-minded community of individuals passionate about\nnurturing nature.\n• Learn and Grow: Acquire valuable gardening skills from seasoned experts in a hands-on\, supportive\nenvironment.\n• Personalised Garden Bed: Your dedication deserves recognition! Enjoy your own garden bed to\ncultivate and harvest the fruits (and vegetables) of your labour.
URL:https://shekinah.co.uk/event/volunteer-days-at-grow/2024-10-08/
LOCATION:Shekinah Grow\, Preston Down Road\, Paignton\, TQ3 1DL
CATEGORIES:Learning Exchange
END:VEVENT
BEGIN:VEVENT
DTSTART;TZID=UTC:20241008T100000
DTEND;TZID=UTC:20241008T140000
DTSTAMP:20260422T153416
CREATED:20240910T074708Z
LAST-MODIFIED:20240910T074708Z
UID:10000810-1728381600-1728396000@shekinah.co.uk
SUMMARY:Plotting to Plant
DESCRIPTION:Course description: Are you looking for a fulfilling way to give back to your community\, while also\nenjoying the benefits of gardening? \nLook no further than a community garden project! This comprehensive guide will cover everything you need to know about community gardens\, including benefits\, types\, how to start\, potential problems and\nsolutions\, and much more. \n1. Encourages Healthy Eating\n2. Enhances Community Pride\n3. Promotes Physical Activity\n4. Improves Mental Health\n5. Educational Opportunities
URL:https://shekinah.co.uk/event/plotting-to-plant/2024-10-08/
LOCATION:Shekinah Grow\, Preston Down Road\, Paignton\, TQ3 1DL
CATEGORIES:Learning Exchange
END:VEVENT
BEGIN:VEVENT
DTSTART;TZID=UTC:20241004T134500
DTEND;TZID=UTC:20241004T150000
DTSTAMP:20260422T153416
CREATED:20240910T080432Z
LAST-MODIFIED:20240910T081012Z
UID:10000882-1728049500-1728054000@shekinah.co.uk
SUMMARY:Breathworks and Ice Baths
DESCRIPTION:Come join us for a cold dip in the water studio at Grow. We will have 30 minutes of guided medication\nfollowed by breathworks\, and then a dip in one of the ice baths. \nThis therapy can help with:\n• Easing sore and aching muscles.\n• Helping the central nervous system.\n• Limiting the inflammatory response.\n• Decreasing the effect of heat and humidity.\n• Training the vagus nerve. Just to name a few. \nPlease note that there are limited spaces.
URL:https://shekinah.co.uk/event/15106/
LOCATION:Shekinah Grow\, Preston Down Road\, Paignton\, TQ3 1DL
CATEGORIES:Learning Exchange
END:VEVENT
BEGIN:VEVENT
DTSTART;TZID=UTC:20241003T130000
DTEND;TZID=UTC:20241003T150000
DTSTAMP:20260422T153416
CREATED:20240910T091306Z
LAST-MODIFIED:20240910T091323Z
UID:10000973-1727960400-1727967600@shekinah.co.uk
SUMMARY:Pizza Apprentice
DESCRIPTION:Have you ever watched “The Apprentice” contestants starting small businesses and thought “I\ncould do that better!”? Do you love pizzas\, working with people and dealing with customers? Want to\nlearn some fun new skills such as making sourdough\, hand-stretching pizzas and cooking in a professional pizza oven? \nPizza Pirates are bringing their experience and expertise to the Learning Exchange to teach you how to not only make amazing pizza\, but how to start a small pizza business and sell to the public!
URL:https://shekinah.co.uk/event/pizza-apprentice/2024-10-03/
LOCATION:Shekinah Grow\, Preston Down Road\, Paignton\, TQ3 1DL
CATEGORIES:Learning Exchange
END:VEVENT
BEGIN:VEVENT
DTSTART;TZID=UTC:20241002T100000
DTEND;TZID=UTC:20241002T123000
DTSTAMP:20260422T153416
CREATED:20240910T075141Z
LAST-MODIFIED:20240910T075141Z
UID:10000840-1727863200-1727872200@shekinah.co.uk
SUMMARY:Yoga and Mindfulness in Nature
DESCRIPTION:Explore ways of integrating yoga\, mindfulness and nature connection practices into your daily\nlife as a way of supporting your mental health\, resilience and wellbeing\, this course will provide you with a friendly\, supportive and nurturing place if you are a well-seasoned practitioner and also if you are a newcomer and feel a bit shy.
URL:https://shekinah.co.uk/event/yoga-and-mindfulness-in-nature/2024-10-02/
LOCATION:Shekinah Grow\, Preston Down Road\, Paignton\, TQ3 1DL
CATEGORIES:Learning Exchange
END:VEVENT
BEGIN:VEVENT
DTSTART;TZID=UTC:20241001T150000
DTEND;TZID=UTC:20241001T180000
DTSTAMP:20260422T153416
CREATED:20240910T085436Z
LAST-MODIFIED:20240917T131038Z
UID:10000926-1727794800-1727805600@shekinah.co.uk
SUMMARY:Connecting with Nature
DESCRIPTION:An opportunity to connect with the land at Grow through meditation and grounding practices\,\nfollowed by a foraging walk. This will involve sharing skills in plant identification\, nutrition and medicinal benefits\, and responsible and ethical foraging practices. We will then connect to one plant we meet and get to know them through guided tasting and mindfulness.
URL:https://shekinah.co.uk/event/connecting-with-nature/
LOCATION:Shekinah Grow\, Preston Down Road\, Paignton\, TQ3 1DL
CATEGORIES:Learning Exchange
END:VEVENT
BEGIN:VEVENT
DTSTART;TZID=UTC:20241001T110000
DTEND;TZID=UTC:20241001T130000
DTSTAMP:20260422T153416
CREATED:20240910T083820Z
LAST-MODIFIED:20240910T083820Z
UID:10000902-1727780400-1727787600@shekinah.co.uk
SUMMARY:Build a Scarecrow
DESCRIPTION:Come and build a scarecrow\, team up with another\, create a scarecrow for Grow. We will have all the\nitems needed and have a theme awaiting. \nAt the last session we will have a judging panel\, and the winners will receive a prize.
URL:https://shekinah.co.uk/event/build-a-scarecrow/2024-10-01/
LOCATION:Shekinah Grow\, Preston Down Road\, Paignton\, TQ3 1DL
CATEGORIES:Learning Exchange
END:VEVENT
BEGIN:VEVENT
DTSTART;TZID=UTC:20241001T100000
DTEND;TZID=UTC:20241001T140000
DTSTAMP:20260422T153416
CREATED:20240910T091101Z
LAST-MODIFIED:20240910T091101Z
UID:10000959-1727776800-1727791200@shekinah.co.uk
SUMMARY:Volunteer Days at Grow
DESCRIPTION:Are you passionate about holistic horticulture and eager to contribute to a thriving\ngreen space? Look no further! \nWhy Volunteer at Grow for Life?\n• Holistic Horticulture: Immerse yourself in the world of sustainable and holistic gardening practices.\n• Community Connection: Join a like-minded community of individuals passionate about\nnurturing nature.\n• Learn and Grow: Acquire valuable gardening skills from seasoned experts in a hands-on\, supportive\nenvironment.\n• Personalised Garden Bed: Your dedication deserves recognition! Enjoy your own garden bed to\ncultivate and harvest the fruits (and vegetables) of your labour.
URL:https://shekinah.co.uk/event/volunteer-days-at-grow/2024-10-01/
LOCATION:Shekinah Grow\, Preston Down Road\, Paignton\, TQ3 1DL
CATEGORIES:Learning Exchange
END:VEVENT
END:VCALENDAR