BEGIN:VCALENDAR
VERSION:2.0
PRODID:-//Shekinah - ECPv6.15.18//NONSGML v1.0//EN
CALSCALE:GREGORIAN
METHOD:PUBLISH
X-ORIGINAL-URL:https://shekinah.co.uk
X-WR-CALDESC:Events for Shekinah
REFRESH-INTERVAL;VALUE=DURATION:PT1H
X-Robots-Tag:noindex
X-PUBLISHED-TTL:PT1H
BEGIN:VTIMEZONE
TZID:UTC
BEGIN:STANDARD
TZOFFSETFROM:+0000
TZOFFSETTO:+0000
TZNAME:UTC
DTSTART:20240101T000000
END:STANDARD
END:VTIMEZONE
BEGIN:VEVENT
DTSTART;TZID=UTC:20251205T193000
DTEND;TZID=UTC:20251205T213000
DTSTAMP:20260425T110104
CREATED:20251107T121345Z
LAST-MODIFIED:20251107T121554Z
UID:10009640-1764963000-1764970200@shekinah.co.uk
SUMMARY:Music & Words for Advent in aid of Shekinah
DESCRIPTION:https://shekinah.co.uk/wp-content/uploads/2025/11/St-Andrews-video.mp4
URL:https://shekinah.co.uk/event/music-words-for-advent-in-aid-of-shekinah/
LOCATION:St Andrew’s Church\, Royal Parade\, Plymouth\, PL1 2AD
CATEGORIES:Fundraising
ATTACH;FMTTYPE=image/png:https://shekinah.co.uk/wp-content/uploads/2025/11/Christmas-flyer-front-2025.png
END:VEVENT
END:VCALENDAR