BEGIN:VCALENDAR
VERSION:2.0
PRODID:-//Shekinah - ECPv6.15.18//NONSGML v1.0//EN
CALSCALE:GREGORIAN
METHOD:PUBLISH
X-ORIGINAL-URL:https://shekinah.co.uk
X-WR-CALDESC:Events for Shekinah
REFRESH-INTERVAL;VALUE=DURATION:PT1H
X-Robots-Tag:noindex
X-PUBLISHED-TTL:PT1H
BEGIN:VTIMEZONE
TZID:UTC
BEGIN:STANDARD
TZOFFSETFROM:+0000
TZOFFSETTO:+0000
TZNAME:UTC
DTSTART:20250101T000000
END:STANDARD
END:VTIMEZONE
BEGIN:VEVENT
DTSTART;TZID=UTC:20260217T140000
DTEND;TZID=UTC:20260217T160000
DTSTAMP:20260420T095116
CREATED:20251208T110725Z
LAST-MODIFIED:20251208T110725Z
UID:10010600-1771336800-1771344000@shekinah.co.uk
SUMMARY:IT & Tech Support
DESCRIPTION:Having problems with smartphone\, laptop or tablet?\nDo you struggle with functions\, files\, formats or searching the web?\nWhatever the problem or level – Brian is here to help you.
URL:https://shekinah.co.uk/event/it-tech-support-2/2026-02-17/
LOCATION:Stonehouse Creek\, Plymouth
CATEGORIES:Learning Exchange
END:VEVENT
BEGIN:VEVENT
DTSTART;TZID=UTC:20260217T120000
DTEND;TZID=UTC:20260217T140000
DTSTAMP:20260420T095116
CREATED:20241120T122457Z
LAST-MODIFIED:20241120T122457Z
UID:10004586-1771329600-1771336800@shekinah.co.uk
SUMMARY:Shelter to support your housing needs
DESCRIPTION:Open to all with issues around housing.
URL:https://shekinah.co.uk/event/shelter-to-support-your-housing-needs-2/2026-02-17/
LOCATION:Stonehouse Creek\, Plymouth
CATEGORIES:Drop in
END:VEVENT
BEGIN:VEVENT
DTSTART;TZID=UTC:20260217T110000
DTEND;TZID=UTC:20260217T123000
DTSTAMP:20260420T095116
CREATED:20251208T105636Z
LAST-MODIFIED:20251208T105636Z
UID:10010565-1771326000-1771331400@shekinah.co.uk
SUMMARY:Cabin Sessions
DESCRIPTION:Make a noise and spread some joy – Come along to our Wednesday sessions to sing some classic hits\nwith Matt and Jon. \nIf you are a beginner of guitar than you could support the singing while learning some new chords.
URL:https://shekinah.co.uk/event/cabin-sessions/2026-02-17/
LOCATION:Stonehouse Creek\, Plymouth
CATEGORIES:Learning Exchange
END:VEVENT
BEGIN:VEVENT
DTSTART;TZID=UTC:20260216T193000
DTEND;TZID=UTC:20260216T213000
DTSTAMP:20260420T095116
CREATED:20241120T124020Z
LAST-MODIFIED:20241120T124020Z
UID:10004811-1771270200-1771277400@shekinah.co.uk
SUMMARY:Trevi Support Group for women
DESCRIPTION:This support session is open to all women.  Safe space for all.  Please if you need support come along.
URL:https://shekinah.co.uk/event/trevi-support-group-for-women-2/2026-02-16/
LOCATION:Stonehouse Creek\, Plymouth
CATEGORIES:no-event
END:VEVENT
BEGIN:VEVENT
DTSTART;TZID=UTC:20260216T150000
DTEND;TZID=UTC:20260216T173000
DTSTAMP:20260420T095116
CREATED:20251208T101243Z
LAST-MODIFIED:20251208T101243Z
UID:10010523-1771254000-1771263000@shekinah.co.uk
SUMMARY:Becoming a Tutor
DESCRIPTION:Are you interested in joining our group of workshop facilitators but feel unsure about how to develop and deliver your course? \nDon’t worry – we can help. \nThis workshop will provide you with the essential basics to become a tutor for the Learning Exchange.
URL:https://shekinah.co.uk/event/becoming-a-tutor-6/
LOCATION:Stonehouse Creek\, Plymouth
CATEGORIES:Learning Exchange
END:VEVENT
BEGIN:VEVENT
DTSTART;TZID=UTC:20260216T140000
DTEND;TZID=UTC:20260216T160000
DTSTAMP:20260420T095116
CREATED:20251208T110637Z
LAST-MODIFIED:20251208T110637Z
UID:10010588-1771250400-1771257600@shekinah.co.uk
SUMMARY:IT & Tech Support
DESCRIPTION:Having problems with smartphone\, laptop or tablet?\nDo you struggle with functions\, files\, formats or searching the web?\nWhatever the problem or level – Brian is here to help you.
URL:https://shekinah.co.uk/event/it-tech-support/2026-02-16/
LOCATION:Stonehouse Creek\, Plymouth
CATEGORIES:Learning Exchange
END:VEVENT
BEGIN:VEVENT
DTSTART;TZID=UTC:20260213T130000
DTEND;TZID=UTC:20260213T150000
DTSTAMP:20260420T095116
CREATED:20251208T100547Z
LAST-MODIFIED:20251208T100547Z
UID:10010514-1770987600-1770994800@shekinah.co.uk
SUMMARY:Pickling & Fermenting
DESCRIPTION:Pickling and fermenting is a communal and cultural practice and goes back thousands of years. It is to preserve food and improve its flavour. Science shows that the friendly bacteria in fermented foods are good for your gut health\, which leads to great benefits on all parts of your body including your brain functions. \nSession 1: Sauerkraut and Kimchi \nSession 2: Kefir and Kombucha \nSession 3: Sourdough and Bread-making \nThese sessions can be enjoyed as a series or separately. Please specify when booking.
URL:https://shekinah.co.uk/event/pickling-fermenting/2026-02-13/
LOCATION:Stonehouse Creek\, Plymouth
CATEGORIES:Learning Exchange
END:VEVENT
BEGIN:VEVENT
DTSTART;TZID=UTC:20260213T123000
DTEND;TZID=UTC:20260213T143000
DTSTAMP:20260420T095116
CREATED:20241120T121157Z
LAST-MODIFIED:20260319T090415Z
UID:10004298-1770985800-1770993000@shekinah.co.uk
SUMMARY:DWP Drop in
DESCRIPTION:If you are looking for any support with regards Universal Credit or any other benefits please pop in to our Drop in!
URL:https://shekinah.co.uk/event/dwp-drop-in-2/2026-02-13/
LOCATION:Stonehouse Creek\, Plymouth
CATEGORIES:Drop in
END:VEVENT
BEGIN:VEVENT
DTSTART;TZID=UTC:20260213T110000
DTEND;TZID=UTC:20260213T150000
DTSTAMP:20260420T095116
CREATED:20250813T065856Z
LAST-MODIFIED:20250813T065856Z
UID:10009256-1770980400-1770994800@shekinah.co.uk
SUMMARY:Mental Health Awareness
DESCRIPTION:
URL:https://shekinah.co.uk/event/mental-health-awareness-9/2026-02-13/
LOCATION:Stonehouse Creek\, Plymouth
CATEGORIES:Training
ATTACH;FMTTYPE=image/png:https://shekinah.co.uk/wp-content/uploads/2025/08/Mental-Health-Social-Media-Tile-2025.png
END:VEVENT
BEGIN:VEVENT
DTSTART;TZID=UTC:20260213T100000
DTEND;TZID=UTC:20260213T150000
DTSTAMP:20260420T095116
CREATED:20250813T065135Z
LAST-MODIFIED:20250813T065135Z
UID:10009216-1770976800-1770994800@shekinah.co.uk
SUMMARY:Re:Create
DESCRIPTION:
URL:https://shekinah.co.uk/event/recreate-4/2026-02-13/
LOCATION:Stonehouse Creek\, Plymouth
CATEGORIES:Training
ATTACH;FMTTYPE=image/png:https://shekinah.co.uk/wp-content/uploads/2025/08/Recreate-Social-Media-2025.png
END:VEVENT
BEGIN:VEVENT
DTSTART;TZID=UTC:20260212T140000
DTEND;TZID=UTC:20260212T180000
DTSTAMP:20260420T095116
CREATED:20250813T064435Z
LAST-MODIFIED:20250813T064435Z
UID:10009176-1770904800-1770919200@shekinah.co.uk
SUMMARY:Re:lease
DESCRIPTION:
URL:https://shekinah.co.uk/event/release-3/2026-02-12/
LOCATION:Stonehouse Creek\, Plymouth
CATEGORIES:Training
ATTACH;FMTTYPE=image/png:https://shekinah.co.uk/wp-content/uploads/2025/08/Release-Social-Media-2025.png
END:VEVENT
BEGIN:VEVENT
DTSTART;TZID=UTC:20260212T130000
DTEND;TZID=UTC:20260212T150000
DTSTAMP:20260420T095116
CREATED:20251208T101143Z
LAST-MODIFIED:20251208T101143Z
UID:10010522-1770901200-1770908400@shekinah.co.uk
SUMMARY:Easy Book Making
DESCRIPTION:During this session you will learn how to make 2 types of simple books. \nMaterials will be provided but feel free to bring any paper you’d like to use. (Sharp scissors are useful if you have your own).
URL:https://shekinah.co.uk/event/easy-book-making/
LOCATION:Stonehouse Creek\, Plymouth
CATEGORIES:Learning Exchange
END:VEVENT
BEGIN:VEVENT
DTSTART;TZID=UTC:20260212T110000
DTEND;TZID=UTC:20260212T123000
DTSTAMP:20260420T095116
CREATED:20251208T110038Z
LAST-MODIFIED:20251208T110038Z
UID:10010576-1770894000-1770899400@shekinah.co.uk
SUMMARY:Literacy: Having Fun With Words
DESCRIPTION:Improve your reading and writing skills through simple tasks and games. If you have difficulty to focus on reading or if you have problems composing a letter or email\, this course is for you. \nEdwina will meet you at your level and support you at a speed of learning that is comfortable to you.
URL:https://shekinah.co.uk/event/literacy-having-fun-with-words/2026-02-12/
LOCATION:Stonehouse Creek\, Plymouth
CATEGORIES:Learning Exchange
END:VEVENT
BEGIN:VEVENT
DTSTART;TZID=UTC:20260212T093000
DTEND;TZID=UTC:20260212T130000
DTSTAMP:20260420T095116
CREATED:20250812T134135Z
LAST-MODIFIED:20250812T134135Z
UID:10009136-1770888600-1770901200@shekinah.co.uk
SUMMARY:Mentoring Level 2
DESCRIPTION:
URL:https://shekinah.co.uk/event/mentoring-level-2-10/2026-02-12/
LOCATION:Stonehouse Creek\, Plymouth
CATEGORIES:Training
ATTACH;FMTTYPE=image/png:https://shekinah.co.uk/wp-content/uploads/2025/08/Mentoring-L2-Social-Media-Tile-2024-1.png
END:VEVENT
BEGIN:VEVENT
DTSTART;TZID=UTC:20260212T090000
DTEND;TZID=UTC:20260212T150000
DTSTAMP:20260420T095116
CREATED:20250115T132704Z
LAST-MODIFIED:20251106T082456Z
UID:10007603-1770886800-1770908400@shekinah.co.uk
SUMMARY:Vision Care - essential eye care
DESCRIPTION:
URL:https://shekinah.co.uk/event/vision-care-essential-eye-care/2026-02-12/
LOCATION:Stonehouse Creek\, Plymouth
CATEGORIES:no-event
END:VEVENT
BEGIN:VEVENT
DTSTART;TZID=UTC:20260211T193000
DTEND;TZID=UTC:20260211T213000
DTSTAMP:20260420T095116
CREATED:20241120T124020Z
LAST-MODIFIED:20241120T124020Z
UID:10004810-1770838200-1770845400@shekinah.co.uk
SUMMARY:Trevi Support Group for women
DESCRIPTION:This support session is open to all women.  Safe space for all.  Please if you need support come along.
URL:https://shekinah.co.uk/event/trevi-support-group-for-women-2/2026-02-11/
LOCATION:Stonehouse Creek\, Plymouth
CATEGORIES:no-event
END:VEVENT
BEGIN:VEVENT
DTSTART;TZID=UTC:20260211T130000
DTEND;TZID=UTC:20260211T150000
DTSTAMP:20260420T095116
CREATED:20251208T100730Z
LAST-MODIFIED:20251208T100730Z
UID:10010517-1770814800-1770822000@shekinah.co.uk
SUMMARY:Spoon Carving
DESCRIPTION:The course will be a series of sessions\, each building on the previous one. \nSession 1: Introduction to safely using an axe to produce a billet ready for carving a spoon. Session 2: Introduction to safely using a knife to carve a spoon from a pre-prepared billet. Session 3: Finishing and oiling your spoon. \nAt the end of the last session\, you will hopefully have a spoon you can take home and enjoy.
URL:https://shekinah.co.uk/event/spoon-carving-5/2026-02-11/
LOCATION:Stonehouse Creek\, Plymouth
CATEGORIES:Learning Exchange
END:VEVENT
BEGIN:VEVENT
DTSTART;TZID=UTC:20260211T100000
DTEND;TZID=UTC:20260211T150000
DTSTAMP:20260420T095116
CREATED:20250812T103016Z
LAST-MODIFIED:20250812T103016Z
UID:10009096-1770804000-1770822000@shekinah.co.uk
SUMMARY:Carpentry
DESCRIPTION:
URL:https://shekinah.co.uk/event/carpentry-9/2026-02-11/
LOCATION:Stonehouse Creek\, Plymouth
CATEGORIES:Training
ATTACH;FMTTYPE=image/png:https://shekinah.co.uk/wp-content/uploads/2025/08/Carpentry-Social-Media-Tile-2025.png
END:VEVENT
BEGIN:VEVENT
DTSTART;TZID=UTC:20260211T093000
DTEND;TZID=UTC:20260211T130000
DTSTAMP:20260420T095116
CREATED:20250812T102217Z
LAST-MODIFIED:20250812T102217Z
UID:10009056-1770802200-1770814800@shekinah.co.uk
SUMMARY:Mentoring Level 1
DESCRIPTION:
URL:https://shekinah.co.uk/event/mentoring-level-1-9/2026-02-11/
LOCATION:Stonehouse Creek\, Plymouth
CATEGORIES:Training
ATTACH;FMTTYPE=image/png:https://shekinah.co.uk/wp-content/uploads/2025/08/Mentoring-L1-Social-Media-Tile-2024.png
END:VEVENT
BEGIN:VEVENT
DTSTART;TZID=UTC:20260210T160000
DTEND;TZID=UTC:20260210T180000
DTSTAMP:20260420T095116
CREATED:20251208T095326Z
LAST-MODIFIED:20251208T095326Z
UID:10010490-1770739200-1770746400@shekinah.co.uk
SUMMARY:Creative Speaking Club
DESCRIPTION:Each week\, participants will practice speaking English through guided conversation and creative workshops. \nEvery session will introduce a new artistic technique (painting\, jewellery making\, origami etc.)\, providing both language exposure and a fun\, supportive space for self-expression. \nEnglish natives are also welcome to this course to help with practising the language and indulging into cultural exchange.
URL:https://shekinah.co.uk/event/creative-speaking-club/2026-02-10/
LOCATION:Stonehouse Creek\, Plymouth
CATEGORIES:Learning Exchange
END:VEVENT
BEGIN:VEVENT
DTSTART;TZID=UTC:20260210T140000
DTEND;TZID=UTC:20260210T180000
DTSTAMP:20260420T095116
CREATED:20250812T100929Z
LAST-MODIFIED:20250812T100929Z
UID:10009016-1770732000-1770746400@shekinah.co.uk
SUMMARY:Re:vive
DESCRIPTION:
URL:https://shekinah.co.uk/event/revive-11/2026-02-10/
LOCATION:Stonehouse Creek\, Plymouth
CATEGORIES:Training
ATTACH;FMTTYPE=image/png:https://shekinah.co.uk/wp-content/uploads/2025/08/Revive-Social-Media-Tile-2025-1.png
END:VEVENT
BEGIN:VEVENT
DTSTART;TZID=UTC:20260210T140000
DTEND;TZID=UTC:20260210T160000
DTSTAMP:20260420T095116
CREATED:20251208T110725Z
LAST-MODIFIED:20251208T110725Z
UID:10010599-1770732000-1770739200@shekinah.co.uk
SUMMARY:IT & Tech Support
DESCRIPTION:Having problems with smartphone\, laptop or tablet?\nDo you struggle with functions\, files\, formats or searching the web?\nWhatever the problem or level – Brian is here to help you.
URL:https://shekinah.co.uk/event/it-tech-support-2/2026-02-10/
LOCATION:Stonehouse Creek\, Plymouth
CATEGORIES:Learning Exchange
END:VEVENT
BEGIN:VEVENT
DTSTART;TZID=UTC:20260210T110000
DTEND;TZID=UTC:20260210T123000
DTSTAMP:20260420T095116
CREATED:20251208T105636Z
LAST-MODIFIED:20251208T105636Z
UID:10010564-1770721200-1770726600@shekinah.co.uk
SUMMARY:Cabin Sessions
DESCRIPTION:Make a noise and spread some joy – Come along to our Wednesday sessions to sing some classic hits\nwith Matt and Jon. \nIf you are a beginner of guitar than you could support the singing while learning some new chords.
URL:https://shekinah.co.uk/event/cabin-sessions/2026-02-10/
LOCATION:Stonehouse Creek\, Plymouth
CATEGORIES:Learning Exchange
END:VEVENT
BEGIN:VEVENT
DTSTART;TZID=UTC:20260210T093000
DTEND;TZID=UTC:20260210T133000
DTSTAMP:20260420T095116
CREATED:20250812T094805Z
LAST-MODIFIED:20250812T094805Z
UID:10008976-1770715800-1770730200@shekinah.co.uk
SUMMARY:Re:develop
DESCRIPTION:
URL:https://shekinah.co.uk/event/redevelop-13/2026-02-10/
LOCATION:Stonehouse Creek\, Plymouth
CATEGORIES:Training
ATTACH;FMTTYPE=image/png:https://shekinah.co.uk/wp-content/uploads/2025/08/Redevelop-Social-Media-Tile-April-2025.png
END:VEVENT
BEGIN:VEVENT
DTSTART;TZID=UTC:20260209T193000
DTEND;TZID=UTC:20260209T213000
DTSTAMP:20260420T095116
CREATED:20241120T124020Z
LAST-MODIFIED:20241120T124020Z
UID:10004809-1770665400-1770672600@shekinah.co.uk
SUMMARY:Trevi Support Group for women
DESCRIPTION:This support session is open to all women.  Safe space for all.  Please if you need support come along.
URL:https://shekinah.co.uk/event/trevi-support-group-for-women-2/2026-02-09/
LOCATION:Stonehouse Creek\, Plymouth
CATEGORIES:no-event
END:VEVENT
BEGIN:VEVENT
DTSTART;TZID=UTC:20260209T150000
DTEND;TZID=UTC:20260209T180000
DTSTAMP:20260420T095116
CREATED:20251208T100018Z
LAST-MODIFIED:20251208T100018Z
UID:10010508-1770649200-1770660000@shekinah.co.uk
SUMMARY:Introduction to 3D Printing and CAD*
DESCRIPTION:Session 1: Introduction to 3D printing Session\n2: Introduction to CAD software Session\n3: Introduction to slicers and printing For this series of sessions\, it is important to have a basic understanding of computers. \nIt would be good if you brought a laptop to work with\, but you can also borrow one from us if necessary. Matt will teach you the basics of 3D design\, show you how the printer works\, and give you an insight of what programmes are available to use. \nYou will be able to make your own design and if it is within the legal and physical parameters\, see it materialise.
URL:https://shekinah.co.uk/event/introduction-to-3d-printing-and-cad/2026-02-09/
LOCATION:Stonehouse Creek\, Plymouth
CATEGORIES:Learning Exchange
END:VEVENT
BEGIN:VEVENT
DTSTART;TZID=UTC:20260209T140000
DTEND;TZID=UTC:20260209T160000
DTSTAMP:20260420T095116
CREATED:20251208T110637Z
LAST-MODIFIED:20251208T110637Z
UID:10010587-1770645600-1770652800@shekinah.co.uk
SUMMARY:IT & Tech Support
DESCRIPTION:Having problems with smartphone\, laptop or tablet?\nDo you struggle with functions\, files\, formats or searching the web?\nWhatever the problem or level – Brian is here to help you.
URL:https://shekinah.co.uk/event/it-tech-support/2026-02-09/
LOCATION:Stonehouse Creek\, Plymouth
CATEGORIES:Learning Exchange
END:VEVENT
BEGIN:VEVENT
DTSTART;TZID=UTC:20260209T140000
DTEND;TZID=UTC:20260209T160000
DTSTAMP:20260420T095116
CREATED:20251208T095842Z
LAST-MODIFIED:20251208T095842Z
UID:10010505-1770645600-1770652800@shekinah.co.uk
SUMMARY:Gothic Horror
DESCRIPTION:Come along and have a look at some traditional\, spine tingling\, horror literature. Scream at the settings and characters\, shiver at the plots and action! \nWe will also look at the historic times for some of these books and you will have a chance to read aloud the heinous story-lines. How are these books portrayed on TV and on film? Have these volumes changed fashion? \nWe will look at the Gothic works of Agatha Christie\, Edgar Alan Poe\, Mary Shelley\, Alistair Crowley and others. Sign up if you dare!!
URL:https://shekinah.co.uk/event/gothic-horror/2026-02-09/
LOCATION:Stonehouse Creek\, Plymouth
CATEGORIES:Learning Exchange
END:VEVENT
BEGIN:VEVENT
DTSTART;TZID=UTC:20260206T160000
DTEND;TZID=UTC:20260206T180000
DTSTAMP:20260420T095116
CREATED:20251208T101042Z
LAST-MODIFIED:20251208T101042Z
UID:10010520-1770393600-1770400800@shekinah.co.uk
SUMMARY:Sea-Glass Pendants
DESCRIPTION:Join Emm on an adventure into wire wrapping sea glass! \nBring your own sea glass treasure from the beach or select from a huge amount in Emm’s stash! \nWe will learn how to wrap our sea glass giving it a bail on the top to use as a pendant. Cord will be provided so you can wear it home! \nGlass must be between 3 to 5cm in height and 1 to 5cm in width. \nFridays 6/2 or 20/2. 4pm – 6pm
URL:https://shekinah.co.uk/event/sea-glass-pendants/2026-02-06/
LOCATION:Stonehouse Creek\, Plymouth
CATEGORIES:Learning Exchange
END:VEVENT
BEGIN:VEVENT
DTSTART;TZID=UTC:20260206T123000
DTEND;TZID=UTC:20260206T143000
DTSTAMP:20260420T095116
CREATED:20241120T121157Z
LAST-MODIFIED:20260319T090415Z
UID:10004297-1770381000-1770388200@shekinah.co.uk
SUMMARY:DWP Drop in
DESCRIPTION:If you are looking for any support with regards Universal Credit or any other benefits please pop in to our Drop in!
URL:https://shekinah.co.uk/event/dwp-drop-in-2/2026-02-06/
LOCATION:Stonehouse Creek\, Plymouth
CATEGORIES:Drop in
END:VEVENT
END:VCALENDAR