BEGIN:VCALENDAR
VERSION:2.0
PRODID:-//Shekinah - ECPv6.15.18//NONSGML v1.0//EN
CALSCALE:GREGORIAN
METHOD:PUBLISH
X-ORIGINAL-URL:https://shekinah.co.uk
X-WR-CALDESC:Events for Shekinah
REFRESH-INTERVAL;VALUE=DURATION:PT1H
X-Robots-Tag:noindex
X-PUBLISHED-TTL:PT1H
BEGIN:VTIMEZONE
TZID:UTC
BEGIN:STANDARD
TZOFFSETFROM:+0000
TZOFFSETTO:+0000
TZNAME:UTC
DTSTART:20250101T000000
END:STANDARD
END:VTIMEZONE
BEGIN:VEVENT
DTSTART;TZID=UTC:20260617T170000
DTEND;TZID=UTC:20260617T180000
DTSTAMP:20260422T080343
CREATED:20260413T124214Z
LAST-MODIFIED:20260413T124214Z
UID:10011899-1781715600-1781719200@shekinah.co.uk
SUMMARY:Hatha Yoga
DESCRIPTION:This will be a mixed ability class of Hatha yoga (1 hour sessions)\, which will mostly focus on beginners\,\nhowever there will be options to make it more challenging for the more experienced. \nIt will focus on posture work\, some breathing practices and meditation\, in order to make each\nparticipant more aware of their body and enable them to feel more comfortable in it. \nPlease bring a small blanket\, if you can\, as a support or for keeping warm during savasana (rest).
URL:https://shekinah.co.uk/event/hatha-yoga-10/2026-06-17/
LOCATION:Stonehouse Creek\, Plymouth
CATEGORIES:Learning Exchange
END:VEVENT
BEGIN:VEVENT
DTSTART;TZID=UTC:20260617T193000
DTEND;TZID=UTC:20260617T213000
DTSTAMP:20260422T080343
CREATED:20241120T124020Z
LAST-MODIFIED:20241120T124020Z
UID:10004846-1781724600-1781731800@shekinah.co.uk
SUMMARY:Trevi Support Group for women
DESCRIPTION:This support session is open to all women.  Safe space for all.  Please if you need support come along.
URL:https://shekinah.co.uk/event/trevi-support-group-for-women-2/2026-06-17/
LOCATION:Stonehouse Creek\, Plymouth
CATEGORIES:no-event
END:VEVENT
BEGIN:VEVENT
DTSTART;TZID=UTC:20260618T090000
DTEND;TZID=UTC:20260618T150000
DTSTAMP:20260422T080343
CREATED:20250115T132704Z
LAST-MODIFIED:20251106T082456Z
UID:10007621-1781773200-1781794800@shekinah.co.uk
SUMMARY:Vision Care - essential eye care
DESCRIPTION:
URL:https://shekinah.co.uk/event/vision-care-essential-eye-care/2026-06-18/
LOCATION:Stonehouse Creek\, Plymouth
CATEGORIES:no-event
END:VEVENT
BEGIN:VEVENT
DTSTART;TZID=UTC:20260618T093000
DTEND;TZID=UTC:20260618T130000
DTSTAMP:20260422T080343
CREATED:20250812T134454Z
LAST-MODIFIED:20250812T134454Z
UID:10009150-1781775000-1781787600@shekinah.co.uk
SUMMARY:Mentoring Level 2
DESCRIPTION:
URL:https://shekinah.co.uk/event/mentoring-level-2-13/2026-06-18/
LOCATION:Stonehouse Creek\, Plymouth
CATEGORIES:Training
ATTACH;FMTTYPE=image/png:https://shekinah.co.uk/wp-content/uploads/2025/08/Mentoring-L2-Social-Media-Tile-2024-1.png
END:VEVENT
BEGIN:VEVENT
DTSTART;TZID=UTC:20260618T100000
DTEND;TZID=UTC:20260618T120000
DTSTAMP:20260422T080343
CREATED:20260413T122835Z
LAST-MODIFIED:20260413T122928Z
UID:10011848-1781776800-1781784000@shekinah.co.uk
SUMMARY:Literacy: Having Fun With Words
DESCRIPTION:Improve your reading and writing skills through simple tasks and games. If you have difficulty to\nfocus on reading or if you have problems composing a letter or email\, this course is for you. \nEdwina will meet you at your level and support you at a speed of learning that is comfortable to you. \nMondays and Thursdays\, allocated time slots. To enquire please email Learning Exchange Team.
URL:https://shekinah.co.uk/event/literacy-having-fun-with-words-2/2026-06-18/
LOCATION:Stonehouse Creek\, Plymouth
CATEGORIES:Learning Exchange
END:VEVENT
BEGIN:VEVENT
DTSTART;TZID=UTC:20260618T110000
DTEND;TZID=UTC:20260618T123000
DTSTAMP:20260422T080343
CREATED:20260413T124952Z
LAST-MODIFIED:20260413T124952Z
UID:10011909-1781780400-1781785800@shekinah.co.uk
SUMMARY:Guitar Lessons
DESCRIPTION:In this course you will learn several chords and strumming techniques. Also\, tuning a guitar\, care\nand maintenance. \nYou will find a new way of expression\, improve your hand-eye coordination and listening skills\, and enter the community of musicians. \nALL LEVELS WELCOME! \nGuitars will be supplied if needed.
URL:https://shekinah.co.uk/event/guitar-lessons/2026-06-18/
LOCATION:Stonehouse Creek\, Plymouth
CATEGORIES:Learning Exchange
END:VEVENT
BEGIN:VEVENT
DTSTART;TZID=UTC:20260618T140000
DTEND;TZID=UTC:20260618T180000
DTSTAMP:20260422T080343
CREATED:20250813T064753Z
LAST-MODIFIED:20250813T064753Z
UID:10009190-1781791200-1781805600@shekinah.co.uk
SUMMARY:Re:lease
DESCRIPTION:
URL:https://shekinah.co.uk/event/release-6/2026-06-18/
LOCATION:Stonehouse Creek\, Plymouth
CATEGORIES:Training
ATTACH;FMTTYPE=image/png:https://shekinah.co.uk/wp-content/uploads/2025/08/Release-Social-Media-2025.png
END:VEVENT
BEGIN:VEVENT
DTSTART;TZID=UTC:20260619T100000
DTEND;TZID=UTC:20260619T150000
DTSTAMP:20260422T080343
CREATED:20250813T065529Z
LAST-MODIFIED:20250813T065529Z
UID:10009230-1781863200-1781881200@shekinah.co.uk
SUMMARY:Re:Create
DESCRIPTION:
URL:https://shekinah.co.uk/event/recreate-7/2026-06-19/
LOCATION:Stonehouse Creek\, Plymouth
CATEGORIES:Training
ATTACH;FMTTYPE=image/png:https://shekinah.co.uk/wp-content/uploads/2025/08/Recreate-Social-Media-2025.png
END:VEVENT
BEGIN:VEVENT
DTSTART;TZID=UTC:20260619T110000
DTEND;TZID=UTC:20260619T150000
DTSTAMP:20260422T080343
CREATED:20250813T070155Z
LAST-MODIFIED:20250813T070155Z
UID:10009270-1781866800-1781881200@shekinah.co.uk
SUMMARY:Mental Health Awareness
DESCRIPTION:
URL:https://shekinah.co.uk/event/mental-health-awareness-12/2026-06-19/
LOCATION:Stonehouse Creek\, Plymouth
CATEGORIES:Training
ATTACH;FMTTYPE=image/png:https://shekinah.co.uk/wp-content/uploads/2025/08/Mental-Health-Social-Media-Tile-2025.png
END:VEVENT
BEGIN:VEVENT
DTSTART;TZID=UTC:20260619T123000
DTEND;TZID=UTC:20260619T143000
DTSTAMP:20260422T080343
CREATED:20241120T121157Z
LAST-MODIFIED:20260319T090415Z
UID:10004316-1781872200-1781879400@shekinah.co.uk
SUMMARY:DWP Drop in
DESCRIPTION:If you are looking for any support with regards Universal Credit or any other benefits please pop in to our Drop in!
URL:https://shekinah.co.uk/event/dwp-drop-in-2/2026-06-19/
LOCATION:Stonehouse Creek\, Plymouth
CATEGORIES:Drop in
END:VEVENT
BEGIN:VEVENT
DTSTART;TZID=UTC:20260619T130000
DTEND;TZID=UTC:20260619T153000
DTSTAMP:20260422T080343
CREATED:20260413T130754Z
LAST-MODIFIED:20260413T130754Z
UID:10011934-1781874000-1781883000@shekinah.co.uk
SUMMARY:Movement & Dance to Liberate Mind\, Body & Spirit
DESCRIPTION:These sessions are provided to facilitate a sense of freedom and playfulness enabling free expression to tune into your unique natural rhythms. The music and dance is an uplifting motivator for letting go the mental dialogue and to connect with the inner child within us all\, who gives spontaneous creative expression. This allows conscious awareness\, which brings joy and well-being through letting go. \nQiGong and Do-In exercises will enable you to balance each of the chakras and Human Energy Field\n(HEF/Aura). \nBring no expectation just your free self. Wear loose comfortable clothing and soft shoes for dancing or\ndance in bare feet or socks. Looking forward to free flow with you.
URL:https://shekinah.co.uk/event/movement-dance-to-liberate-mind-body-spirit/2026-06-19/
LOCATION:Stonehouse Creek\, Plymouth
CATEGORIES:Learning Exchange
END:VEVENT
BEGIN:VEVENT
DTSTART;TZID=UTC:20260622T193000
DTEND;TZID=UTC:20260622T213000
DTSTAMP:20260422T080343
CREATED:20241120T124020Z
LAST-MODIFIED:20241120T124020Z
UID:10004847-1782156600-1782163800@shekinah.co.uk
SUMMARY:Trevi Support Group for women
DESCRIPTION:This support session is open to all women.  Safe space for all.  Please if you need support come along.
URL:https://shekinah.co.uk/event/trevi-support-group-for-women-2/2026-06-22/
LOCATION:Stonehouse Creek\, Plymouth
CATEGORIES:no-event
END:VEVENT
BEGIN:VEVENT
DTSTART;TZID=UTC:20260623T093000
DTEND;TZID=UTC:20260623T133000
DTSTAMP:20260422T080343
CREATED:20250812T095502Z
LAST-MODIFIED:20250812T095502Z
UID:10008991-1782207000-1782221400@shekinah.co.uk
SUMMARY:Re:develop
DESCRIPTION:
URL:https://shekinah.co.uk/event/redevelop-16/2026-06-23/
LOCATION:Stonehouse Creek\, Plymouth
CATEGORIES:Training
ATTACH;FMTTYPE=image/png:https://shekinah.co.uk/wp-content/uploads/2025/08/Redevelop-Social-Media-Tile-April-2025.png
END:VEVENT
BEGIN:VEVENT
DTSTART;TZID=UTC:20260623T120000
DTEND;TZID=UTC:20260623T140000
DTSTAMP:20260422T080343
CREATED:20241120T122457Z
LAST-MODIFIED:20241120T122457Z
UID:10004595-1782216000-1782223200@shekinah.co.uk
SUMMARY:Shelter to support your housing needs
DESCRIPTION:Open to all with issues around housing.
URL:https://shekinah.co.uk/event/shelter-to-support-your-housing-needs-2/2026-06-23/
LOCATION:Stonehouse Creek\, Plymouth
CATEGORIES:Drop in
END:VEVENT
BEGIN:VEVENT
DTSTART;TZID=UTC:20260623T130000
DTEND;TZID=UTC:20260623T150000
DTSTAMP:20260422T080343
CREATED:20260413T123102Z
LAST-MODIFIED:20260413T123102Z
UID:10011860-1782219600-1782226800@shekinah.co.uk
SUMMARY:IT & Tech Support
DESCRIPTION:Having problems with smartphone\, laptop or tablet? \nDo you struggle with functions\, files\, formats or searching the web? \nWhatever the problem or level – Brian is here to help you.
URL:https://shekinah.co.uk/event/it-tech-support-3/2026-06-23/
LOCATION:Stonehouse Creek\, Plymouth
CATEGORIES:Learning Exchange
END:VEVENT
BEGIN:VEVENT
DTSTART;TZID=UTC:20260623T140000
DTEND;TZID=UTC:20260623T160000
DTSTAMP:20260422T080343
CREATED:20260413T131200Z
LAST-MODIFIED:20260413T131200Z
UID:10011938-1782223200-1782230400@shekinah.co.uk
SUMMARY:Conspiracy Theories\, Cults & Charlatans
DESCRIPTION:In a world where information flows more freely than ever\, and with increasing claims of disinformation or ‘fake news’\, people may seek to find comfort in the apparent consistency offered by conspiracy theories and/or cults. \nThis workshop sets out to critically examine the appeal of these ideas\, how they gain traction\, and\nconsider what\, if any\, function they can provide.
URL:https://shekinah.co.uk/event/conspiracy-theories-cults-charlatans/
LOCATION:Stonehouse Creek\, Plymouth
CATEGORIES:Learning Exchange
END:VEVENT
BEGIN:VEVENT
DTSTART;TZID=UTC:20260623T140000
DTEND;TZID=UTC:20260623T180000
DTSTAMP:20260422T080343
CREATED:20250812T101712Z
LAST-MODIFIED:20250812T101712Z
UID:10009031-1782223200-1782237600@shekinah.co.uk
SUMMARY:Re:vive
DESCRIPTION:
URL:https://shekinah.co.uk/event/revive-14/2026-06-23/
LOCATION:Stonehouse Creek\, Plymouth
CATEGORIES:Training
ATTACH;FMTTYPE=image/png:https://shekinah.co.uk/wp-content/uploads/2025/08/Revive-Social-Media-Tile-2025-1.png
END:VEVENT
BEGIN:VEVENT
DTSTART;TZID=UTC:20260624T093000
DTEND;TZID=UTC:20260624T130000
DTSTAMP:20260422T080343
CREATED:20250812T102607Z
LAST-MODIFIED:20250812T102607Z
UID:10009071-1782293400-1782306000@shekinah.co.uk
SUMMARY:Mentoring Level 1
DESCRIPTION:
URL:https://shekinah.co.uk/event/mentoring-level-1-12/2026-06-24/
LOCATION:Stonehouse Creek\, Plymouth
CATEGORIES:Training
ATTACH;FMTTYPE=image/png:https://shekinah.co.uk/wp-content/uploads/2025/08/Mentoring-L1-Social-Media-Tile-2024.png
END:VEVENT
BEGIN:VEVENT
DTSTART;TZID=UTC:20260624T100000
DTEND;TZID=UTC:20260624T150000
DTSTAMP:20260422T080343
CREATED:20250812T103357Z
LAST-MODIFIED:20250812T133716Z
UID:10009111-1782295200-1782313200@shekinah.co.uk
SUMMARY:Carpentry
DESCRIPTION:
URL:https://shekinah.co.uk/event/carpentry-12/2026-06-24/
LOCATION:Stonehouse Creek\, Plymouth
CATEGORIES:Training
ATTACH;FMTTYPE=image/png:https://shekinah.co.uk/wp-content/uploads/2025/08/Carpentry-Social-Media-Tile-2025.png
END:VEVENT
BEGIN:VEVENT
DTSTART;TZID=UTC:20260624T110000
DTEND;TZID=UTC:20260624T130000
DTSTAMP:20260422T080343
CREATED:20260413T123341Z
LAST-MODIFIED:20260413T123341Z
UID:10011874-1782298800-1782306000@shekinah.co.uk
SUMMARY:Cabin Sessions
DESCRIPTION:Make a noise and spread some joy – Come along to our sessions to sing some classic hits with Matt and\nJon. \nBring an instrument or a shaky egg\, stylophone etc. if you want.
URL:https://shekinah.co.uk/event/cabin-sessions-2/2026-06-24/
LOCATION:Stonehouse Creek\, Plymouth
CATEGORIES:Learning Exchange
END:VEVENT
BEGIN:VEVENT
DTSTART;TZID=UTC:20260624T140000
DTEND;TZID=UTC:20260624T153000
DTSTAMP:20260422T080343
CREATED:20260413T130007Z
LAST-MODIFIED:20260413T130007Z
UID:10011924-1782309600-1782315000@shekinah.co.uk
SUMMARY:Microsoft Office Advisory Sessions
DESCRIPTION:Drop-in sessions with the use of Microsoft Office packages\, including Word\, Excel\, Outlook and\nPowerPoint. It is also hoped to have software available so that students can practice the basics of\ntouch-typing. \nAttendees should bring their mobile/computer\, if possible\, to see better what the issue is.
URL:https://shekinah.co.uk/event/microsoft-office-advisory-sessions/2026-06-24/
LOCATION:Stonehouse Creek\, Plymouth
CATEGORIES:Learning Exchange
END:VEVENT
BEGIN:VEVENT
DTSTART;TZID=UTC:20260624T140000
DTEND;TZID=UTC:20260624T170000
DTSTAMP:20260422T080343
CREATED:20260413T131021Z
LAST-MODIFIED:20260413T131021Z
UID:10011937-1782309600-1782320400@shekinah.co.uk
SUMMARY:Emotional Logic
DESCRIPTION:These two introductory workshops will help you to look beyond behaviour to emotions and beyond\nthose to the threatened values that are driving them. \nThen one small value can be recovered\, resulting in a ‘butterfly effect’ or cascade of recovery. \nLearning to activate your own\, innate Emotional Logic not only builds your inner strength\, it enables\nyou to have creative conversations to help others too.
URL:https://shekinah.co.uk/event/emotional-logic-4/2026-06-24/
LOCATION:Stonehouse Creek\, Plymouth
CATEGORIES:Learning Exchange
END:VEVENT
BEGIN:VEVENT
DTSTART;TZID=UTC:20260624T160000
DTEND;TZID=UTC:20260624T173000
DTSTAMP:20260422T080343
CREATED:20260413T130136Z
LAST-MODIFIED:20260413T130136Z
UID:10011929-1782316800-1782322200@shekinah.co.uk
SUMMARY:Watercolour
DESCRIPTION:Informal watercolour painting classes\, with input from tutor Robert Turner\, on various techniques – but\nwith the emphasis on you creating art that you are happy with\, and in your own style. \nThere will be an emphasis on practical work\, and there should be time to compare traditional\napproaches to more modern ones\, especially regarding colour mixing and the use of gouache. \nIt is hoped to do something different for the last session.
URL:https://shekinah.co.uk/event/watercolour-7/2026-06-24/
LOCATION:Stonehouse Creek\, Plymouth
CATEGORIES:Learning Exchange
END:VEVENT
BEGIN:VEVENT
DTSTART;TZID=UTC:20260624T170000
DTEND;TZID=UTC:20260624T180000
DTSTAMP:20260422T080343
CREATED:20260413T124214Z
LAST-MODIFIED:20260413T124214Z
UID:10011900-1782320400-1782324000@shekinah.co.uk
SUMMARY:Hatha Yoga
DESCRIPTION:This will be a mixed ability class of Hatha yoga (1 hour sessions)\, which will mostly focus on beginners\,\nhowever there will be options to make it more challenging for the more experienced. \nIt will focus on posture work\, some breathing practices and meditation\, in order to make each\nparticipant more aware of their body and enable them to feel more comfortable in it. \nPlease bring a small blanket\, if you can\, as a support or for keeping warm during savasana (rest).
URL:https://shekinah.co.uk/event/hatha-yoga-10/2026-06-24/
LOCATION:Stonehouse Creek\, Plymouth
CATEGORIES:Learning Exchange
END:VEVENT
BEGIN:VEVENT
DTSTART;TZID=UTC:20260624T193000
DTEND;TZID=UTC:20260624T213000
DTSTAMP:20260422T080343
CREATED:20241120T124020Z
LAST-MODIFIED:20241120T124020Z
UID:10004848-1782329400-1782336600@shekinah.co.uk
SUMMARY:Trevi Support Group for women
DESCRIPTION:This support session is open to all women.  Safe space for all.  Please if you need support come along.
URL:https://shekinah.co.uk/event/trevi-support-group-for-women-2/2026-06-24/
LOCATION:Stonehouse Creek\, Plymouth
CATEGORIES:no-event
END:VEVENT
BEGIN:VEVENT
DTSTART;TZID=UTC:20260625T090000
DTEND;TZID=UTC:20260625T150000
DTSTAMP:20260422T080343
CREATED:20250115T132704Z
LAST-MODIFIED:20251106T082456Z
UID:10007622-1782378000-1782399600@shekinah.co.uk
SUMMARY:Vision Care - essential eye care
DESCRIPTION:
URL:https://shekinah.co.uk/event/vision-care-essential-eye-care/2026-06-25/
LOCATION:Stonehouse Creek\, Plymouth
CATEGORIES:no-event
END:VEVENT
BEGIN:VEVENT
DTSTART;TZID=UTC:20260625T093000
DTEND;TZID=UTC:20260625T130000
DTSTAMP:20260422T080343
CREATED:20250812T134454Z
LAST-MODIFIED:20250812T134454Z
UID:10009151-1782379800-1782392400@shekinah.co.uk
SUMMARY:Mentoring Level 2
DESCRIPTION:
URL:https://shekinah.co.uk/event/mentoring-level-2-13/2026-06-25/
LOCATION:Stonehouse Creek\, Plymouth
CATEGORIES:Training
ATTACH;FMTTYPE=image/png:https://shekinah.co.uk/wp-content/uploads/2025/08/Mentoring-L2-Social-Media-Tile-2024-1.png
END:VEVENT
BEGIN:VEVENT
DTSTART;TZID=UTC:20260625T130000
DTEND;TZID=UTC:20260625T150000
DTSTAMP:20260422T080343
CREATED:20260413T131306Z
LAST-MODIFIED:20260413T131306Z
UID:10011939-1782392400-1782399600@shekinah.co.uk
SUMMARY:Easy Book Making
DESCRIPTION:During this session you will learn how to make 2 types of simple books. \nMaterials will be provided but feel free to bring any paper you’d like to use. (Sharp scissors are useful if\nyou have your own).
URL:https://shekinah.co.uk/event/easy-book-making-2/
LOCATION:Stonehouse Creek\, Plymouth
CATEGORIES:Learning Exchange
END:VEVENT
BEGIN:VEVENT
DTSTART;TZID=UTC:20260625T140000
DTEND;TZID=UTC:20260625T180000
DTSTAMP:20260422T080343
CREATED:20250813T064753Z
LAST-MODIFIED:20250813T064753Z
UID:10009191-1782396000-1782410400@shekinah.co.uk
SUMMARY:Re:lease
DESCRIPTION:
URL:https://shekinah.co.uk/event/release-6/2026-06-25/
LOCATION:Stonehouse Creek\, Plymouth
CATEGORIES:Training
ATTACH;FMTTYPE=image/png:https://shekinah.co.uk/wp-content/uploads/2025/08/Release-Social-Media-2025.png
END:VEVENT
BEGIN:VEVENT
DTSTART;TZID=UTC:20260626T100000
DTEND;TZID=UTC:20260626T150000
DTSTAMP:20260422T080343
CREATED:20250813T065529Z
LAST-MODIFIED:20250813T065529Z
UID:10009231-1782468000-1782486000@shekinah.co.uk
SUMMARY:Re:Create
DESCRIPTION:
URL:https://shekinah.co.uk/event/recreate-7/2026-06-26/
LOCATION:Stonehouse Creek\, Plymouth
CATEGORIES:Training
ATTACH;FMTTYPE=image/png:https://shekinah.co.uk/wp-content/uploads/2025/08/Recreate-Social-Media-2025.png
END:VEVENT
END:VCALENDAR