BEGIN:VCALENDAR
VERSION:2.0
PRODID:-//Shekinah - ECPv6.15.18//NONSGML v1.0//EN
CALSCALE:GREGORIAN
METHOD:PUBLISH
X-ORIGINAL-URL:https://shekinah.co.uk
X-WR-CALDESC:Events for Shekinah
REFRESH-INTERVAL;VALUE=DURATION:PT1H
X-Robots-Tag:noindex
X-PUBLISHED-TTL:PT1H
BEGIN:VTIMEZONE
TZID:UTC
BEGIN:STANDARD
TZOFFSETFROM:+0000
TZOFFSETTO:+0000
TZNAME:UTC
DTSTART:20250101T000000
END:STANDARD
END:VTIMEZONE
BEGIN:VEVENT
DTSTART;TZID=UTC:20260708T140000
DTEND;TZID=UTC:20260708T153000
DTSTAMP:20260422T160130
CREATED:20260413T130007Z
LAST-MODIFIED:20260413T130007Z
UID:10011926-1783519200-1783524600@shekinah.co.uk
SUMMARY:Microsoft Office Advisory Sessions
DESCRIPTION:Drop-in sessions with the use of Microsoft Office packages\, including Word\, Excel\, Outlook and\nPowerPoint. It is also hoped to have software available so that students can practice the basics of\ntouch-typing. \nAttendees should bring their mobile/computer\, if possible\, to see better what the issue is.
URL:https://shekinah.co.uk/event/microsoft-office-advisory-sessions/2026-07-08/
LOCATION:Stonehouse Creek\, Plymouth
CATEGORIES:Learning Exchange
END:VEVENT
BEGIN:VEVENT
DTSTART;TZID=UTC:20260708T160000
DTEND;TZID=UTC:20260708T173000
DTSTAMP:20260422T160130
CREATED:20260413T130136Z
LAST-MODIFIED:20260413T130136Z
UID:10011931-1783526400-1783531800@shekinah.co.uk
SUMMARY:Watercolour
DESCRIPTION:Informal watercolour painting classes\, with input from tutor Robert Turner\, on various techniques – but\nwith the emphasis on you creating art that you are happy with\, and in your own style. \nThere will be an emphasis on practical work\, and there should be time to compare traditional\napproaches to more modern ones\, especially regarding colour mixing and the use of gouache. \nIt is hoped to do something different for the last session.
URL:https://shekinah.co.uk/event/watercolour-7/2026-07-08/
LOCATION:Stonehouse Creek\, Plymouth
CATEGORIES:Learning Exchange
END:VEVENT
BEGIN:VEVENT
DTSTART;TZID=UTC:20260708T170000
DTEND;TZID=UTC:20260708T180000
DTSTAMP:20260422T160130
CREATED:20260413T124214Z
LAST-MODIFIED:20260413T124214Z
UID:10011902-1783530000-1783533600@shekinah.co.uk
SUMMARY:Hatha Yoga
DESCRIPTION:This will be a mixed ability class of Hatha yoga (1 hour sessions)\, which will mostly focus on beginners\,\nhowever there will be options to make it more challenging for the more experienced. \nIt will focus on posture work\, some breathing practices and meditation\, in order to make each\nparticipant more aware of their body and enable them to feel more comfortable in it. \nPlease bring a small blanket\, if you can\, as a support or for keeping warm during savasana (rest).
URL:https://shekinah.co.uk/event/hatha-yoga-10/2026-07-08/
LOCATION:Stonehouse Creek\, Plymouth
CATEGORIES:Learning Exchange
END:VEVENT
BEGIN:VEVENT
DTSTART;TZID=UTC:20260708T193000
DTEND;TZID=UTC:20260708T213000
DTSTAMP:20260422T160130
CREATED:20241120T124020Z
LAST-MODIFIED:20241120T124020Z
UID:10004852-1783539000-1783546200@shekinah.co.uk
SUMMARY:Trevi Support Group for women
DESCRIPTION:This support session is open to all women.  Safe space for all.  Please if you need support come along.
URL:https://shekinah.co.uk/event/trevi-support-group-for-women-2/2026-07-08/
LOCATION:Stonehouse Creek\, Plymouth
CATEGORIES:no-event
END:VEVENT
BEGIN:VEVENT
DTSTART;TZID=UTC:20260709T090000
DTEND;TZID=UTC:20260709T150000
DTSTAMP:20260422T160130
CREATED:20250115T132704Z
LAST-MODIFIED:20251106T082456Z
UID:10007624-1783587600-1783609200@shekinah.co.uk
SUMMARY:Vision Care - essential eye care
DESCRIPTION:
URL:https://shekinah.co.uk/event/vision-care-essential-eye-care/2026-07-09/
LOCATION:Stonehouse Creek\, Plymouth
CATEGORIES:no-event
END:VEVENT
BEGIN:VEVENT
DTSTART;TZID=UTC:20260709T093000
DTEND;TZID=UTC:20260709T130000
DTSTAMP:20260422T160130
CREATED:20250812T134454Z
LAST-MODIFIED:20250812T134454Z
UID:10009153-1783589400-1783602000@shekinah.co.uk
SUMMARY:Mentoring Level 2
DESCRIPTION:
URL:https://shekinah.co.uk/event/mentoring-level-2-13/2026-07-09/
LOCATION:Stonehouse Creek\, Plymouth
CATEGORIES:Training
ATTACH;FMTTYPE=image/png:https://shekinah.co.uk/wp-content/uploads/2025/08/Mentoring-L2-Social-Media-Tile-2024-1.png
END:VEVENT
BEGIN:VEVENT
DTSTART;TZID=UTC:20260709T100000
DTEND;TZID=UTC:20260709T130000
DTSTAMP:20260422T160130
CREATED:20260413T131832Z
LAST-MODIFIED:20260413T131832Z
UID:10011946-1783591200-1783602000@shekinah.co.uk
SUMMARY:Cyanotype Photography
DESCRIPTION:No camera needed! This alternative photography method is using the sun\, iron salts and paper. It\nproduces beautiful\, bold\, blue images. \nOn day one\, we will search the surrounding areas for leaves and flowers to make an imprint using sunlight. \nThe method involves drying time. \nOn day two we will inspect our art pieces and discuss the potential of further experimentation.
URL:https://shekinah.co.uk/event/cyanotype-photography/2026-07-09/
LOCATION:Stonehouse Creek\, Plymouth
CATEGORIES:Learning Exchange
END:VEVENT
BEGIN:VEVENT
DTSTART;TZID=UTC:20260709T140000
DTEND;TZID=UTC:20260709T180000
DTSTAMP:20260422T160130
CREATED:20250813T064753Z
LAST-MODIFIED:20250813T064753Z
UID:10009193-1783605600-1783620000@shekinah.co.uk
SUMMARY:Re:lease
DESCRIPTION:
URL:https://shekinah.co.uk/event/release-6/2026-07-09/
LOCATION:Stonehouse Creek\, Plymouth
CATEGORIES:Training
ATTACH;FMTTYPE=image/png:https://shekinah.co.uk/wp-content/uploads/2025/08/Release-Social-Media-2025.png
END:VEVENT
BEGIN:VEVENT
DTSTART;TZID=UTC:20260710T100000
DTEND;TZID=UTC:20260710T130000
DTSTAMP:20260422T160130
CREATED:20260413T131832Z
LAST-MODIFIED:20260413T131832Z
UID:10011947-1783677600-1783688400@shekinah.co.uk
SUMMARY:Cyanotype Photography
DESCRIPTION:No camera needed! This alternative photography method is using the sun\, iron salts and paper. It\nproduces beautiful\, bold\, blue images. \nOn day one\, we will search the surrounding areas for leaves and flowers to make an imprint using sunlight. \nThe method involves drying time. \nOn day two we will inspect our art pieces and discuss the potential of further experimentation.
URL:https://shekinah.co.uk/event/cyanotype-photography/2026-07-10/
LOCATION:Stonehouse Creek\, Plymouth
CATEGORIES:Learning Exchange
END:VEVENT
BEGIN:VEVENT
DTSTART;TZID=UTC:20260710T100000
DTEND;TZID=UTC:20260710T150000
DTSTAMP:20260422T160130
CREATED:20250813T065529Z
LAST-MODIFIED:20250813T065529Z
UID:10009233-1783677600-1783695600@shekinah.co.uk
SUMMARY:Re:Create
DESCRIPTION:
URL:https://shekinah.co.uk/event/recreate-7/2026-07-10/
LOCATION:Stonehouse Creek\, Plymouth
CATEGORIES:Training
ATTACH;FMTTYPE=image/png:https://shekinah.co.uk/wp-content/uploads/2025/08/Recreate-Social-Media-2025.png
END:VEVENT
BEGIN:VEVENT
DTSTART;TZID=UTC:20260710T110000
DTEND;TZID=UTC:20260710T150000
DTSTAMP:20260422T160130
CREATED:20250813T070155Z
LAST-MODIFIED:20250813T070155Z
UID:10009273-1783681200-1783695600@shekinah.co.uk
SUMMARY:Mental Health Awareness
DESCRIPTION:
URL:https://shekinah.co.uk/event/mental-health-awareness-12/2026-07-10/
LOCATION:Stonehouse Creek\, Plymouth
CATEGORIES:Training
ATTACH;FMTTYPE=image/png:https://shekinah.co.uk/wp-content/uploads/2025/08/Mental-Health-Social-Media-Tile-2025.png
END:VEVENT
BEGIN:VEVENT
DTSTART;TZID=UTC:20260710T123000
DTEND;TZID=UTC:20260710T143000
DTSTAMP:20260422T160130
CREATED:20241120T121157Z
LAST-MODIFIED:20260319T090415Z
UID:10004319-1783686600-1783693800@shekinah.co.uk
SUMMARY:DWP Drop in
DESCRIPTION:If you are looking for any support with regards Universal Credit or any other benefits please pop in to our Drop in!
URL:https://shekinah.co.uk/event/dwp-drop-in-2/2026-07-10/
LOCATION:Stonehouse Creek\, Plymouth
CATEGORIES:Drop in
END:VEVENT
BEGIN:VEVENT
DTSTART;TZID=UTC:20260713T140000
DTEND;TZID=UTC:20260713T160000
DTSTAMP:20260422T160130
CREATED:20260413T131541Z
LAST-MODIFIED:20260413T131541Z
UID:10011943-1783951200-1783958400@shekinah.co.uk
SUMMARY:Marmite Literature - Love It or Loathe It?
DESCRIPTION:Come along and find out! \nWe’ll look at the authors\, their works\, the times in which they were written and how the modern media\n– TV and film – portrays them. \nWeek 1 – Virginia Woolf (To the Lighthouse; Mrs Dalloway)\nWeek 2 – Joseph Conrad (Heart of Darkness; Lord Jim)\nWeek 3 – Henrik Ibsen (A Doll’s House; Hedda Gabler)\nWeek 4 – James Joyce (Ulysses; A Portrait of the Artist as a Young Man)
URL:https://shekinah.co.uk/event/marmite-literature-love-it-or-loathe-it/2026-07-13/
LOCATION:Stonehouse Creek\, Plymouth
CATEGORIES:Learning Exchange
END:VEVENT
BEGIN:VEVENT
DTSTART;TZID=UTC:20260713T193000
DTEND;TZID=UTC:20260713T213000
DTSTAMP:20260422T160130
CREATED:20241120T124020Z
LAST-MODIFIED:20241120T124020Z
UID:10004853-1783971000-1783978200@shekinah.co.uk
SUMMARY:Trevi Support Group for women
DESCRIPTION:This support session is open to all women.  Safe space for all.  Please if you need support come along.
URL:https://shekinah.co.uk/event/trevi-support-group-for-women-2/2026-07-13/
LOCATION:Stonehouse Creek\, Plymouth
CATEGORIES:no-event
END:VEVENT
BEGIN:VEVENT
DTSTART;TZID=UTC:20260714T093000
DTEND;TZID=UTC:20260714T133000
DTSTAMP:20260422T160130
CREATED:20250812T095502Z
LAST-MODIFIED:20250812T095502Z
UID:10008994-1784021400-1784035800@shekinah.co.uk
SUMMARY:Re:develop
DESCRIPTION:
URL:https://shekinah.co.uk/event/redevelop-16/2026-07-14/
LOCATION:Stonehouse Creek\, Plymouth
CATEGORIES:Training
ATTACH;FMTTYPE=image/png:https://shekinah.co.uk/wp-content/uploads/2025/08/Redevelop-Social-Media-Tile-April-2025.png
END:VEVENT
BEGIN:VEVENT
DTSTART;TZID=UTC:20260714T140000
DTEND;TZID=UTC:20260714T180000
DTSTAMP:20260422T160130
CREATED:20250812T101712Z
LAST-MODIFIED:20250812T101712Z
UID:10009034-1784037600-1784052000@shekinah.co.uk
SUMMARY:Re:vive
DESCRIPTION:
URL:https://shekinah.co.uk/event/revive-14/2026-07-14/
LOCATION:Stonehouse Creek\, Plymouth
CATEGORIES:Training
ATTACH;FMTTYPE=image/png:https://shekinah.co.uk/wp-content/uploads/2025/08/Revive-Social-Media-Tile-2025-1.png
END:VEVENT
BEGIN:VEVENT
DTSTART;TZID=UTC:20260715T093000
DTEND;TZID=UTC:20260715T130000
DTSTAMP:20260422T160130
CREATED:20250812T102607Z
LAST-MODIFIED:20250812T102607Z
UID:10009074-1784107800-1784120400@shekinah.co.uk
SUMMARY:Mentoring Level 1
DESCRIPTION:
URL:https://shekinah.co.uk/event/mentoring-level-1-12/2026-07-15/
LOCATION:Stonehouse Creek\, Plymouth
CATEGORIES:Training
ATTACH;FMTTYPE=image/png:https://shekinah.co.uk/wp-content/uploads/2025/08/Mentoring-L1-Social-Media-Tile-2024.png
END:VEVENT
BEGIN:VEVENT
DTSTART;TZID=UTC:20260715T100000
DTEND;TZID=UTC:20260715T150000
DTSTAMP:20260422T160130
CREATED:20250812T103357Z
LAST-MODIFIED:20250812T133716Z
UID:10009114-1784109600-1784127600@shekinah.co.uk
SUMMARY:Carpentry
DESCRIPTION:
URL:https://shekinah.co.uk/event/carpentry-12/2026-07-15/
LOCATION:Stonehouse Creek\, Plymouth
CATEGORIES:Training
ATTACH;FMTTYPE=image/png:https://shekinah.co.uk/wp-content/uploads/2025/08/Carpentry-Social-Media-Tile-2025.png
END:VEVENT
BEGIN:VEVENT
DTSTART;TZID=UTC:20260715T140000
DTEND;TZID=UTC:20260715T180000
DTSTAMP:20260422T160130
CREATED:20260413T131944Z
LAST-MODIFIED:20260413T131944Z
UID:10011948-1784124000-1784138400@shekinah.co.uk
SUMMARY:“Summer Flowers” Botanical Art
DESCRIPTION:Join local watercolour artist Karen Austin for her ‘Summer Flowers’ Botanical Art Workshop. \nKaren will introduce you to the unique watercolour layering process to achieve a piece of botanical\nartwork. This can be done on a watercolour card or botanical paper. \nAll materials are provided for the workshop. \nThe workshop is suitable for all abilities from beginner upwards.
URL:https://shekinah.co.uk/event/summer-flowers-botanical-art/
LOCATION:Stonehouse Creek\, Plymouth
CATEGORIES:Learning Exchange
END:VEVENT
BEGIN:VEVENT
DTSTART;TZID=UTC:20260715T193000
DTEND;TZID=UTC:20260715T213000
DTSTAMP:20260422T160130
CREATED:20241120T124020Z
LAST-MODIFIED:20241120T124020Z
UID:10004854-1784143800-1784151000@shekinah.co.uk
SUMMARY:Trevi Support Group for women
DESCRIPTION:This support session is open to all women.  Safe space for all.  Please if you need support come along.
URL:https://shekinah.co.uk/event/trevi-support-group-for-women-2/2026-07-15/
LOCATION:Stonehouse Creek\, Plymouth
CATEGORIES:no-event
END:VEVENT
BEGIN:VEVENT
DTSTART;TZID=UTC:20260716T090000
DTEND;TZID=UTC:20260716T150000
DTSTAMP:20260422T160130
CREATED:20250115T132704Z
LAST-MODIFIED:20251106T082456Z
UID:10007625-1784192400-1784214000@shekinah.co.uk
SUMMARY:Vision Care - essential eye care
DESCRIPTION:
URL:https://shekinah.co.uk/event/vision-care-essential-eye-care/2026-07-16/
LOCATION:Stonehouse Creek\, Plymouth
CATEGORIES:no-event
END:VEVENT
BEGIN:VEVENT
DTSTART;TZID=UTC:20260716T093000
DTEND;TZID=UTC:20260716T130000
DTSTAMP:20260422T160130
CREATED:20250812T134454Z
LAST-MODIFIED:20250812T134454Z
UID:10009154-1784194200-1784206800@shekinah.co.uk
SUMMARY:Mentoring Level 2
DESCRIPTION:
URL:https://shekinah.co.uk/event/mentoring-level-2-13/2026-07-16/
LOCATION:Stonehouse Creek\, Plymouth
CATEGORIES:Training
ATTACH;FMTTYPE=image/png:https://shekinah.co.uk/wp-content/uploads/2025/08/Mentoring-L2-Social-Media-Tile-2024-1.png
END:VEVENT
BEGIN:VEVENT
DTSTART;TZID=UTC:20260716T140000
DTEND;TZID=UTC:20260716T180000
DTSTAMP:20260422T160130
CREATED:20250813T064753Z
LAST-MODIFIED:20250813T064753Z
UID:10009194-1784210400-1784224800@shekinah.co.uk
SUMMARY:Re:lease
DESCRIPTION:
URL:https://shekinah.co.uk/event/release-6/2026-07-16/
LOCATION:Stonehouse Creek\, Plymouth
CATEGORIES:Training
ATTACH;FMTTYPE=image/png:https://shekinah.co.uk/wp-content/uploads/2025/08/Release-Social-Media-2025.png
END:VEVENT
BEGIN:VEVENT
DTSTART;TZID=UTC:20260717T100000
DTEND;TZID=UTC:20260717T150000
DTSTAMP:20260422T160130
CREATED:20250813T065529Z
LAST-MODIFIED:20250813T065529Z
UID:10009234-1784282400-1784300400@shekinah.co.uk
SUMMARY:Re:Create
DESCRIPTION:
URL:https://shekinah.co.uk/event/recreate-7/2026-07-17/
LOCATION:Stonehouse Creek\, Plymouth
CATEGORIES:Training
ATTACH;FMTTYPE=image/png:https://shekinah.co.uk/wp-content/uploads/2025/08/Recreate-Social-Media-2025.png
END:VEVENT
BEGIN:VEVENT
DTSTART;TZID=UTC:20260717T110000
DTEND;TZID=UTC:20260717T150000
DTSTAMP:20260422T160130
CREATED:20250813T070155Z
LAST-MODIFIED:20250813T070155Z
UID:10009274-1784286000-1784300400@shekinah.co.uk
SUMMARY:Mental Health Awareness
DESCRIPTION:
URL:https://shekinah.co.uk/event/mental-health-awareness-12/2026-07-17/
LOCATION:Stonehouse Creek\, Plymouth
CATEGORIES:Training
ATTACH;FMTTYPE=image/png:https://shekinah.co.uk/wp-content/uploads/2025/08/Mental-Health-Social-Media-Tile-2025.png
END:VEVENT
BEGIN:VEVENT
DTSTART;TZID=UTC:20260717T123000
DTEND;TZID=UTC:20260717T143000
DTSTAMP:20260422T160130
CREATED:20241120T121157Z
LAST-MODIFIED:20260319T090415Z
UID:10004320-1784291400-1784298600@shekinah.co.uk
SUMMARY:DWP Drop in
DESCRIPTION:If you are looking for any support with regards Universal Credit or any other benefits please pop in to our Drop in!
URL:https://shekinah.co.uk/event/dwp-drop-in-2/2026-07-17/
LOCATION:Stonehouse Creek\, Plymouth
CATEGORIES:Drop in
END:VEVENT
BEGIN:VEVENT
DTSTART;TZID=UTC:20260720T140000
DTEND;TZID=UTC:20260720T160000
DTSTAMP:20260422T160130
CREATED:20260413T131541Z
LAST-MODIFIED:20260413T131541Z
UID:10011944-1784556000-1784563200@shekinah.co.uk
SUMMARY:Marmite Literature - Love It or Loathe It?
DESCRIPTION:Come along and find out! \nWe’ll look at the authors\, their works\, the times in which they were written and how the modern media\n– TV and film – portrays them. \nWeek 1 – Virginia Woolf (To the Lighthouse; Mrs Dalloway)\nWeek 2 – Joseph Conrad (Heart of Darkness; Lord Jim)\nWeek 3 – Henrik Ibsen (A Doll’s House; Hedda Gabler)\nWeek 4 – James Joyce (Ulysses; A Portrait of the Artist as a Young Man)
URL:https://shekinah.co.uk/event/marmite-literature-love-it-or-loathe-it/2026-07-20/
LOCATION:Stonehouse Creek\, Plymouth
CATEGORIES:Learning Exchange
END:VEVENT
BEGIN:VEVENT
DTSTART;TZID=UTC:20260720T193000
DTEND;TZID=UTC:20260720T213000
DTSTAMP:20260422T160130
CREATED:20241120T124020Z
LAST-MODIFIED:20241120T124020Z
UID:10004855-1784575800-1784583000@shekinah.co.uk
SUMMARY:Trevi Support Group for women
DESCRIPTION:This support session is open to all women.  Safe space for all.  Please if you need support come along.
URL:https://shekinah.co.uk/event/trevi-support-group-for-women-2/2026-07-20/
LOCATION:Stonehouse Creek\, Plymouth
CATEGORIES:no-event
END:VEVENT
BEGIN:VEVENT
DTSTART;TZID=UTC:20260721T093000
DTEND;TZID=UTC:20260721T133000
DTSTAMP:20260422T160130
CREATED:20250812T095502Z
LAST-MODIFIED:20250812T095502Z
UID:10008995-1784626200-1784640600@shekinah.co.uk
SUMMARY:Re:develop
DESCRIPTION:
URL:https://shekinah.co.uk/event/redevelop-16/2026-07-21/
LOCATION:Stonehouse Creek\, Plymouth
CATEGORIES:Training
ATTACH;FMTTYPE=image/png:https://shekinah.co.uk/wp-content/uploads/2025/08/Redevelop-Social-Media-Tile-April-2025.png
END:VEVENT
BEGIN:VEVENT
DTSTART;TZID=UTC:20260721T120000
DTEND;TZID=UTC:20260721T140000
DTSTAMP:20260422T160130
CREATED:20241120T122457Z
LAST-MODIFIED:20241120T122457Z
UID:10004597-1784635200-1784642400@shekinah.co.uk
SUMMARY:Shelter to support your housing needs
DESCRIPTION:Open to all with issues around housing.
URL:https://shekinah.co.uk/event/shelter-to-support-your-housing-needs-2/2026-07-21/
LOCATION:Stonehouse Creek\, Plymouth
CATEGORIES:Drop in
END:VEVENT
END:VCALENDAR