BEGIN:VCALENDAR
VERSION:2.0
PRODID:-//Shekinah - ECPv6.15.18//NONSGML v1.0//EN
CALSCALE:GREGORIAN
METHOD:PUBLISH
X-WR-CALNAME:Shekinah
X-ORIGINAL-URL:https://shekinah.co.uk
X-WR-CALDESC:Events for Shekinah
REFRESH-INTERVAL;VALUE=DURATION:PT1H
X-Robots-Tag:noindex
X-PUBLISHED-TTL:PT1H
BEGIN:VTIMEZONE
TZID:UTC
BEGIN:STANDARD
TZOFFSETFROM:+0000
TZOFFSETTO:+0000
TZNAME:UTC
DTSTART:20240101T000000
END:STANDARD
END:VTIMEZONE
BEGIN:VEVENT
DTSTART;TZID=UTC:20260109T123000
DTEND;TZID=UTC:20260109T143000
DTSTAMP:20260424T153133
CREATED:20241120T121157Z
LAST-MODIFIED:20260319T090415Z
UID:10004293-1767961800-1767969000@shekinah.co.uk
SUMMARY:DWP Drop in
DESCRIPTION:If you are looking for any support with regards Universal Credit or any other benefits please pop in to our Drop in!
URL:https://shekinah.co.uk/event/dwp-drop-in-2/2026-01-09/
LOCATION:Stonehouse Creek\, Plymouth
CATEGORIES:Drop in
END:VEVENT
BEGIN:VEVENT
DTSTART;TZID=UTC:20260109T110000
DTEND;TZID=UTC:20260109T150000
DTSTAMP:20260424T153133
CREATED:20250813T065856Z
LAST-MODIFIED:20250813T065856Z
UID:10009251-1767956400-1767970800@shekinah.co.uk
SUMMARY:Mental Health Awareness
DESCRIPTION:
URL:https://shekinah.co.uk/event/mental-health-awareness-9/2026-01-09/
LOCATION:Stonehouse Creek\, Plymouth
CATEGORIES:Training
ATTACH;FMTTYPE=image/png:https://shekinah.co.uk/wp-content/uploads/2025/08/Mental-Health-Social-Media-Tile-2025.png
END:VEVENT
BEGIN:VEVENT
DTSTART;TZID=UTC:20260109T100000
DTEND;TZID=UTC:20260109T150000
DTSTAMP:20260424T153133
CREATED:20250813T065135Z
LAST-MODIFIED:20250813T065135Z
UID:10009211-1767952800-1767970800@shekinah.co.uk
SUMMARY:Re:Create
DESCRIPTION:
URL:https://shekinah.co.uk/event/recreate-4/2026-01-09/
LOCATION:Stonehouse Creek\, Plymouth
CATEGORIES:Training
ATTACH;FMTTYPE=image/png:https://shekinah.co.uk/wp-content/uploads/2025/08/Recreate-Social-Media-2025.png
END:VEVENT
BEGIN:VEVENT
DTSTART;TZID=UTC:20260108T140000
DTEND;TZID=UTC:20260108T180000
DTSTAMP:20260424T153133
CREATED:20250813T064435Z
LAST-MODIFIED:20250813T064435Z
UID:10009171-1767880800-1767895200@shekinah.co.uk
SUMMARY:Re:lease
DESCRIPTION:
URL:https://shekinah.co.uk/event/release-3/2026-01-08/
LOCATION:Stonehouse Creek\, Plymouth
CATEGORIES:Training
ATTACH;FMTTYPE=image/png:https://shekinah.co.uk/wp-content/uploads/2025/08/Release-Social-Media-2025.png
END:VEVENT
BEGIN:VEVENT
DTSTART;TZID=UTC:20260108T093000
DTEND;TZID=UTC:20260108T130000
DTSTAMP:20260424T153133
CREATED:20250812T134135Z
LAST-MODIFIED:20250812T134135Z
UID:10009131-1767864600-1767877200@shekinah.co.uk
SUMMARY:Mentoring Level 2
DESCRIPTION:
URL:https://shekinah.co.uk/event/mentoring-level-2-10/2026-01-08/
LOCATION:Stonehouse Creek\, Plymouth
CATEGORIES:Training
ATTACH;FMTTYPE=image/png:https://shekinah.co.uk/wp-content/uploads/2025/08/Mentoring-L2-Social-Media-Tile-2024-1.png
END:VEVENT
BEGIN:VEVENT
DTSTART;TZID=UTC:20260108T090000
DTEND;TZID=UTC:20260108T150000
DTSTAMP:20260424T153133
CREATED:20250115T132704Z
LAST-MODIFIED:20251106T082456Z
UID:10007598-1767862800-1767884400@shekinah.co.uk
SUMMARY:Vision Care - essential eye care
DESCRIPTION:
URL:https://shekinah.co.uk/event/vision-care-essential-eye-care/2026-01-08/
LOCATION:Stonehouse Creek\, Plymouth
CATEGORIES:no-event
END:VEVENT
BEGIN:VEVENT
DTSTART;TZID=UTC:20260107T193000
DTEND;TZID=UTC:20260107T213000
DTSTAMP:20260424T153133
CREATED:20241120T124020Z
LAST-MODIFIED:20241120T124020Z
UID:10004800-1767814200-1767821400@shekinah.co.uk
SUMMARY:Trevi Support Group for women
DESCRIPTION:This support session is open to all women.  Safe space for all.  Please if you need support come along.
URL:https://shekinah.co.uk/event/trevi-support-group-for-women-2/2026-01-07/
LOCATION:Stonehouse Creek\, Plymouth
CATEGORIES:no-event
END:VEVENT
BEGIN:VEVENT
DTSTART;TZID=UTC:20260107T100000
DTEND;TZID=UTC:20260107T150000
DTSTAMP:20260424T153133
CREATED:20250812T103016Z
LAST-MODIFIED:20250812T103016Z
UID:10009091-1767780000-1767798000@shekinah.co.uk
SUMMARY:Carpentry
DESCRIPTION:
URL:https://shekinah.co.uk/event/carpentry-9/2026-01-07/
LOCATION:Stonehouse Creek\, Plymouth
CATEGORIES:Training
ATTACH;FMTTYPE=image/png:https://shekinah.co.uk/wp-content/uploads/2025/08/Carpentry-Social-Media-Tile-2025.png
END:VEVENT
BEGIN:VEVENT
DTSTART;TZID=UTC:20260107T093000
DTEND;TZID=UTC:20260107T130000
DTSTAMP:20260424T153133
CREATED:20250812T102217Z
LAST-MODIFIED:20250812T102217Z
UID:10009051-1767778200-1767790800@shekinah.co.uk
SUMMARY:Mentoring Level 1
DESCRIPTION:
URL:https://shekinah.co.uk/event/mentoring-level-1-9/2026-01-07/
LOCATION:Stonehouse Creek\, Plymouth
CATEGORIES:Training
ATTACH;FMTTYPE=image/png:https://shekinah.co.uk/wp-content/uploads/2025/08/Mentoring-L1-Social-Media-Tile-2024.png
END:VEVENT
BEGIN:VEVENT
DTSTART;TZID=UTC:20260106T140000
DTEND;TZID=UTC:20260106T180000
DTSTAMP:20260424T153133
CREATED:20250812T100929Z
LAST-MODIFIED:20250812T100929Z
UID:10009011-1767708000-1767722400@shekinah.co.uk
SUMMARY:Re:vive
DESCRIPTION:
URL:https://shekinah.co.uk/event/revive-11/2026-01-06/
LOCATION:Stonehouse Creek\, Plymouth
CATEGORIES:Training
ATTACH;FMTTYPE=image/png:https://shekinah.co.uk/wp-content/uploads/2025/08/Revive-Social-Media-Tile-2025-1.png
END:VEVENT
BEGIN:VEVENT
DTSTART;TZID=UTC:20260106T120000
DTEND;TZID=UTC:20260106T140000
DTSTAMP:20260424T153133
CREATED:20241120T122457Z
LAST-MODIFIED:20241120T122457Z
UID:10004583-1767700800-1767708000@shekinah.co.uk
SUMMARY:Shelter to support your housing needs
DESCRIPTION:Open to all with issues around housing.
URL:https://shekinah.co.uk/event/shelter-to-support-your-housing-needs-2/2026-01-06/
LOCATION:Stonehouse Creek\, Plymouth
CATEGORIES:Drop in
END:VEVENT
BEGIN:VEVENT
DTSTART;TZID=UTC:20260106T093000
DTEND;TZID=UTC:20260106T133000
DTSTAMP:20260424T153133
CREATED:20250812T094805Z
LAST-MODIFIED:20250812T094805Z
UID:10008971-1767691800-1767706200@shekinah.co.uk
SUMMARY:Re:develop
DESCRIPTION:
URL:https://shekinah.co.uk/event/redevelop-13/2026-01-06/
LOCATION:Stonehouse Creek\, Plymouth
CATEGORIES:Training
ATTACH;FMTTYPE=image/png:https://shekinah.co.uk/wp-content/uploads/2025/08/Redevelop-Social-Media-Tile-April-2025.png
END:VEVENT
BEGIN:VEVENT
DTSTART;TZID=UTC:20260105T193000
DTEND;TZID=UTC:20260105T213000
DTSTAMP:20260424T153133
CREATED:20241120T124020Z
LAST-MODIFIED:20241120T124020Z
UID:10004799-1767641400-1767648600@shekinah.co.uk
SUMMARY:Trevi Support Group for women
DESCRIPTION:This support session is open to all women.  Safe space for all.  Please if you need support come along.
URL:https://shekinah.co.uk/event/trevi-support-group-for-women-2/2026-01-05/
LOCATION:Stonehouse Creek\, Plymouth
CATEGORIES:no-event
END:VEVENT
BEGIN:VEVENT
DTSTART;TZID=UTC:20260102T123000
DTEND;TZID=UTC:20260102T143000
DTSTAMP:20260424T153133
CREATED:20241120T121157Z
LAST-MODIFIED:20260319T090415Z
UID:10004292-1767357000-1767364200@shekinah.co.uk
SUMMARY:DWP Drop in
DESCRIPTION:If you are looking for any support with regards Universal Credit or any other benefits please pop in to our Drop in!
URL:https://shekinah.co.uk/event/dwp-drop-in-2/2026-01-02/
LOCATION:Stonehouse Creek\, Plymouth
CATEGORIES:Drop in
END:VEVENT
BEGIN:VEVENT
DTSTART;TZID=UTC:20260101T093000
DTEND;TZID=UTC:20260101T113000
DTSTAMP:20260424T153133
CREATED:20251106T083001Z
LAST-MODIFIED:20251106T083001Z
UID:10009639-1767259800-1767267000@shekinah.co.uk
SUMMARY:New Years Day Opening Times
DESCRIPTION:
URL:https://shekinah.co.uk/event/new-years-day-opening-times/
LOCATION:Stonehouse Creek\, Plymouth
CATEGORIES:no-event
END:VEVENT
BEGIN:VEVENT
DTSTART;TZID=UTC:20251231T193000
DTEND;TZID=UTC:20251231T213000
DTSTAMP:20260424T153133
CREATED:20241120T124020Z
LAST-MODIFIED:20241120T124020Z
UID:10004798-1767209400-1767216600@shekinah.co.uk
SUMMARY:Trevi Support Group for women
DESCRIPTION:This support session is open to all women.  Safe space for all.  Please if you need support come along.
URL:https://shekinah.co.uk/event/trevi-support-group-for-women-2/2025-12-31/
LOCATION:Stonehouse Creek\, Plymouth
CATEGORIES:no-event
END:VEVENT
BEGIN:VEVENT
DTSTART;TZID=UTC:20251229T193000
DTEND;TZID=UTC:20251229T213000
DTSTAMP:20260424T153133
CREATED:20241120T124020Z
LAST-MODIFIED:20241120T124020Z
UID:10004797-1767036600-1767043800@shekinah.co.uk
SUMMARY:Trevi Support Group for women
DESCRIPTION:This support session is open to all women.  Safe space for all.  Please if you need support come along.
URL:https://shekinah.co.uk/event/trevi-support-group-for-women-2/2025-12-29/
LOCATION:Stonehouse Creek\, Plymouth
CATEGORIES:no-event
END:VEVENT
BEGIN:VEVENT
DTSTART;TZID=UTC:20251226T080000
DTEND;TZID=UTC:20251226T170000
DTSTAMP:20260424T153133
CREATED:20251106T082831Z
LAST-MODIFIED:20251106T082831Z
UID:10009638-1766736000-1766768400@shekinah.co.uk
SUMMARY:Boxing Day Service is Closed
DESCRIPTION:
URL:https://shekinah.co.uk/event/boxing-day-service-is-closed/
LOCATION:Stonehouse Creek\, Plymouth
CATEGORIES:no-event
END:VEVENT
BEGIN:VEVENT
DTSTART;TZID=UTC:20251225T083000
DTEND;TZID=UTC:20251225T123000
DTSTAMP:20260424T153133
CREATED:20251106T082559Z
LAST-MODIFIED:20251106T082559Z
UID:10009587-1766651400-1766665800@shekinah.co.uk
SUMMARY:Christmas Day Opening Times
DESCRIPTION:
URL:https://shekinah.co.uk/event/christmas-day-opening-times-2/
LOCATION:Stonehouse Creek\, Plymouth
CATEGORIES:no-event
END:VEVENT
BEGIN:VEVENT
DTSTART;TZID=UTC:20251224T193000
DTEND;TZID=UTC:20251224T213000
DTSTAMP:20260424T153133
CREATED:20241120T124020Z
LAST-MODIFIED:20241120T124020Z
UID:10004796-1766604600-1766611800@shekinah.co.uk
SUMMARY:Trevi Support Group for women
DESCRIPTION:This support session is open to all women.  Safe space for all.  Please if you need support come along.
URL:https://shekinah.co.uk/event/trevi-support-group-for-women-2/2025-12-24/
LOCATION:Stonehouse Creek\, Plymouth
CATEGORIES:no-event
END:VEVENT
BEGIN:VEVENT
DTSTART;TZID=UTC:20251223T120000
DTEND;TZID=UTC:20251223T140000
DTSTAMP:20260424T153133
CREATED:20241120T122457Z
LAST-MODIFIED:20241120T122457Z
UID:10004582-1766491200-1766498400@shekinah.co.uk
SUMMARY:Shelter to support your housing needs
DESCRIPTION:Open to all with issues around housing.
URL:https://shekinah.co.uk/event/shelter-to-support-your-housing-needs-2/2025-12-23/
LOCATION:Stonehouse Creek\, Plymouth
CATEGORIES:Drop in
END:VEVENT
BEGIN:VEVENT
DTSTART;TZID=UTC:20251222T193000
DTEND;TZID=UTC:20251222T213000
DTSTAMP:20260424T153133
CREATED:20241120T124020Z
LAST-MODIFIED:20241120T124020Z
UID:10004795-1766431800-1766439000@shekinah.co.uk
SUMMARY:Trevi Support Group for women
DESCRIPTION:This support session is open to all women.  Safe space for all.  Please if you need support come along.
URL:https://shekinah.co.uk/event/trevi-support-group-for-women-2/2025-12-22/
LOCATION:Stonehouse Creek\, Plymouth
CATEGORIES:no-event
END:VEVENT
BEGIN:VEVENT
DTSTART;TZID=UTC:20251219T123000
DTEND;TZID=UTC:20251219T143000
DTSTAMP:20260424T153133
CREATED:20241120T121157Z
LAST-MODIFIED:20260319T090415Z
UID:10004290-1766147400-1766154600@shekinah.co.uk
SUMMARY:DWP Drop in
DESCRIPTION:If you are looking for any support with regards Universal Credit or any other benefits please pop in to our Drop in!
URL:https://shekinah.co.uk/event/dwp-drop-in-2/2025-12-19/
LOCATION:Stonehouse Creek\, Plymouth
CATEGORIES:Drop in
END:VEVENT
BEGIN:VEVENT
DTSTART;TZID=UTC:20251218T090000
DTEND;TZID=UTC:20251218T150000
DTSTAMP:20260424T153133
CREATED:20250115T132704Z
LAST-MODIFIED:20251106T082456Z
UID:10007595-1766048400-1766070000@shekinah.co.uk
SUMMARY:Vision Care - essential eye care
DESCRIPTION:
URL:https://shekinah.co.uk/event/vision-care-essential-eye-care/2025-12-18/
LOCATION:Stonehouse Creek\, Plymouth
CATEGORIES:no-event
END:VEVENT
BEGIN:VEVENT
DTSTART;TZID=UTC:20251217T193000
DTEND;TZID=UTC:20251217T213000
DTSTAMP:20260424T153133
CREATED:20241120T124020Z
LAST-MODIFIED:20241120T124020Z
UID:10004794-1765999800-1766007000@shekinah.co.uk
SUMMARY:Trevi Support Group for women
DESCRIPTION:This support session is open to all women.  Safe space for all.  Please if you need support come along.
URL:https://shekinah.co.uk/event/trevi-support-group-for-women-2/2025-12-17/
LOCATION:Stonehouse Creek\, Plymouth
CATEGORIES:no-event
END:VEVENT
BEGIN:VEVENT
DTSTART;TZID=UTC:20251215T193000
DTEND;TZID=UTC:20251215T213000
DTSTAMP:20260424T153133
CREATED:20241120T124020Z
LAST-MODIFIED:20241120T124020Z
UID:10004793-1765827000-1765834200@shekinah.co.uk
SUMMARY:Trevi Support Group for women
DESCRIPTION:This support session is open to all women.  Safe space for all.  Please if you need support come along.
URL:https://shekinah.co.uk/event/trevi-support-group-for-women-2/2025-12-15/
LOCATION:Stonehouse Creek\, Plymouth
CATEGORIES:no-event
END:VEVENT
BEGIN:VEVENT
DTSTART;TZID=UTC:20251212T170000
DTEND;TZID=UTC:20251212T190000
DTSTAMP:20260424T153133
CREATED:20251202T140455Z
LAST-MODIFIED:20251202T140455Z
UID:10010344-1765558800-1765566000@shekinah.co.uk
SUMMARY:End of Term Party Invitation!
DESCRIPTION:Please find the invite for our End of Term Party attached. \n\nAs always\, there will be delicious food and a variety of artistic displays\, a wonderful opportunity to celebrate our vibrant community of learners and tutors. \nThis invitation is also open to those who haven’t yet connected with the Learning Exchange or those who haven’t been in touch for a while. \n📅 Date: Friday\, 12th December\n🕔 Time: 5:00 PM \nWe’re looking forward to seeing you there!
URL:https://shekinah.co.uk/event/end-of-term-party-invitation/
LOCATION:Stonehouse Creek\, Plymouth
CATEGORIES:Learning Exchange
ATTACH;FMTTYPE=image/png:https://shekinah.co.uk/wp-content/uploads/2025/12/You-are-invited-to-our-End-of-Term-Party-at-Shekin.png
END:VEVENT
BEGIN:VEVENT
DTSTART;TZID=UTC:20251212T123000
DTEND;TZID=UTC:20251212T143000
DTSTAMP:20260424T153133
CREATED:20241120T121157Z
LAST-MODIFIED:20260319T090415Z
UID:10004289-1765542600-1765549800@shekinah.co.uk
SUMMARY:DWP Drop in
DESCRIPTION:If you are looking for any support with regards Universal Credit or any other benefits please pop in to our Drop in!
URL:https://shekinah.co.uk/event/dwp-drop-in-2/2025-12-12/
LOCATION:Stonehouse Creek\, Plymouth
CATEGORIES:Drop in
END:VEVENT
BEGIN:VEVENT
DTSTART;TZID=UTC:20251212T110000
DTEND;TZID=UTC:20251212T150000
DTSTAMP:20260424T153133
CREATED:20250813T065803Z
LAST-MODIFIED:20250813T065803Z
UID:10009250-1765537200-1765551600@shekinah.co.uk
SUMMARY:Mental Health Awareness
DESCRIPTION:
URL:https://shekinah.co.uk/event/mental-health-awareness-8/2025-12-12/
LOCATION:Stonehouse Creek\, Plymouth
CATEGORIES:Training
ATTACH;FMTTYPE=image/png:https://shekinah.co.uk/wp-content/uploads/2025/08/Mental-Health-Social-Media-Tile-2025.png
END:VEVENT
BEGIN:VEVENT
DTSTART;TZID=UTC:20251212T100000
DTEND;TZID=UTC:20251212T150000
DTSTAMP:20260424T153133
CREATED:20250813T065025Z
LAST-MODIFIED:20250813T065025Z
UID:10009210-1765533600-1765551600@shekinah.co.uk
SUMMARY:Re:Create
DESCRIPTION:
URL:https://shekinah.co.uk/event/recreate-3/2025-12-12/
LOCATION:Stonehouse Creek\, Plymouth
CATEGORIES:Training
ATTACH;FMTTYPE=image/png:https://shekinah.co.uk/wp-content/uploads/2025/08/Recreate-Social-Media-2025.png
END:VEVENT
END:VCALENDAR