BEGIN:VCALENDAR
VERSION:2.0
PRODID:-//Shekinah - ECPv6.15.18//NONSGML v1.0//EN
CALSCALE:GREGORIAN
METHOD:PUBLISH
X-ORIGINAL-URL:https://shekinah.co.uk
X-WR-CALDESC:Events for Shekinah
REFRESH-INTERVAL;VALUE=DURATION:PT1H
X-Robots-Tag:noindex
X-PUBLISHED-TTL:PT1H
BEGIN:VTIMEZONE
TZID:UTC
BEGIN:STANDARD
TZOFFSETFROM:+0000
TZOFFSETTO:+0000
TZNAME:UTC
DTSTART:20240101T000000
END:STANDARD
END:VTIMEZONE
BEGIN:VEVENT
DTSTART;TZID=UTC:20251217T193000
DTEND;TZID=UTC:20251217T213000
DTSTAMP:20260424T185647
CREATED:20241120T124020Z
LAST-MODIFIED:20241120T124020Z
UID:10004794-1765999800-1766007000@shekinah.co.uk
SUMMARY:Trevi Support Group for women
DESCRIPTION:This support session is open to all women.  Safe space for all.  Please if you need support come along.
URL:https://shekinah.co.uk/event/trevi-support-group-for-women-2/2025-12-17/
LOCATION:Stonehouse Creek\, Plymouth
CATEGORIES:no-event
END:VEVENT
BEGIN:VEVENT
DTSTART;TZID=UTC:20251215T193000
DTEND;TZID=UTC:20251215T213000
DTSTAMP:20260424T185647
CREATED:20241120T124020Z
LAST-MODIFIED:20241120T124020Z
UID:10004793-1765827000-1765834200@shekinah.co.uk
SUMMARY:Trevi Support Group for women
DESCRIPTION:This support session is open to all women.  Safe space for all.  Please if you need support come along.
URL:https://shekinah.co.uk/event/trevi-support-group-for-women-2/2025-12-15/
LOCATION:Stonehouse Creek\, Plymouth
CATEGORIES:no-event
END:VEVENT
BEGIN:VEVENT
DTSTART;TZID=UTC:20251212T170000
DTEND;TZID=UTC:20251212T190000
DTSTAMP:20260424T185647
CREATED:20251202T140455Z
LAST-MODIFIED:20251202T140455Z
UID:10010344-1765558800-1765566000@shekinah.co.uk
SUMMARY:End of Term Party Invitation!
DESCRIPTION:Please find the invite for our End of Term Party attached. \n\nAs always\, there will be delicious food and a variety of artistic displays\, a wonderful opportunity to celebrate our vibrant community of learners and tutors. \nThis invitation is also open to those who haven’t yet connected with the Learning Exchange or those who haven’t been in touch for a while. \n📅 Date: Friday\, 12th December\n🕔 Time: 5:00 PM \nWe’re looking forward to seeing you there!
URL:https://shekinah.co.uk/event/end-of-term-party-invitation/
LOCATION:Stonehouse Creek\, Plymouth
CATEGORIES:Learning Exchange
ATTACH;FMTTYPE=image/png:https://shekinah.co.uk/wp-content/uploads/2025/12/You-are-invited-to-our-End-of-Term-Party-at-Shekin.png
END:VEVENT
BEGIN:VEVENT
DTSTART;TZID=UTC:20251212T123000
DTEND;TZID=UTC:20251212T143000
DTSTAMP:20260424T185647
CREATED:20241120T121157Z
LAST-MODIFIED:20260319T090415Z
UID:10004289-1765542600-1765549800@shekinah.co.uk
SUMMARY:DWP Drop in
DESCRIPTION:If you are looking for any support with regards Universal Credit or any other benefits please pop in to our Drop in!
URL:https://shekinah.co.uk/event/dwp-drop-in-2/2025-12-12/
LOCATION:Stonehouse Creek\, Plymouth
CATEGORIES:Drop in
END:VEVENT
BEGIN:VEVENT
DTSTART;TZID=UTC:20251212T110000
DTEND;TZID=UTC:20251212T150000
DTSTAMP:20260424T185647
CREATED:20250813T065803Z
LAST-MODIFIED:20250813T065803Z
UID:10009250-1765537200-1765551600@shekinah.co.uk
SUMMARY:Mental Health Awareness
DESCRIPTION:
URL:https://shekinah.co.uk/event/mental-health-awareness-8/2025-12-12/
LOCATION:Stonehouse Creek\, Plymouth
CATEGORIES:Training
ATTACH;FMTTYPE=image/png:https://shekinah.co.uk/wp-content/uploads/2025/08/Mental-Health-Social-Media-Tile-2025.png
END:VEVENT
BEGIN:VEVENT
DTSTART;TZID=UTC:20251212T100000
DTEND;TZID=UTC:20251212T150000
DTSTAMP:20260424T185647
CREATED:20250813T065025Z
LAST-MODIFIED:20250813T065025Z
UID:10009210-1765533600-1765551600@shekinah.co.uk
SUMMARY:Re:Create
DESCRIPTION:
URL:https://shekinah.co.uk/event/recreate-3/2025-12-12/
LOCATION:Stonehouse Creek\, Plymouth
CATEGORIES:Training
ATTACH;FMTTYPE=image/png:https://shekinah.co.uk/wp-content/uploads/2025/08/Recreate-Social-Media-2025.png
END:VEVENT
BEGIN:VEVENT
DTSTART;TZID=UTC:20251211T140000
DTEND;TZID=UTC:20251211T180000
DTSTAMP:20260424T185647
CREATED:20250813T064319Z
LAST-MODIFIED:20250813T064319Z
UID:10009170-1765461600-1765476000@shekinah.co.uk
SUMMARY:Re:lease
DESCRIPTION:
URL:https://shekinah.co.uk/event/release-2/2025-12-11/
LOCATION:Stonehouse Creek\, Plymouth
CATEGORIES:Training
ATTACH;FMTTYPE=image/png:https://shekinah.co.uk/wp-content/uploads/2025/08/Release-Social-Media-2025.png
END:VEVENT
BEGIN:VEVENT
DTSTART;TZID=UTC:20251211T093000
DTEND;TZID=UTC:20251211T130000
DTSTAMP:20260424T185647
CREATED:20250812T134027Z
LAST-MODIFIED:20250812T134027Z
UID:10009130-1765445400-1765458000@shekinah.co.uk
SUMMARY:Mentoring Level 2
DESCRIPTION:
URL:https://shekinah.co.uk/event/mentoring-level-2-9/2025-12-11/
LOCATION:Stonehouse Creek\, Plymouth
CATEGORIES:Training
ATTACH;FMTTYPE=image/png:https://shekinah.co.uk/wp-content/uploads/2025/08/Mentoring-L2-Social-Media-Tile-2024-1.png
END:VEVENT
BEGIN:VEVENT
DTSTART;TZID=UTC:20251211T090000
DTEND;TZID=UTC:20251211T150000
DTSTAMP:20260424T185647
CREATED:20250115T132704Z
LAST-MODIFIED:20251106T082456Z
UID:10007594-1765443600-1765465200@shekinah.co.uk
SUMMARY:Vision Care - essential eye care
DESCRIPTION:
URL:https://shekinah.co.uk/event/vision-care-essential-eye-care/2025-12-11/
LOCATION:Stonehouse Creek\, Plymouth
CATEGORIES:no-event
END:VEVENT
BEGIN:VEVENT
DTSTART;TZID=UTC:20251210T193000
DTEND;TZID=UTC:20251210T213000
DTSTAMP:20260424T185647
CREATED:20241120T124020Z
LAST-MODIFIED:20241120T124020Z
UID:10004792-1765395000-1765402200@shekinah.co.uk
SUMMARY:Trevi Support Group for women
DESCRIPTION:This support session is open to all women.  Safe space for all.  Please if you need support come along.
URL:https://shekinah.co.uk/event/trevi-support-group-for-women-2/2025-12-10/
LOCATION:Stonehouse Creek\, Plymouth
CATEGORIES:no-event
END:VEVENT
BEGIN:VEVENT
DTSTART;TZID=UTC:20251210T140000
DTEND;TZID=UTC:20251210T160000
DTSTAMP:20260424T185647
CREATED:20250814T115949Z
LAST-MODIFIED:20250814T115949Z
UID:10009515-1765375200-1765382400@shekinah.co.uk
SUMMARY:Gadgets and Gizmos
DESCRIPTION:These sessions will teach you how to use computer appliances and gadgets such as smartphone\, laptop and tablets. \nIf you struggle sending pictures\, saving files\, changing a format\, or searching the web then this\ncourse is for you. \nSome functions might be a mystery to you – Brian will explain how they might be useful and make your\ndaily life easier. \nTo book please click here!
URL:https://shekinah.co.uk/event/gadgets-and-gizmos-2/2025-12-10/
LOCATION:Stonehouse Creek\, Plymouth
CATEGORIES:Learning Exchange
END:VEVENT
BEGIN:VEVENT
DTSTART;TZID=UTC:20251210T133000
DTEND;TZID=UTC:20251210T153000
DTSTAMP:20260424T185647
CREATED:20250814T114229Z
LAST-MODIFIED:20250814T114229Z
UID:10009475-1765373400-1765380600@shekinah.co.uk
SUMMARY:Macrame
DESCRIPTION:Macramé -noun- the art of knotting string in patterns to make decorative articles. \nBelieved to come from an Arabic word meaning “knotting crossways” or “an ornamental fringe.” \nYvonne will introduce you to the basic knots and how to build on this to create decorative 3 dimensional\nobjects. Make a gift for a loved one or for yourself. \nSuitable for complete beginners or to get back into a forgotten hobby. Two weeks of beginner or refresher macrame followed by 3 weeks of Christmas Tree decorations. \nFirst two weeks – Join us to learn basic macrame knotting or refresh your skills. Follow on or join us on\nweek three to create cute Christmas Tree decorations. \nTo book please click here!
URL:https://shekinah.co.uk/event/macrame-3/2025-12-10/
LOCATION:Stonehouse Creek\, Plymouth
CATEGORIES:Learning Exchange
END:VEVENT
BEGIN:VEVENT
DTSTART;TZID=UTC:20251210T100000
DTEND;TZID=UTC:20251210T150000
DTSTAMP:20260424T185647
CREATED:20250812T102910Z
LAST-MODIFIED:20250812T102910Z
UID:10009090-1765360800-1765378800@shekinah.co.uk
SUMMARY:Carpentry
DESCRIPTION:
URL:https://shekinah.co.uk/event/carpentry-8/2025-12-10/
LOCATION:Stonehouse Creek\, Plymouth
CATEGORIES:Training
ATTACH;FMTTYPE=image/png:https://shekinah.co.uk/wp-content/uploads/2025/08/Carpentry-Social-Media-Tile-2025.png
END:VEVENT
BEGIN:VEVENT
DTSTART;TZID=UTC:20251210T093000
DTEND;TZID=UTC:20251210T130000
DTSTAMP:20260424T185647
CREATED:20250812T102042Z
LAST-MODIFIED:20250812T102042Z
UID:10009050-1765359000-1765371600@shekinah.co.uk
SUMMARY:Mentoring Level 1
DESCRIPTION:
URL:https://shekinah.co.uk/event/mentoring-level-1-8/2025-12-10/
LOCATION:Stonehouse Creek\, Plymouth
CATEGORIES:Training
ATTACH;FMTTYPE=image/png:https://shekinah.co.uk/wp-content/uploads/2025/08/Mentoring-L1-Social-Media-Tile-2024.png
END:VEVENT
BEGIN:VEVENT
DTSTART;TZID=UTC:20251209T140000
DTEND;TZID=UTC:20251209T180000
DTSTAMP:20260424T185647
CREATED:20250812T100258Z
LAST-MODIFIED:20250812T100258Z
UID:10009010-1765288800-1765303200@shekinah.co.uk
SUMMARY:Re:vive
DESCRIPTION:
URL:https://shekinah.co.uk/event/revive-10/2025-12-09/
LOCATION:Stonehouse Creek\, Plymouth
CATEGORIES:Training
ATTACH;FMTTYPE=image/png:https://shekinah.co.uk/wp-content/uploads/2025/08/Revive-Social-Media-Tile-2025-1.png
END:VEVENT
BEGIN:VEVENT
DTSTART;TZID=UTC:20251209T120000
DTEND;TZID=UTC:20251209T140000
DTSTAMP:20260424T185647
CREATED:20241120T122457Z
LAST-MODIFIED:20241120T122457Z
UID:10004581-1765281600-1765288800@shekinah.co.uk
SUMMARY:Shelter to support your housing needs
DESCRIPTION:Open to all with issues around housing.
URL:https://shekinah.co.uk/event/shelter-to-support-your-housing-needs-2/2025-12-09/
LOCATION:Stonehouse Creek\, Plymouth
CATEGORIES:Drop in
END:VEVENT
BEGIN:VEVENT
DTSTART;TZID=UTC:20251209T093000
DTEND;TZID=UTC:20251209T133000
DTSTAMP:20260424T185647
CREATED:20250812T094408Z
LAST-MODIFIED:20250812T094408Z
UID:10008970-1765272600-1765287000@shekinah.co.uk
SUMMARY:Re:develop
DESCRIPTION:
URL:https://shekinah.co.uk/event/redevelop-12/2025-12-09/
LOCATION:Stonehouse Creek\, Plymouth
CATEGORIES:Training
ATTACH;FMTTYPE=image/png:https://shekinah.co.uk/wp-content/uploads/2025/08/Redevelop-Social-Media-Tile-April-2025.png
END:VEVENT
BEGIN:VEVENT
DTSTART;TZID=UTC:20251208T193000
DTEND;TZID=UTC:20251208T213000
DTSTAMP:20260424T185647
CREATED:20241120T124020Z
LAST-MODIFIED:20241120T124020Z
UID:10004791-1765222200-1765229400@shekinah.co.uk
SUMMARY:Trevi Support Group for women
DESCRIPTION:This support session is open to all women.  Safe space for all.  Please if you need support come along.
URL:https://shekinah.co.uk/event/trevi-support-group-for-women-2/2025-12-08/
LOCATION:Stonehouse Creek\, Plymouth
CATEGORIES:no-event
END:VEVENT
BEGIN:VEVENT
DTSTART;TZID=UTC:20251208T140000
DTEND;TZID=UTC:20251208T160000
DTSTAMP:20260424T185647
CREATED:20250814T115819Z
LAST-MODIFIED:20250903T061656Z
UID:10009501-1765202400-1765209600@shekinah.co.uk
SUMMARY:Gadgets and Gizmos
DESCRIPTION:These sessions will teach you how to use computer appliances and gadgets such as smartphone\, laptop and tablets. \nIf you struggle sending pictures\, saving files\, changing a format\, or searching the web then this\ncourse is for you. \nSome functions might be a mystery to you – Brian will explain how they might be useful and make your\ndaily life easier. \nTo book please click here!
URL:https://shekinah.co.uk/event/gadgets-and-gizmos/2025-12-08/
LOCATION:Stonehouse Creek\, Plymouth
CATEGORIES:Learning Exchange
END:VEVENT
BEGIN:VEVENT
DTSTART;TZID=UTC:20251205T123000
DTEND;TZID=UTC:20251205T143000
DTSTAMP:20260424T185647
CREATED:20241120T121157Z
LAST-MODIFIED:20260319T090415Z
UID:10004288-1764937800-1764945000@shekinah.co.uk
SUMMARY:DWP Drop in
DESCRIPTION:If you are looking for any support with regards Universal Credit or any other benefits please pop in to our Drop in!
URL:https://shekinah.co.uk/event/dwp-drop-in-2/2025-12-05/
LOCATION:Stonehouse Creek\, Plymouth
CATEGORIES:Drop in
END:VEVENT
BEGIN:VEVENT
DTSTART;TZID=UTC:20251205T110000
DTEND;TZID=UTC:20251205T150000
DTSTAMP:20260424T185647
CREATED:20250813T065803Z
LAST-MODIFIED:20250813T065803Z
UID:10009249-1764932400-1764946800@shekinah.co.uk
SUMMARY:Mental Health Awareness
DESCRIPTION:
URL:https://shekinah.co.uk/event/mental-health-awareness-8/2025-12-05/
LOCATION:Stonehouse Creek\, Plymouth
CATEGORIES:Training
ATTACH;FMTTYPE=image/png:https://shekinah.co.uk/wp-content/uploads/2025/08/Mental-Health-Social-Media-Tile-2025.png
END:VEVENT
BEGIN:VEVENT
DTSTART;TZID=UTC:20251205T100000
DTEND;TZID=UTC:20251205T150000
DTSTAMP:20260424T185647
CREATED:20250813T065025Z
LAST-MODIFIED:20250813T065025Z
UID:10009209-1764928800-1764946800@shekinah.co.uk
SUMMARY:Re:Create
DESCRIPTION:
URL:https://shekinah.co.uk/event/recreate-3/2025-12-05/
LOCATION:Stonehouse Creek\, Plymouth
CATEGORIES:Training
ATTACH;FMTTYPE=image/png:https://shekinah.co.uk/wp-content/uploads/2025/08/Recreate-Social-Media-2025.png
END:VEVENT
BEGIN:VEVENT
DTSTART;TZID=UTC:20251204T140000
DTEND;TZID=UTC:20251204T180000
DTSTAMP:20260424T185647
CREATED:20250813T064319Z
LAST-MODIFIED:20250813T064319Z
UID:10009169-1764856800-1764871200@shekinah.co.uk
SUMMARY:Re:lease
DESCRIPTION:
URL:https://shekinah.co.uk/event/release-2/2025-12-04/
LOCATION:Stonehouse Creek\, Plymouth
CATEGORIES:Training
ATTACH;FMTTYPE=image/png:https://shekinah.co.uk/wp-content/uploads/2025/08/Release-Social-Media-2025.png
END:VEVENT
BEGIN:VEVENT
DTSTART;TZID=UTC:20251204T093000
DTEND;TZID=UTC:20251204T130000
DTSTAMP:20260424T185647
CREATED:20250812T134027Z
LAST-MODIFIED:20250812T134027Z
UID:10009129-1764840600-1764853200@shekinah.co.uk
SUMMARY:Mentoring Level 2
DESCRIPTION:
URL:https://shekinah.co.uk/event/mentoring-level-2-9/2025-12-04/
LOCATION:Stonehouse Creek\, Plymouth
CATEGORIES:Training
ATTACH;FMTTYPE=image/png:https://shekinah.co.uk/wp-content/uploads/2025/08/Mentoring-L2-Social-Media-Tile-2024-1.png
END:VEVENT
BEGIN:VEVENT
DTSTART;TZID=UTC:20251204T090000
DTEND;TZID=UTC:20251204T150000
DTSTAMP:20260424T185647
CREATED:20250115T132704Z
LAST-MODIFIED:20251106T082456Z
UID:10007593-1764838800-1764860400@shekinah.co.uk
SUMMARY:Vision Care - essential eye care
DESCRIPTION:
URL:https://shekinah.co.uk/event/vision-care-essential-eye-care/2025-12-04/
LOCATION:Stonehouse Creek\, Plymouth
CATEGORIES:no-event
END:VEVENT
BEGIN:VEVENT
DTSTART;TZID=UTC:20251203T193000
DTEND;TZID=UTC:20251203T213000
DTSTAMP:20260424T185647
CREATED:20241120T124020Z
LAST-MODIFIED:20241120T124020Z
UID:10004790-1764790200-1764797400@shekinah.co.uk
SUMMARY:Trevi Support Group for women
DESCRIPTION:This support session is open to all women.  Safe space for all.  Please if you need support come along.
URL:https://shekinah.co.uk/event/trevi-support-group-for-women-2/2025-12-03/
LOCATION:Stonehouse Creek\, Plymouth
CATEGORIES:no-event
END:VEVENT
BEGIN:VEVENT
DTSTART;TZID=UTC:20251203T140000
DTEND;TZID=UTC:20251203T160000
DTSTAMP:20260424T185647
CREATED:20250814T115949Z
LAST-MODIFIED:20250814T115949Z
UID:10009514-1764770400-1764777600@shekinah.co.uk
SUMMARY:Gadgets and Gizmos
DESCRIPTION:These sessions will teach you how to use computer appliances and gadgets such as smartphone\, laptop and tablets. \nIf you struggle sending pictures\, saving files\, changing a format\, or searching the web then this\ncourse is for you. \nSome functions might be a mystery to you – Brian will explain how they might be useful and make your\ndaily life easier. \nTo book please click here!
URL:https://shekinah.co.uk/event/gadgets-and-gizmos-2/2025-12-03/
LOCATION:Stonehouse Creek\, Plymouth
CATEGORIES:Learning Exchange
END:VEVENT
BEGIN:VEVENT
DTSTART;TZID=UTC:20251203T133000
DTEND;TZID=UTC:20251203T153000
DTSTAMP:20260424T185647
CREATED:20250814T114229Z
LAST-MODIFIED:20250814T114229Z
UID:10009474-1764768600-1764775800@shekinah.co.uk
SUMMARY:Macrame
DESCRIPTION:Macramé -noun- the art of knotting string in patterns to make decorative articles. \nBelieved to come from an Arabic word meaning “knotting crossways” or “an ornamental fringe.” \nYvonne will introduce you to the basic knots and how to build on this to create decorative 3 dimensional\nobjects. Make a gift for a loved one or for yourself. \nSuitable for complete beginners or to get back into a forgotten hobby. Two weeks of beginner or refresher macrame followed by 3 weeks of Christmas Tree decorations. \nFirst two weeks – Join us to learn basic macrame knotting or refresh your skills. Follow on or join us on\nweek three to create cute Christmas Tree decorations. \nTo book please click here!
URL:https://shekinah.co.uk/event/macrame-3/2025-12-03/
LOCATION:Stonehouse Creek\, Plymouth
CATEGORIES:Learning Exchange
END:VEVENT
BEGIN:VEVENT
DTSTART;TZID=UTC:20251203T100000
DTEND;TZID=UTC:20251203T150000
DTSTAMP:20260424T185647
CREATED:20250812T102910Z
LAST-MODIFIED:20250812T102910Z
UID:10009089-1764756000-1764774000@shekinah.co.uk
SUMMARY:Carpentry
DESCRIPTION:
URL:https://shekinah.co.uk/event/carpentry-8/2025-12-03/
LOCATION:Stonehouse Creek\, Plymouth
CATEGORIES:Training
ATTACH;FMTTYPE=image/png:https://shekinah.co.uk/wp-content/uploads/2025/08/Carpentry-Social-Media-Tile-2025.png
END:VEVENT
BEGIN:VEVENT
DTSTART;TZID=UTC:20251203T093000
DTEND;TZID=UTC:20251203T130000
DTSTAMP:20260424T185647
CREATED:20250812T102042Z
LAST-MODIFIED:20250812T102042Z
UID:10009049-1764754200-1764766800@shekinah.co.uk
SUMMARY:Mentoring Level 1
DESCRIPTION:
URL:https://shekinah.co.uk/event/mentoring-level-1-8/2025-12-03/
LOCATION:Stonehouse Creek\, Plymouth
CATEGORIES:Training
ATTACH;FMTTYPE=image/png:https://shekinah.co.uk/wp-content/uploads/2025/08/Mentoring-L1-Social-Media-Tile-2024.png
END:VEVENT
END:VCALENDAR