BEGIN:VCALENDAR
VERSION:2.0
PRODID:-//Shekinah - ECPv6.15.18//NONSGML v1.0//EN
CALSCALE:GREGORIAN
METHOD:PUBLISH
X-ORIGINAL-URL:https://shekinah.co.uk
X-WR-CALDESC:Events for Shekinah
REFRESH-INTERVAL;VALUE=DURATION:PT1H
X-Robots-Tag:noindex
X-PUBLISHED-TTL:PT1H
BEGIN:VTIMEZONE
TZID:UTC
BEGIN:STANDARD
TZOFFSETFROM:+0000
TZOFFSETTO:+0000
TZNAME:UTC
DTSTART:20240101T000000
END:STANDARD
END:VTIMEZONE
BEGIN:VEVENT
DTSTART;TZID=UTC:20251201T100000
DTEND;TZID=UTC:20251201T150000
DTSTAMP:20260425T002852
CREATED:20250812T083811Z
LAST-MODIFIED:20250812T093957Z
UID:10008956-1764583200-1764601200@shekinah.co.uk
SUMMARY:Re:Ignite
DESCRIPTION:
URL:https://shekinah.co.uk/event/reignite/2025-12-01/
LOCATION:Stonehouse Creek\, Plymouth
CATEGORIES:Training
ATTACH;FMTTYPE=image/png:https://shekinah.co.uk/wp-content/uploads/2025/08/ReIgnite-Social-Media-2025.png
END:VEVENT
BEGIN:VEVENT
DTSTART;TZID=UTC:20251128T123000
DTEND;TZID=UTC:20251128T143000
DTSTAMP:20260425T002852
CREATED:20241120T121157Z
LAST-MODIFIED:20260319T090415Z
UID:10004287-1764333000-1764340200@shekinah.co.uk
SUMMARY:DWP Drop in
DESCRIPTION:If you are looking for any support with regards Universal Credit or any other benefits please pop in to our Drop in!
URL:https://shekinah.co.uk/event/dwp-drop-in-2/2025-11-28/
LOCATION:Stonehouse Creek\, Plymouth
CATEGORIES:Drop in
END:VEVENT
BEGIN:VEVENT
DTSTART;TZID=UTC:20251128T110000
DTEND;TZID=UTC:20251128T150000
DTSTAMP:20260425T002852
CREATED:20250813T065803Z
LAST-MODIFIED:20250813T065803Z
UID:10009248-1764327600-1764342000@shekinah.co.uk
SUMMARY:Mental Health Awareness
DESCRIPTION:
URL:https://shekinah.co.uk/event/mental-health-awareness-8/2025-11-28/
LOCATION:Stonehouse Creek\, Plymouth
CATEGORIES:Training
ATTACH;FMTTYPE=image/png:https://shekinah.co.uk/wp-content/uploads/2025/08/Mental-Health-Social-Media-Tile-2025.png
END:VEVENT
BEGIN:VEVENT
DTSTART;TZID=UTC:20251128T100000
DTEND;TZID=UTC:20251128T150000
DTSTAMP:20260425T002852
CREATED:20250813T065025Z
LAST-MODIFIED:20250813T065025Z
UID:10009208-1764324000-1764342000@shekinah.co.uk
SUMMARY:Re:Create
DESCRIPTION:
URL:https://shekinah.co.uk/event/recreate-3/2025-11-28/
LOCATION:Stonehouse Creek\, Plymouth
CATEGORIES:Training
ATTACH;FMTTYPE=image/png:https://shekinah.co.uk/wp-content/uploads/2025/08/Recreate-Social-Media-2025.png
END:VEVENT
BEGIN:VEVENT
DTSTART;TZID=UTC:20251127T140000
DTEND;TZID=UTC:20251127T180000
DTSTAMP:20260425T002852
CREATED:20250813T064319Z
LAST-MODIFIED:20250813T064319Z
UID:10009168-1764252000-1764266400@shekinah.co.uk
SUMMARY:Re:lease
DESCRIPTION:
URL:https://shekinah.co.uk/event/release-2/2025-11-27/
LOCATION:Stonehouse Creek\, Plymouth
CATEGORIES:Training
ATTACH;FMTTYPE=image/png:https://shekinah.co.uk/wp-content/uploads/2025/08/Release-Social-Media-2025.png
END:VEVENT
BEGIN:VEVENT
DTSTART;TZID=UTC:20251127T140000
DTEND;TZID=UTC:20251127T160000
DTSTAMP:20260425T002852
CREATED:20250814T104619Z
LAST-MODIFIED:20250814T104619Z
UID:10009444-1764252000-1764259200@shekinah.co.uk
SUMMARY:Masks and Movement
DESCRIPTION:The session will begin with Kate leading you through the making of our own masks\, using various artistic methods\, styles and mediums to create textual and visually interesting props intended for use within performance. The masks are intended to represent personal creativity and emotion to then be embodied in the second half of the workshop with Megan\, informed by a myriad of theatre methodology to explore some of the ideas and styles presented on the masks you create. \nTo book please click here.
URL:https://shekinah.co.uk/event/masks-and-movement/2025-11-27/
LOCATION:Stonehouse Creek\, Plymouth
CATEGORIES:Learning Exchange
END:VEVENT
BEGIN:VEVENT
DTSTART;TZID=UTC:20251127T093000
DTEND;TZID=UTC:20251127T130000
DTSTAMP:20260425T002852
CREATED:20250812T134027Z
LAST-MODIFIED:20250812T134027Z
UID:10009128-1764235800-1764248400@shekinah.co.uk
SUMMARY:Mentoring Level 2
DESCRIPTION:
URL:https://shekinah.co.uk/event/mentoring-level-2-9/2025-11-27/
LOCATION:Stonehouse Creek\, Plymouth
CATEGORIES:Training
ATTACH;FMTTYPE=image/png:https://shekinah.co.uk/wp-content/uploads/2025/08/Mentoring-L2-Social-Media-Tile-2024-1.png
END:VEVENT
BEGIN:VEVENT
DTSTART;TZID=UTC:20251127T090000
DTEND;TZID=UTC:20251127T150000
DTSTAMP:20260425T002852
CREATED:20250115T132704Z
LAST-MODIFIED:20251106T082456Z
UID:10007592-1764234000-1764255600@shekinah.co.uk
SUMMARY:Vision Care - essential eye care
DESCRIPTION:
URL:https://shekinah.co.uk/event/vision-care-essential-eye-care/2025-11-27/
LOCATION:Stonehouse Creek\, Plymouth
CATEGORIES:no-event
END:VEVENT
BEGIN:VEVENT
DTSTART;TZID=UTC:20251126T193000
DTEND;TZID=UTC:20251126T213000
DTSTAMP:20260425T002852
CREATED:20241120T124020Z
LAST-MODIFIED:20241120T124020Z
UID:10004788-1764185400-1764192600@shekinah.co.uk
SUMMARY:Trevi Support Group for women
DESCRIPTION:This support session is open to all women.  Safe space for all.  Please if you need support come along.
URL:https://shekinah.co.uk/event/trevi-support-group-for-women-2/2025-11-26/
LOCATION:Stonehouse Creek\, Plymouth
CATEGORIES:no-event
END:VEVENT
BEGIN:VEVENT
DTSTART;TZID=UTC:20251126T170000
DTEND;TZID=UTC:20251126T190000
DTSTAMP:20260425T002852
CREATED:20250814T113955Z
LAST-MODIFIED:20250814T113955Z
UID:10009470-1764176400-1764183600@shekinah.co.uk
SUMMARY:Hatha Yoga
DESCRIPTION:This will be a mixed ability class of Hatha yoga\, which will mostly focus on beginners however there will be options to make it more challenging for the more experienced. \nIt will focus on a form of and sun salutation breathing practices\, in order to provide an anchor in a busy or stressful life and help participants to feel grounded and calm. \nPlease bring a small blanket\, if you can\, as a support or for keeping warm during savasana (rest). \nTo book please click here!
URL:https://shekinah.co.uk/event/hatha-yoga-7/2025-11-26/
LOCATION:Stonehouse Creek\, Plymouth
CATEGORIES:Learning Exchange
END:VEVENT
BEGIN:VEVENT
DTSTART;TZID=UTC:20251126T140000
DTEND;TZID=UTC:20251126T160000
DTSTAMP:20260425T002852
CREATED:20250814T115949Z
LAST-MODIFIED:20250814T115949Z
UID:10009513-1764165600-1764172800@shekinah.co.uk
SUMMARY:Gadgets and Gizmos
DESCRIPTION:These sessions will teach you how to use computer appliances and gadgets such as smartphone\, laptop and tablets. \nIf you struggle sending pictures\, saving files\, changing a format\, or searching the web then this\ncourse is for you. \nSome functions might be a mystery to you – Brian will explain how they might be useful and make your\ndaily life easier. \nTo book please click here!
URL:https://shekinah.co.uk/event/gadgets-and-gizmos-2/2025-11-26/
LOCATION:Stonehouse Creek\, Plymouth
CATEGORIES:Learning Exchange
END:VEVENT
BEGIN:VEVENT
DTSTART;TZID=UTC:20251126T133000
DTEND;TZID=UTC:20251126T153000
DTSTAMP:20260425T002852
CREATED:20250814T114229Z
LAST-MODIFIED:20250814T114229Z
UID:10009473-1764163800-1764171000@shekinah.co.uk
SUMMARY:Macrame
DESCRIPTION:Macramé -noun- the art of knotting string in patterns to make decorative articles. \nBelieved to come from an Arabic word meaning “knotting crossways” or “an ornamental fringe.” \nYvonne will introduce you to the basic knots and how to build on this to create decorative 3 dimensional\nobjects. Make a gift for a loved one or for yourself. \nSuitable for complete beginners or to get back into a forgotten hobby. Two weeks of beginner or refresher macrame followed by 3 weeks of Christmas Tree decorations. \nFirst two weeks – Join us to learn basic macrame knotting or refresh your skills. Follow on or join us on\nweek three to create cute Christmas Tree decorations. \nTo book please click here!
URL:https://shekinah.co.uk/event/macrame-3/2025-11-26/
LOCATION:Stonehouse Creek\, Plymouth
CATEGORIES:Learning Exchange
END:VEVENT
BEGIN:VEVENT
DTSTART;TZID=UTC:20251126T100000
DTEND;TZID=UTC:20251126T150000
DTSTAMP:20260425T002852
CREATED:20250812T102910Z
LAST-MODIFIED:20250812T102910Z
UID:10009088-1764151200-1764169200@shekinah.co.uk
SUMMARY:Carpentry
DESCRIPTION:
URL:https://shekinah.co.uk/event/carpentry-8/2025-11-26/
LOCATION:Stonehouse Creek\, Plymouth
CATEGORIES:Training
ATTACH;FMTTYPE=image/png:https://shekinah.co.uk/wp-content/uploads/2025/08/Carpentry-Social-Media-Tile-2025.png
END:VEVENT
BEGIN:VEVENT
DTSTART;TZID=UTC:20251126T093000
DTEND;TZID=UTC:20251126T130000
DTSTAMP:20260425T002852
CREATED:20250812T102042Z
LAST-MODIFIED:20250812T102042Z
UID:10009048-1764149400-1764162000@shekinah.co.uk
SUMMARY:Mentoring Level 1
DESCRIPTION:
URL:https://shekinah.co.uk/event/mentoring-level-1-8/2025-11-26/
LOCATION:Stonehouse Creek\, Plymouth
CATEGORIES:Training
ATTACH;FMTTYPE=image/png:https://shekinah.co.uk/wp-content/uploads/2025/08/Mentoring-L1-Social-Media-Tile-2024.png
END:VEVENT
BEGIN:VEVENT
DTSTART;TZID=UTC:20251125T140000
DTEND;TZID=UTC:20251125T180000
DTSTAMP:20260425T002852
CREATED:20250812T100258Z
LAST-MODIFIED:20250812T100258Z
UID:10009008-1764079200-1764093600@shekinah.co.uk
SUMMARY:Re:vive
DESCRIPTION:
URL:https://shekinah.co.uk/event/revive-10/2025-11-25/
LOCATION:Stonehouse Creek\, Plymouth
CATEGORIES:Training
ATTACH;FMTTYPE=image/png:https://shekinah.co.uk/wp-content/uploads/2025/08/Revive-Social-Media-Tile-2025-1.png
END:VEVENT
BEGIN:VEVENT
DTSTART;TZID=UTC:20251125T120000
DTEND;TZID=UTC:20251125T140000
DTSTAMP:20260425T002852
CREATED:20241120T122457Z
LAST-MODIFIED:20241120T122457Z
UID:10004580-1764072000-1764079200@shekinah.co.uk
SUMMARY:Shelter to support your housing needs
DESCRIPTION:Open to all with issues around housing.
URL:https://shekinah.co.uk/event/shelter-to-support-your-housing-needs-2/2025-11-25/
LOCATION:Stonehouse Creek\, Plymouth
CATEGORIES:Drop in
END:VEVENT
BEGIN:VEVENT
DTSTART;TZID=UTC:20251125T093000
DTEND;TZID=UTC:20251125T133000
DTSTAMP:20260425T002852
CREATED:20250812T094408Z
LAST-MODIFIED:20250812T094408Z
UID:10008968-1764063000-1764077400@shekinah.co.uk
SUMMARY:Re:develop
DESCRIPTION:
URL:https://shekinah.co.uk/event/redevelop-12/2025-11-25/
LOCATION:Stonehouse Creek\, Plymouth
CATEGORIES:Training
ATTACH;FMTTYPE=image/png:https://shekinah.co.uk/wp-content/uploads/2025/08/Redevelop-Social-Media-Tile-April-2025.png
END:VEVENT
BEGIN:VEVENT
DTSTART;TZID=UTC:20251124T193000
DTEND;TZID=UTC:20251124T213000
DTSTAMP:20260425T002852
CREATED:20241120T124020Z
LAST-MODIFIED:20241120T124020Z
UID:10004787-1764012600-1764019800@shekinah.co.uk
SUMMARY:Trevi Support Group for women
DESCRIPTION:This support session is open to all women.  Safe space for all.  Please if you need support come along.
URL:https://shekinah.co.uk/event/trevi-support-group-for-women-2/2025-11-24/
LOCATION:Stonehouse Creek\, Plymouth
CATEGORIES:no-event
END:VEVENT
BEGIN:VEVENT
DTSTART;TZID=UTC:20251124T170000
DTEND;TZID=UTC:20251124T183000
DTSTAMP:20260425T002852
CREATED:20250814T103139Z
LAST-MODIFIED:20250814T103139Z
UID:10009420-1764003600-1764009000@shekinah.co.uk
SUMMARY:Neurographic Art
DESCRIPTION:Neurographic Art can be used as a form of art therapy to help individuals express themselves creatively and explore their emotions and thoughts. \nForget your problems and meditate by focussing on art and create a piece of work despite any stress and\nanxiety. \nStudents do not need any skill in drawing: if you can hold a drawing material\, you are able to participate. \nTo book please click here.
URL:https://shekinah.co.uk/event/neurographic-art-2/2025-11-24/
LOCATION:Stonehouse Creek\, Plymouth
CATEGORIES:Learning Exchange
END:VEVENT
BEGIN:VEVENT
DTSTART;TZID=UTC:20251124T140000
DTEND;TZID=UTC:20251124T160000
DTSTAMP:20260425T002852
CREATED:20250814T115819Z
LAST-MODIFIED:20250903T061656Z
UID:10009499-1763992800-1764000000@shekinah.co.uk
SUMMARY:Gadgets and Gizmos
DESCRIPTION:These sessions will teach you how to use computer appliances and gadgets such as smartphone\, laptop and tablets. \nIf you struggle sending pictures\, saving files\, changing a format\, or searching the web then this\ncourse is for you. \nSome functions might be a mystery to you – Brian will explain how they might be useful and make your\ndaily life easier. \nTo book please click here!
URL:https://shekinah.co.uk/event/gadgets-and-gizmos/2025-11-24/
LOCATION:Stonehouse Creek\, Plymouth
CATEGORIES:Learning Exchange
END:VEVENT
BEGIN:VEVENT
DTSTART;TZID=UTC:20251124T100000
DTEND;TZID=UTC:20251124T150000
DTSTAMP:20260425T002852
CREATED:20250812T083811Z
LAST-MODIFIED:20250812T093957Z
UID:10008955-1763978400-1763996400@shekinah.co.uk
SUMMARY:Re:Ignite
DESCRIPTION:
URL:https://shekinah.co.uk/event/reignite/2025-11-24/
LOCATION:Stonehouse Creek\, Plymouth
CATEGORIES:Training
ATTACH;FMTTYPE=image/png:https://shekinah.co.uk/wp-content/uploads/2025/08/ReIgnite-Social-Media-2025.png
END:VEVENT
BEGIN:VEVENT
DTSTART;TZID=UTC:20251121T123000
DTEND;TZID=UTC:20251121T143000
DTSTAMP:20260425T002852
CREATED:20241120T121157Z
LAST-MODIFIED:20260319T090415Z
UID:10004286-1763728200-1763735400@shekinah.co.uk
SUMMARY:DWP Drop in
DESCRIPTION:If you are looking for any support with regards Universal Credit or any other benefits please pop in to our Drop in!
URL:https://shekinah.co.uk/event/dwp-drop-in-2/2025-11-21/
LOCATION:Stonehouse Creek\, Plymouth
CATEGORIES:Drop in
END:VEVENT
BEGIN:VEVENT
DTSTART;TZID=UTC:20251121T110000
DTEND;TZID=UTC:20251121T150000
DTSTAMP:20260425T002852
CREATED:20250813T065803Z
LAST-MODIFIED:20250813T065803Z
UID:10009247-1763722800-1763737200@shekinah.co.uk
SUMMARY:Mental Health Awareness
DESCRIPTION:
URL:https://shekinah.co.uk/event/mental-health-awareness-8/2025-11-21/
LOCATION:Stonehouse Creek\, Plymouth
CATEGORIES:Training
ATTACH;FMTTYPE=image/png:https://shekinah.co.uk/wp-content/uploads/2025/08/Mental-Health-Social-Media-Tile-2025.png
END:VEVENT
BEGIN:VEVENT
DTSTART;TZID=UTC:20251121T100000
DTEND;TZID=UTC:20251121T150000
DTSTAMP:20260425T002852
CREATED:20250813T065025Z
LAST-MODIFIED:20250813T065025Z
UID:10009207-1763719200-1763737200@shekinah.co.uk
SUMMARY:Re:Create
DESCRIPTION:
URL:https://shekinah.co.uk/event/recreate-3/2025-11-21/
LOCATION:Stonehouse Creek\, Plymouth
CATEGORIES:Training
ATTACH;FMTTYPE=image/png:https://shekinah.co.uk/wp-content/uploads/2025/08/Recreate-Social-Media-2025.png
END:VEVENT
BEGIN:VEVENT
DTSTART;TZID=UTC:20251120T140000
DTEND;TZID=UTC:20251120T180000
DTSTAMP:20260425T002852
CREATED:20250813T064319Z
LAST-MODIFIED:20250813T064319Z
UID:10009167-1763647200-1763661600@shekinah.co.uk
SUMMARY:Re:lease
DESCRIPTION:
URL:https://shekinah.co.uk/event/release-2/2025-11-20/
LOCATION:Stonehouse Creek\, Plymouth
CATEGORIES:Training
ATTACH;FMTTYPE=image/png:https://shekinah.co.uk/wp-content/uploads/2025/08/Release-Social-Media-2025.png
END:VEVENT
BEGIN:VEVENT
DTSTART;TZID=UTC:20251120T140000
DTEND;TZID=UTC:20251120T160000
DTSTAMP:20260425T002852
CREATED:20250814T104619Z
LAST-MODIFIED:20250814T104619Z
UID:10009443-1763647200-1763654400@shekinah.co.uk
SUMMARY:Masks and Movement
DESCRIPTION:The session will begin with Kate leading you through the making of our own masks\, using various artistic methods\, styles and mediums to create textual and visually interesting props intended for use within performance. The masks are intended to represent personal creativity and emotion to then be embodied in the second half of the workshop with Megan\, informed by a myriad of theatre methodology to explore some of the ideas and styles presented on the masks you create. \nTo book please click here.
URL:https://shekinah.co.uk/event/masks-and-movement/2025-11-20/
LOCATION:Stonehouse Creek\, Plymouth
CATEGORIES:Learning Exchange
END:VEVENT
BEGIN:VEVENT
DTSTART;TZID=UTC:20251120T093000
DTEND;TZID=UTC:20251120T130000
DTSTAMP:20260425T002852
CREATED:20250812T134027Z
LAST-MODIFIED:20250812T134027Z
UID:10009127-1763631000-1763643600@shekinah.co.uk
SUMMARY:Mentoring Level 2
DESCRIPTION:
URL:https://shekinah.co.uk/event/mentoring-level-2-9/2025-11-20/
LOCATION:Stonehouse Creek\, Plymouth
CATEGORIES:Training
ATTACH;FMTTYPE=image/png:https://shekinah.co.uk/wp-content/uploads/2025/08/Mentoring-L2-Social-Media-Tile-2024-1.png
END:VEVENT
BEGIN:VEVENT
DTSTART;TZID=UTC:20251120T090000
DTEND;TZID=UTC:20251120T150000
DTSTAMP:20260425T002852
CREATED:20250115T132704Z
LAST-MODIFIED:20251106T082456Z
UID:10007591-1763629200-1763650800@shekinah.co.uk
SUMMARY:Vision Care - essential eye care
DESCRIPTION:
URL:https://shekinah.co.uk/event/vision-care-essential-eye-care/2025-11-20/
LOCATION:Stonehouse Creek\, Plymouth
CATEGORIES:no-event
END:VEVENT
BEGIN:VEVENT
DTSTART;TZID=UTC:20251119T193000
DTEND;TZID=UTC:20251119T213000
DTSTAMP:20260425T002852
CREATED:20241120T124020Z
LAST-MODIFIED:20241120T124020Z
UID:10004786-1763580600-1763587800@shekinah.co.uk
SUMMARY:Trevi Support Group for women
DESCRIPTION:This support session is open to all women.  Safe space for all.  Please if you need support come along.
URL:https://shekinah.co.uk/event/trevi-support-group-for-women-2/2025-11-19/
LOCATION:Stonehouse Creek\, Plymouth
CATEGORIES:no-event
END:VEVENT
BEGIN:VEVENT
DTSTART;TZID=UTC:20251119T170000
DTEND;TZID=UTC:20251119T190000
DTSTAMP:20260425T002852
CREATED:20250814T113955Z
LAST-MODIFIED:20250814T113955Z
UID:10009469-1763571600-1763578800@shekinah.co.uk
SUMMARY:Hatha Yoga
DESCRIPTION:This will be a mixed ability class of Hatha yoga\, which will mostly focus on beginners however there will be options to make it more challenging for the more experienced. \nIt will focus on a form of and sun salutation breathing practices\, in order to provide an anchor in a busy or stressful life and help participants to feel grounded and calm. \nPlease bring a small blanket\, if you can\, as a support or for keeping warm during savasana (rest). \nTo book please click here!
URL:https://shekinah.co.uk/event/hatha-yoga-7/2025-11-19/
LOCATION:Stonehouse Creek\, Plymouth
CATEGORIES:Learning Exchange
END:VEVENT
END:VCALENDAR