BEGIN:VCALENDAR
VERSION:2.0
PRODID:-//Shekinah - ECPv6.15.18//NONSGML v1.0//EN
CALSCALE:GREGORIAN
METHOD:PUBLISH
X-ORIGINAL-URL:https://shekinah.co.uk
X-WR-CALDESC:Events for Shekinah
REFRESH-INTERVAL;VALUE=DURATION:PT1H
X-Robots-Tag:noindex
X-PUBLISHED-TTL:PT1H
BEGIN:VTIMEZONE
TZID:UTC
BEGIN:STANDARD
TZOFFSETFROM:+0000
TZOFFSETTO:+0000
TZNAME:UTC
DTSTART:20240101T000000
END:STANDARD
END:VTIMEZONE
BEGIN:VEVENT
DTSTART;TZID=UTC:20251120T140000
DTEND;TZID=UTC:20251120T180000
DTSTAMP:20260425T041432
CREATED:20250813T064319Z
LAST-MODIFIED:20250813T064319Z
UID:10009167-1763647200-1763661600@shekinah.co.uk
SUMMARY:Re:lease
DESCRIPTION:
URL:https://shekinah.co.uk/event/release-2/2025-11-20/
LOCATION:Stonehouse Creek\, Plymouth
CATEGORIES:Training
ATTACH;FMTTYPE=image/png:https://shekinah.co.uk/wp-content/uploads/2025/08/Release-Social-Media-2025.png
END:VEVENT
BEGIN:VEVENT
DTSTART;TZID=UTC:20251120T140000
DTEND;TZID=UTC:20251120T160000
DTSTAMP:20260425T041432
CREATED:20250814T104619Z
LAST-MODIFIED:20250814T104619Z
UID:10009443-1763647200-1763654400@shekinah.co.uk
SUMMARY:Masks and Movement
DESCRIPTION:The session will begin with Kate leading you through the making of our own masks\, using various artistic methods\, styles and mediums to create textual and visually interesting props intended for use within performance. The masks are intended to represent personal creativity and emotion to then be embodied in the second half of the workshop with Megan\, informed by a myriad of theatre methodology to explore some of the ideas and styles presented on the masks you create. \nTo book please click here.
URL:https://shekinah.co.uk/event/masks-and-movement/2025-11-20/
LOCATION:Stonehouse Creek\, Plymouth
CATEGORIES:Learning Exchange
END:VEVENT
BEGIN:VEVENT
DTSTART;TZID=UTC:20251120T093000
DTEND;TZID=UTC:20251120T130000
DTSTAMP:20260425T041432
CREATED:20250812T134027Z
LAST-MODIFIED:20250812T134027Z
UID:10009127-1763631000-1763643600@shekinah.co.uk
SUMMARY:Mentoring Level 2
DESCRIPTION:
URL:https://shekinah.co.uk/event/mentoring-level-2-9/2025-11-20/
LOCATION:Stonehouse Creek\, Plymouth
CATEGORIES:Training
ATTACH;FMTTYPE=image/png:https://shekinah.co.uk/wp-content/uploads/2025/08/Mentoring-L2-Social-Media-Tile-2024-1.png
END:VEVENT
BEGIN:VEVENT
DTSTART;TZID=UTC:20251120T090000
DTEND;TZID=UTC:20251120T150000
DTSTAMP:20260425T041432
CREATED:20250115T132704Z
LAST-MODIFIED:20251106T082456Z
UID:10007591-1763629200-1763650800@shekinah.co.uk
SUMMARY:Vision Care - essential eye care
DESCRIPTION:
URL:https://shekinah.co.uk/event/vision-care-essential-eye-care/2025-11-20/
LOCATION:Stonehouse Creek\, Plymouth
CATEGORIES:no-event
END:VEVENT
BEGIN:VEVENT
DTSTART;TZID=UTC:20251119T193000
DTEND;TZID=UTC:20251119T213000
DTSTAMP:20260425T041432
CREATED:20241120T124020Z
LAST-MODIFIED:20241120T124020Z
UID:10004786-1763580600-1763587800@shekinah.co.uk
SUMMARY:Trevi Support Group for women
DESCRIPTION:This support session is open to all women.  Safe space for all.  Please if you need support come along.
URL:https://shekinah.co.uk/event/trevi-support-group-for-women-2/2025-11-19/
LOCATION:Stonehouse Creek\, Plymouth
CATEGORIES:no-event
END:VEVENT
BEGIN:VEVENT
DTSTART;TZID=UTC:20251119T170000
DTEND;TZID=UTC:20251119T190000
DTSTAMP:20260425T041432
CREATED:20250814T113955Z
LAST-MODIFIED:20250814T113955Z
UID:10009469-1763571600-1763578800@shekinah.co.uk
SUMMARY:Hatha Yoga
DESCRIPTION:This will be a mixed ability class of Hatha yoga\, which will mostly focus on beginners however there will be options to make it more challenging for the more experienced. \nIt will focus on a form of and sun salutation breathing practices\, in order to provide an anchor in a busy or stressful life and help participants to feel grounded and calm. \nPlease bring a small blanket\, if you can\, as a support or for keeping warm during savasana (rest). \nTo book please click here!
URL:https://shekinah.co.uk/event/hatha-yoga-7/2025-11-19/
LOCATION:Stonehouse Creek\, Plymouth
CATEGORIES:Learning Exchange
END:VEVENT
BEGIN:VEVENT
DTSTART;TZID=UTC:20251119T140000
DTEND;TZID=UTC:20251119T160000
DTSTAMP:20260425T041432
CREATED:20250814T121000Z
LAST-MODIFIED:20250814T121000Z
UID:10009525-1763560800-1763568000@shekinah.co.uk
SUMMARY:The World of AI
DESCRIPTION:Do you keep hearing about Artificial Intelligence and feel like you want to know a bit more? \nFind out about the jargon\, benefits and challenges of using AI. Don’t get left behind; come and find out\nabout how to effectively use things like Chat GPT\, Co-Pilot and why you might want to. \nTo book please click here!
URL:https://shekinah.co.uk/event/the-world-of-ai-3/
LOCATION:Stonehouse Creek\, Plymouth
CATEGORIES:Learning Exchange
END:VEVENT
BEGIN:VEVENT
DTSTART;TZID=UTC:20251119T140000
DTEND;TZID=UTC:20251119T160000
DTSTAMP:20260425T041432
CREATED:20250814T115949Z
LAST-MODIFIED:20250814T115949Z
UID:10009512-1763560800-1763568000@shekinah.co.uk
SUMMARY:Gadgets and Gizmos
DESCRIPTION:These sessions will teach you how to use computer appliances and gadgets such as smartphone\, laptop and tablets. \nIf you struggle sending pictures\, saving files\, changing a format\, or searching the web then this\ncourse is for you. \nSome functions might be a mystery to you – Brian will explain how they might be useful and make your\ndaily life easier. \nTo book please click here!
URL:https://shekinah.co.uk/event/gadgets-and-gizmos-2/2025-11-19/
LOCATION:Stonehouse Creek\, Plymouth
CATEGORIES:Learning Exchange
END:VEVENT
BEGIN:VEVENT
DTSTART;TZID=UTC:20251119T133000
DTEND;TZID=UTC:20251119T153000
DTSTAMP:20260425T041432
CREATED:20250814T114229Z
LAST-MODIFIED:20250814T114229Z
UID:10009472-1763559000-1763566200@shekinah.co.uk
SUMMARY:Macrame
DESCRIPTION:Macramé -noun- the art of knotting string in patterns to make decorative articles. \nBelieved to come from an Arabic word meaning “knotting crossways” or “an ornamental fringe.” \nYvonne will introduce you to the basic knots and how to build on this to create decorative 3 dimensional\nobjects. Make a gift for a loved one or for yourself. \nSuitable for complete beginners or to get back into a forgotten hobby. Two weeks of beginner or refresher macrame followed by 3 weeks of Christmas Tree decorations. \nFirst two weeks – Join us to learn basic macrame knotting or refresh your skills. Follow on or join us on\nweek three to create cute Christmas Tree decorations. \nTo book please click here!
URL:https://shekinah.co.uk/event/macrame-3/2025-11-19/
LOCATION:Stonehouse Creek\, Plymouth
CATEGORIES:Learning Exchange
END:VEVENT
BEGIN:VEVENT
DTSTART;TZID=UTC:20251119T100000
DTEND;TZID=UTC:20251119T150000
DTSTAMP:20260425T041432
CREATED:20250812T102910Z
LAST-MODIFIED:20250812T102910Z
UID:10009087-1763546400-1763564400@shekinah.co.uk
SUMMARY:Carpentry
DESCRIPTION:
URL:https://shekinah.co.uk/event/carpentry-8/2025-11-19/
LOCATION:Stonehouse Creek\, Plymouth
CATEGORIES:Training
ATTACH;FMTTYPE=image/png:https://shekinah.co.uk/wp-content/uploads/2025/08/Carpentry-Social-Media-Tile-2025.png
END:VEVENT
BEGIN:VEVENT
DTSTART;TZID=UTC:20251119T093000
DTEND;TZID=UTC:20251119T130000
DTSTAMP:20260425T041432
CREATED:20250812T102042Z
LAST-MODIFIED:20250812T102042Z
UID:10009047-1763544600-1763557200@shekinah.co.uk
SUMMARY:Mentoring Level 1
DESCRIPTION:
URL:https://shekinah.co.uk/event/mentoring-level-1-8/2025-11-19/
LOCATION:Stonehouse Creek\, Plymouth
CATEGORIES:Training
ATTACH;FMTTYPE=image/png:https://shekinah.co.uk/wp-content/uploads/2025/08/Mentoring-L1-Social-Media-Tile-2024.png
END:VEVENT
BEGIN:VEVENT
DTSTART;TZID=UTC:20251118T170000
DTEND;TZID=UTC:20251118T190000
DTSTAMP:20260425T041432
CREATED:20250814T103838Z
LAST-MODIFIED:20250814T103838Z
UID:10009431-1763485200-1763492400@shekinah.co.uk
SUMMARY:Creative Speaking Club – Art & English for Beginners
DESCRIPTION:Each week\, participants will practice speaking English through guided conversation and creative workshops. Every session will introduce a new artistic technique (painting\, jewellery making\, origami etc.)\, providing both language exposure and a fun\, supportive space for self-expression. \nEnglish natives are also welcome to this course to help with practicing the language and indulging into\ncultural exchange. \nTo book please click here.
URL:https://shekinah.co.uk/event/creative-speaking-club-art-english-for-beginners/2025-11-18/
LOCATION:Stonehouse Creek\, Plymouth
CATEGORIES:Learning Exchange
END:VEVENT
BEGIN:VEVENT
DTSTART;TZID=UTC:20251118T140000
DTEND;TZID=UTC:20251118T180000
DTSTAMP:20260425T041432
CREATED:20250812T100258Z
LAST-MODIFIED:20250812T100258Z
UID:10009007-1763474400-1763488800@shekinah.co.uk
SUMMARY:Re:vive
DESCRIPTION:
URL:https://shekinah.co.uk/event/revive-10/2025-11-18/
LOCATION:Stonehouse Creek\, Plymouth
CATEGORIES:Training
ATTACH;FMTTYPE=image/png:https://shekinah.co.uk/wp-content/uploads/2025/08/Revive-Social-Media-Tile-2025-1.png
END:VEVENT
BEGIN:VEVENT
DTSTART;TZID=UTC:20251118T093000
DTEND;TZID=UTC:20251118T133000
DTSTAMP:20260425T041432
CREATED:20250812T094408Z
LAST-MODIFIED:20250812T094408Z
UID:10008967-1763458200-1763472600@shekinah.co.uk
SUMMARY:Re:develop
DESCRIPTION:
URL:https://shekinah.co.uk/event/redevelop-12/2025-11-18/
LOCATION:Stonehouse Creek\, Plymouth
CATEGORIES:Training
ATTACH;FMTTYPE=image/png:https://shekinah.co.uk/wp-content/uploads/2025/08/Redevelop-Social-Media-Tile-April-2025.png
END:VEVENT
BEGIN:VEVENT
DTSTART;TZID=UTC:20251117T193000
DTEND;TZID=UTC:20251117T213000
DTSTAMP:20260425T041432
CREATED:20241120T124020Z
LAST-MODIFIED:20241120T124020Z
UID:10004785-1763407800-1763415000@shekinah.co.uk
SUMMARY:Trevi Support Group for women
DESCRIPTION:This support session is open to all women.  Safe space for all.  Please if you need support come along.
URL:https://shekinah.co.uk/event/trevi-support-group-for-women-2/2025-11-17/
LOCATION:Stonehouse Creek\, Plymouth
CATEGORIES:no-event
END:VEVENT
BEGIN:VEVENT
DTSTART;TZID=UTC:20251117T170000
DTEND;TZID=UTC:20251117T183000
DTSTAMP:20260425T041432
CREATED:20250814T103139Z
LAST-MODIFIED:20250814T103139Z
UID:10009419-1763398800-1763404200@shekinah.co.uk
SUMMARY:Neurographic Art
DESCRIPTION:Neurographic Art can be used as a form of art therapy to help individuals express themselves creatively and explore their emotions and thoughts. \nForget your problems and meditate by focussing on art and create a piece of work despite any stress and\nanxiety. \nStudents do not need any skill in drawing: if you can hold a drawing material\, you are able to participate. \nTo book please click here.
URL:https://shekinah.co.uk/event/neurographic-art-2/2025-11-17/
LOCATION:Stonehouse Creek\, Plymouth
CATEGORIES:Learning Exchange
END:VEVENT
BEGIN:VEVENT
DTSTART;TZID=UTC:20251117T140000
DTEND;TZID=UTC:20251117T160000
DTSTAMP:20260425T041432
CREATED:20250814T115819Z
LAST-MODIFIED:20250903T061656Z
UID:10009498-1763388000-1763395200@shekinah.co.uk
SUMMARY:Gadgets and Gizmos
DESCRIPTION:These sessions will teach you how to use computer appliances and gadgets such as smartphone\, laptop and tablets. \nIf you struggle sending pictures\, saving files\, changing a format\, or searching the web then this\ncourse is for you. \nSome functions might be a mystery to you – Brian will explain how they might be useful and make your\ndaily life easier. \nTo book please click here!
URL:https://shekinah.co.uk/event/gadgets-and-gizmos/2025-11-17/
LOCATION:Stonehouse Creek\, Plymouth
CATEGORIES:Learning Exchange
END:VEVENT
BEGIN:VEVENT
DTSTART;TZID=UTC:20251117T100000
DTEND;TZID=UTC:20251117T150000
DTSTAMP:20260425T041432
CREATED:20250812T083811Z
LAST-MODIFIED:20250812T093957Z
UID:10008954-1763373600-1763391600@shekinah.co.uk
SUMMARY:Re:Ignite
DESCRIPTION:
URL:https://shekinah.co.uk/event/reignite/2025-11-17/
LOCATION:Stonehouse Creek\, Plymouth
CATEGORIES:Training
ATTACH;FMTTYPE=image/png:https://shekinah.co.uk/wp-content/uploads/2025/08/ReIgnite-Social-Media-2025.png
END:VEVENT
BEGIN:VEVENT
DTSTART;TZID=UTC:20251114T123000
DTEND;TZID=UTC:20251114T143000
DTSTAMP:20260425T041432
CREATED:20241120T121157Z
LAST-MODIFIED:20260319T090415Z
UID:10004285-1763123400-1763130600@shekinah.co.uk
SUMMARY:DWP Drop in
DESCRIPTION:If you are looking for any support with regards Universal Credit or any other benefits please pop in to our Drop in!
URL:https://shekinah.co.uk/event/dwp-drop-in-2/2025-11-14/
LOCATION:Stonehouse Creek\, Plymouth
CATEGORIES:Drop in
END:VEVENT
BEGIN:VEVENT
DTSTART;TZID=UTC:20251114T110000
DTEND;TZID=UTC:20251114T150000
DTSTAMP:20260425T041432
CREATED:20250813T065803Z
LAST-MODIFIED:20250813T065803Z
UID:10009246-1763118000-1763132400@shekinah.co.uk
SUMMARY:Mental Health Awareness
DESCRIPTION:
URL:https://shekinah.co.uk/event/mental-health-awareness-8/2025-11-14/
LOCATION:Stonehouse Creek\, Plymouth
CATEGORIES:Training
ATTACH;FMTTYPE=image/png:https://shekinah.co.uk/wp-content/uploads/2025/08/Mental-Health-Social-Media-Tile-2025.png
END:VEVENT
BEGIN:VEVENT
DTSTART;TZID=UTC:20251114T100000
DTEND;TZID=UTC:20251114T150000
DTSTAMP:20260425T041432
CREATED:20250813T065025Z
LAST-MODIFIED:20250813T065025Z
UID:10009206-1763114400-1763132400@shekinah.co.uk
SUMMARY:Re:Create
DESCRIPTION:
URL:https://shekinah.co.uk/event/recreate-3/2025-11-14/
LOCATION:Stonehouse Creek\, Plymouth
CATEGORIES:Training
ATTACH;FMTTYPE=image/png:https://shekinah.co.uk/wp-content/uploads/2025/08/Recreate-Social-Media-2025.png
END:VEVENT
BEGIN:VEVENT
DTSTART;TZID=UTC:20251113T140000
DTEND;TZID=UTC:20251113T180000
DTSTAMP:20260425T041432
CREATED:20250813T064319Z
LAST-MODIFIED:20250813T064319Z
UID:10009166-1763042400-1763056800@shekinah.co.uk
SUMMARY:Re:lease
DESCRIPTION:
URL:https://shekinah.co.uk/event/release-2/2025-11-13/
LOCATION:Stonehouse Creek\, Plymouth
CATEGORIES:Training
ATTACH;FMTTYPE=image/png:https://shekinah.co.uk/wp-content/uploads/2025/08/Release-Social-Media-2025.png
END:VEVENT
BEGIN:VEVENT
DTSTART;TZID=UTC:20251113T140000
DTEND;TZID=UTC:20251113T160000
DTSTAMP:20260425T041432
CREATED:20250814T104619Z
LAST-MODIFIED:20250814T104619Z
UID:10009442-1763042400-1763049600@shekinah.co.uk
SUMMARY:Masks and Movement
DESCRIPTION:The session will begin with Kate leading you through the making of our own masks\, using various artistic methods\, styles and mediums to create textual and visually interesting props intended for use within performance. The masks are intended to represent personal creativity and emotion to then be embodied in the second half of the workshop with Megan\, informed by a myriad of theatre methodology to explore some of the ideas and styles presented on the masks you create. \nTo book please click here.
URL:https://shekinah.co.uk/event/masks-and-movement/2025-11-13/
LOCATION:Stonehouse Creek\, Plymouth
CATEGORIES:Learning Exchange
END:VEVENT
BEGIN:VEVENT
DTSTART;TZID=UTC:20251113T093000
DTEND;TZID=UTC:20251113T130000
DTSTAMP:20260425T041432
CREATED:20250812T134027Z
LAST-MODIFIED:20250812T134027Z
UID:10009126-1763026200-1763038800@shekinah.co.uk
SUMMARY:Mentoring Level 2
DESCRIPTION:
URL:https://shekinah.co.uk/event/mentoring-level-2-9/2025-11-13/
LOCATION:Stonehouse Creek\, Plymouth
CATEGORIES:Training
ATTACH;FMTTYPE=image/png:https://shekinah.co.uk/wp-content/uploads/2025/08/Mentoring-L2-Social-Media-Tile-2024-1.png
END:VEVENT
BEGIN:VEVENT
DTSTART;TZID=UTC:20251113T090000
DTEND;TZID=UTC:20251113T150000
DTSTAMP:20260425T041432
CREATED:20250115T132704Z
LAST-MODIFIED:20251106T082456Z
UID:10007590-1763024400-1763046000@shekinah.co.uk
SUMMARY:Vision Care - essential eye care
DESCRIPTION:
URL:https://shekinah.co.uk/event/vision-care-essential-eye-care/2025-11-13/
LOCATION:Stonehouse Creek\, Plymouth
CATEGORIES:no-event
END:VEVENT
BEGIN:VEVENT
DTSTART;TZID=UTC:20251112T193000
DTEND;TZID=UTC:20251112T213000
DTSTAMP:20260425T041432
CREATED:20241120T124020Z
LAST-MODIFIED:20241120T124020Z
UID:10004784-1762975800-1762983000@shekinah.co.uk
SUMMARY:Trevi Support Group for women
DESCRIPTION:This support session is open to all women.  Safe space for all.  Please if you need support come along.
URL:https://shekinah.co.uk/event/trevi-support-group-for-women-2/2025-11-12/
LOCATION:Stonehouse Creek\, Plymouth
CATEGORIES:no-event
END:VEVENT
BEGIN:VEVENT
DTSTART;TZID=UTC:20251112T170000
DTEND;TZID=UTC:20251112T190000
DTSTAMP:20260425T041432
CREATED:20250814T113955Z
LAST-MODIFIED:20250814T113955Z
UID:10009468-1762966800-1762974000@shekinah.co.uk
SUMMARY:Hatha Yoga
DESCRIPTION:This will be a mixed ability class of Hatha yoga\, which will mostly focus on beginners however there will be options to make it more challenging for the more experienced. \nIt will focus on a form of and sun salutation breathing practices\, in order to provide an anchor in a busy or stressful life and help participants to feel grounded and calm. \nPlease bring a small blanket\, if you can\, as a support or for keeping warm during savasana (rest). \nTo book please click here!
URL:https://shekinah.co.uk/event/hatha-yoga-7/2025-11-12/
LOCATION:Stonehouse Creek\, Plymouth
CATEGORIES:Learning Exchange
END:VEVENT
BEGIN:VEVENT
DTSTART;TZID=UTC:20251112T140000
DTEND;TZID=UTC:20251112T160000
DTSTAMP:20260425T041432
CREATED:20250814T115949Z
LAST-MODIFIED:20250814T115949Z
UID:10009511-1762956000-1762963200@shekinah.co.uk
SUMMARY:Gadgets and Gizmos
DESCRIPTION:These sessions will teach you how to use computer appliances and gadgets such as smartphone\, laptop and tablets. \nIf you struggle sending pictures\, saving files\, changing a format\, or searching the web then this\ncourse is for you. \nSome functions might be a mystery to you – Brian will explain how they might be useful and make your\ndaily life easier. \nTo book please click here!
URL:https://shekinah.co.uk/event/gadgets-and-gizmos-2/2025-11-12/
LOCATION:Stonehouse Creek\, Plymouth
CATEGORIES:Learning Exchange
END:VEVENT
BEGIN:VEVENT
DTSTART;TZID=UTC:20251112T140000
DTEND;TZID=UTC:20251112T160000
DTSTAMP:20260425T041432
CREATED:20250814T113353Z
LAST-MODIFIED:20250903T061254Z
UID:10009528-1762956000-1762963200@shekinah.co.uk
SUMMARY:Everyday Happiness
DESCRIPTION:An introduction to two free online resources\, exploring how making regular small changes can enrich our everyday experience. \nLooking at the website of “ Action for happiness “ and an introduction to meditation and kindness by\nrenowned teacher Sharon Salzberg. \nTake it at your own pace\, from dipping into it to see how it feels\, to committing to the whole course and\nworking together to try out some new ideas. It’s all free online so you can also explore for yourself\nduring and beyond the course. \nTogether we might explore the wealth of personal growth material that’s out there. The supportive\nconnections we make between us being just as important as the material. \nTo book please click here.
URL:https://shekinah.co.uk/event/everyday-happiness/2025-11-12/
LOCATION:Stonehouse Creek\, Plymouth
CATEGORIES:Learning Exchange
END:VEVENT
BEGIN:VEVENT
DTSTART;TZID=UTC:20251112T133000
DTEND;TZID=UTC:20251112T153000
DTSTAMP:20260425T041432
CREATED:20250814T114229Z
LAST-MODIFIED:20250814T114229Z
UID:10009471-1762954200-1762961400@shekinah.co.uk
SUMMARY:Macrame
DESCRIPTION:Macramé -noun- the art of knotting string in patterns to make decorative articles. \nBelieved to come from an Arabic word meaning “knotting crossways” or “an ornamental fringe.” \nYvonne will introduce you to the basic knots and how to build on this to create decorative 3 dimensional\nobjects. Make a gift for a loved one or for yourself. \nSuitable for complete beginners or to get back into a forgotten hobby. Two weeks of beginner or refresher macrame followed by 3 weeks of Christmas Tree decorations. \nFirst two weeks – Join us to learn basic macrame knotting or refresh your skills. Follow on or join us on\nweek three to create cute Christmas Tree decorations. \nTo book please click here!
URL:https://shekinah.co.uk/event/macrame-3/2025-11-12/
LOCATION:Stonehouse Creek\, Plymouth
CATEGORIES:Learning Exchange
END:VEVENT
END:VCALENDAR