BEGIN:VCALENDAR
VERSION:2.0
PRODID:-//Shekinah - ECPv6.15.18//NONSGML v1.0//EN
CALSCALE:GREGORIAN
METHOD:PUBLISH
X-WR-CALNAME:Shekinah
X-ORIGINAL-URL:https://shekinah.co.uk
X-WR-CALDESC:Events for Shekinah
REFRESH-INTERVAL;VALUE=DURATION:PT1H
X-Robots-Tag:noindex
X-PUBLISHED-TTL:PT1H
BEGIN:VTIMEZONE
TZID:UTC
BEGIN:STANDARD
TZOFFSETFROM:+0000
TZOFFSETTO:+0000
TZNAME:UTC
DTSTART:20240101T000000
END:STANDARD
END:VTIMEZONE
BEGIN:VEVENT
DTSTART;TZID=UTC:20251103T100000
DTEND;TZID=UTC:20251103T150000
DTSTAMP:20260425T132142
CREATED:20250812T083811Z
LAST-MODIFIED:20250812T093957Z
UID:10008952-1762164000-1762182000@shekinah.co.uk
SUMMARY:Re:Ignite
DESCRIPTION:
URL:https://shekinah.co.uk/event/reignite/2025-11-03/
LOCATION:Stonehouse Creek\, Plymouth
CATEGORIES:Training
ATTACH;FMTTYPE=image/png:https://shekinah.co.uk/wp-content/uploads/2025/08/ReIgnite-Social-Media-2025.png
END:VEVENT
BEGIN:VEVENT
DTSTART;TZID=UTC:20251031T143000
DTEND;TZID=UTC:20251031T163000
DTSTAMP:20260425T132142
CREATED:20250814T114507Z
LAST-MODIFIED:20250814T114507Z
UID:10009477-1761921000-1761928200@shekinah.co.uk
SUMMARY:Halloween and the History of Witches
DESCRIPTION:This Halloween we will focus on a chilling part of our history – the witchcraft trials. \nSarah will give an overview of what is known about a period of time\, when religion and gender were\ncentral issues to brutal power plays. \nWe will also uncover the folkloristic meanings and rituals to mark the beginning of the ‘dark half of the\nyear’. \nTo book please click here!
URL:https://shekinah.co.uk/event/halloween-and-the-history-of-witches/
LOCATION:Stonehouse Creek\, Plymouth
CATEGORIES:Learning Exchange
END:VEVENT
BEGIN:VEVENT
DTSTART;TZID=UTC:20251031T123000
DTEND;TZID=UTC:20251031T143000
DTSTAMP:20260425T132142
CREATED:20241120T121157Z
LAST-MODIFIED:20260319T090415Z
UID:10004283-1761913800-1761921000@shekinah.co.uk
SUMMARY:DWP Drop in
DESCRIPTION:If you are looking for any support with regards Universal Credit or any other benefits please pop in to our Drop in!
URL:https://shekinah.co.uk/event/dwp-drop-in-2/2025-10-31/
LOCATION:Stonehouse Creek\, Plymouth
CATEGORIES:Drop in
END:VEVENT
BEGIN:VEVENT
DTSTART;TZID=UTC:20251031T110000
DTEND;TZID=UTC:20251031T150000
DTSTAMP:20260425T132142
CREATED:20250813T065803Z
LAST-MODIFIED:20250813T065803Z
UID:10009244-1761908400-1761922800@shekinah.co.uk
SUMMARY:Mental Health Awareness
DESCRIPTION:
URL:https://shekinah.co.uk/event/mental-health-awareness-8/2025-10-31/
LOCATION:Stonehouse Creek\, Plymouth
CATEGORIES:Training
ATTACH;FMTTYPE=image/png:https://shekinah.co.uk/wp-content/uploads/2025/08/Mental-Health-Social-Media-Tile-2025.png
END:VEVENT
BEGIN:VEVENT
DTSTART;TZID=UTC:20251031T100000
DTEND;TZID=UTC:20251031T150000
DTSTAMP:20260425T132142
CREATED:20250813T065025Z
LAST-MODIFIED:20250813T065025Z
UID:10009204-1761904800-1761922800@shekinah.co.uk
SUMMARY:Re:Create
DESCRIPTION:
URL:https://shekinah.co.uk/event/recreate-3/2025-10-31/
LOCATION:Stonehouse Creek\, Plymouth
CATEGORIES:Training
ATTACH;FMTTYPE=image/png:https://shekinah.co.uk/wp-content/uploads/2025/08/Recreate-Social-Media-2025.png
END:VEVENT
BEGIN:VEVENT
DTSTART;TZID=UTC:20251030T140000
DTEND;TZID=UTC:20251030T180000
DTSTAMP:20260425T132142
CREATED:20250813T064319Z
LAST-MODIFIED:20250813T064319Z
UID:10009164-1761832800-1761847200@shekinah.co.uk
SUMMARY:Re:lease
DESCRIPTION:
URL:https://shekinah.co.uk/event/release-2/2025-10-30/
LOCATION:Stonehouse Creek\, Plymouth
CATEGORIES:Training
ATTACH;FMTTYPE=image/png:https://shekinah.co.uk/wp-content/uploads/2025/08/Release-Social-Media-2025.png
END:VEVENT
BEGIN:VEVENT
DTSTART;TZID=UTC:20251030T140000
DTEND;TZID=UTC:20251030T160000
DTSTAMP:20260425T132142
CREATED:20250814T104619Z
LAST-MODIFIED:20250814T104619Z
UID:10009440-1761832800-1761840000@shekinah.co.uk
SUMMARY:Masks and Movement
DESCRIPTION:The session will begin with Kate leading you through the making of our own masks\, using various artistic methods\, styles and mediums to create textual and visually interesting props intended for use within performance. The masks are intended to represent personal creativity and emotion to then be embodied in the second half of the workshop with Megan\, informed by a myriad of theatre methodology to explore some of the ideas and styles presented on the masks you create. \nTo book please click here.
URL:https://shekinah.co.uk/event/masks-and-movement/2025-10-30/
LOCATION:Stonehouse Creek\, Plymouth
CATEGORIES:Learning Exchange
END:VEVENT
BEGIN:VEVENT
DTSTART;TZID=UTC:20251030T093000
DTEND;TZID=UTC:20251030T130000
DTSTAMP:20260425T132142
CREATED:20250812T134027Z
LAST-MODIFIED:20250812T134027Z
UID:10009124-1761816600-1761829200@shekinah.co.uk
SUMMARY:Mentoring Level 2
DESCRIPTION:
URL:https://shekinah.co.uk/event/mentoring-level-2-9/2025-10-30/
LOCATION:Stonehouse Creek\, Plymouth
CATEGORIES:Training
ATTACH;FMTTYPE=image/png:https://shekinah.co.uk/wp-content/uploads/2025/08/Mentoring-L2-Social-Media-Tile-2024-1.png
END:VEVENT
BEGIN:VEVENT
DTSTART;TZID=UTC:20251030T090000
DTEND;TZID=UTC:20251030T150000
DTSTAMP:20260425T132142
CREATED:20250115T132704Z
LAST-MODIFIED:20251106T082456Z
UID:10007588-1761814800-1761836400@shekinah.co.uk
SUMMARY:Vision Care - essential eye care
DESCRIPTION:
URL:https://shekinah.co.uk/event/vision-care-essential-eye-care/2025-10-30/
LOCATION:Stonehouse Creek\, Plymouth
CATEGORIES:no-event
END:VEVENT
BEGIN:VEVENT
DTSTART;TZID=UTC:20251029T193000
DTEND;TZID=UTC:20251029T213000
DTSTAMP:20260425T132142
CREATED:20241120T124020Z
LAST-MODIFIED:20241120T124020Z
UID:10004780-1761766200-1761773400@shekinah.co.uk
SUMMARY:Trevi Support Group for women
DESCRIPTION:This support session is open to all women.  Safe space for all.  Please if you need support come along.
URL:https://shekinah.co.uk/event/trevi-support-group-for-women-2/2025-10-29/
LOCATION:Stonehouse Creek\, Plymouth
CATEGORIES:no-event
END:VEVENT
BEGIN:VEVENT
DTSTART;TZID=UTC:20251029T170000
DTEND;TZID=UTC:20251029T190000
DTSTAMP:20260425T132142
CREATED:20250814T113955Z
LAST-MODIFIED:20250814T113955Z
UID:10009466-1761757200-1761764400@shekinah.co.uk
SUMMARY:Hatha Yoga
DESCRIPTION:This will be a mixed ability class of Hatha yoga\, which will mostly focus on beginners however there will be options to make it more challenging for the more experienced. \nIt will focus on a form of and sun salutation breathing practices\, in order to provide an anchor in a busy or stressful life and help participants to feel grounded and calm. \nPlease bring a small blanket\, if you can\, as a support or for keeping warm during savasana (rest). \nTo book please click here!
URL:https://shekinah.co.uk/event/hatha-yoga-7/2025-10-29/
LOCATION:Stonehouse Creek\, Plymouth
CATEGORIES:Learning Exchange
END:VEVENT
BEGIN:VEVENT
DTSTART;TZID=UTC:20251029T140000
DTEND;TZID=UTC:20251029T160000
DTSTAMP:20260425T132142
CREATED:20250814T115949Z
LAST-MODIFIED:20250814T115949Z
UID:10009509-1761746400-1761753600@shekinah.co.uk
SUMMARY:Gadgets and Gizmos
DESCRIPTION:These sessions will teach you how to use computer appliances and gadgets such as smartphone\, laptop and tablets. \nIf you struggle sending pictures\, saving files\, changing a format\, or searching the web then this\ncourse is for you. \nSome functions might be a mystery to you – Brian will explain how they might be useful and make your\ndaily life easier. \nTo book please click here!
URL:https://shekinah.co.uk/event/gadgets-and-gizmos-2/2025-10-29/
LOCATION:Stonehouse Creek\, Plymouth
CATEGORIES:Learning Exchange
END:VEVENT
BEGIN:VEVENT
DTSTART;TZID=UTC:20251029T140000
DTEND;TZID=UTC:20251029T160000
DTSTAMP:20260425T132142
CREATED:20250814T113353Z
LAST-MODIFIED:20250903T061254Z
UID:10009527-1761746400-1761753600@shekinah.co.uk
SUMMARY:Everyday Happiness
DESCRIPTION:An introduction to two free online resources\, exploring how making regular small changes can enrich our everyday experience. \nLooking at the website of “ Action for happiness “ and an introduction to meditation and kindness by\nrenowned teacher Sharon Salzberg. \nTake it at your own pace\, from dipping into it to see how it feels\, to committing to the whole course and\nworking together to try out some new ideas. It’s all free online so you can also explore for yourself\nduring and beyond the course. \nTogether we might explore the wealth of personal growth material that’s out there. The supportive\nconnections we make between us being just as important as the material. \nTo book please click here.
URL:https://shekinah.co.uk/event/everyday-happiness/2025-10-29/
LOCATION:Stonehouse Creek\, Plymouth
CATEGORIES:Learning Exchange
END:VEVENT
BEGIN:VEVENT
DTSTART;TZID=UTC:20251029T140000
DTEND;TZID=UTC:20251029T153000
DTSTAMP:20260425T132142
CREATED:20250814T112212Z
LAST-MODIFIED:20250814T112212Z
UID:10009446-1761746400-1761751800@shekinah.co.uk
SUMMARY:Self-Defence
DESCRIPTION:These one off sessions are accessible and available to everyone. \nThey include fun activities\, pad work\, open discussion and a practical introduction to self defence that will give everyone something to take away. \nTo book please click here.
URL:https://shekinah.co.uk/event/self-defence/2025-10-29/
LOCATION:Stonehouse Creek\, Plymouth
CATEGORIES:Learning Exchange
END:VEVENT
BEGIN:VEVENT
DTSTART;TZID=UTC:20251029T100000
DTEND;TZID=UTC:20251029T150000
DTSTAMP:20260425T132142
CREATED:20250812T102910Z
LAST-MODIFIED:20250812T102910Z
UID:10009084-1761732000-1761750000@shekinah.co.uk
SUMMARY:Carpentry
DESCRIPTION:
URL:https://shekinah.co.uk/event/carpentry-8/2025-10-29/
LOCATION:Stonehouse Creek\, Plymouth
CATEGORIES:Training
ATTACH;FMTTYPE=image/png:https://shekinah.co.uk/wp-content/uploads/2025/08/Carpentry-Social-Media-Tile-2025.png
END:VEVENT
BEGIN:VEVENT
DTSTART;TZID=UTC:20251029T093000
DTEND;TZID=UTC:20251029T130000
DTSTAMP:20260425T132142
CREATED:20250812T102042Z
LAST-MODIFIED:20250812T102042Z
UID:10009044-1761730200-1761742800@shekinah.co.uk
SUMMARY:Mentoring Level 1
DESCRIPTION:
URL:https://shekinah.co.uk/event/mentoring-level-1-8/2025-10-29/
LOCATION:Stonehouse Creek\, Plymouth
CATEGORIES:Training
ATTACH;FMTTYPE=image/png:https://shekinah.co.uk/wp-content/uploads/2025/08/Mentoring-L1-Social-Media-Tile-2024.png
END:VEVENT
BEGIN:VEVENT
DTSTART;TZID=UTC:20251028T170000
DTEND;TZID=UTC:20251028T190000
DTSTAMP:20260425T132142
CREATED:20250814T103838Z
LAST-MODIFIED:20250814T103838Z
UID:10009428-1761670800-1761678000@shekinah.co.uk
SUMMARY:Creative Speaking Club – Art & English for Beginners
DESCRIPTION:Each week\, participants will practice speaking English through guided conversation and creative workshops. Every session will introduce a new artistic technique (painting\, jewellery making\, origami etc.)\, providing both language exposure and a fun\, supportive space for self-expression. \nEnglish natives are also welcome to this course to help with practicing the language and indulging into\ncultural exchange. \nTo book please click here.
URL:https://shekinah.co.uk/event/creative-speaking-club-art-english-for-beginners/2025-10-28/
LOCATION:Stonehouse Creek\, Plymouth
CATEGORIES:Learning Exchange
END:VEVENT
BEGIN:VEVENT
DTSTART;TZID=UTC:20251028T143000
DTEND;TZID=UTC:20251028T160000
DTSTAMP:20260425T132142
CREATED:20250814T112916Z
LAST-MODIFIED:20250814T112916Z
UID:10009448-1761661800-1761667200@shekinah.co.uk
SUMMARY:Talking Games
DESCRIPTION:This session consists of simple\, non-competitive\, make-it-up-together–as-we-go along games\, and it involves making lists\, stringing together sentences and engaging in brief conversations. \nThese games embrace the playful side of words and language. \nYou may or may not actually learn much (except how to play these games)\, but you will hopefully have a\nrelaxing and amusing time. \nTo book please click here.
URL:https://shekinah.co.uk/event/talking-games-4/
LOCATION:Stonehouse Creek\, Plymouth
CATEGORIES:Learning Exchange
END:VEVENT
BEGIN:VEVENT
DTSTART;TZID=UTC:20251028T140000
DTEND;TZID=UTC:20251028T180000
DTSTAMP:20260425T132142
CREATED:20250812T100258Z
LAST-MODIFIED:20250812T100258Z
UID:10009004-1761660000-1761674400@shekinah.co.uk
SUMMARY:Re:vive
DESCRIPTION:
URL:https://shekinah.co.uk/event/revive-10/2025-10-28/
LOCATION:Stonehouse Creek\, Plymouth
CATEGORIES:Training
ATTACH;FMTTYPE=image/png:https://shekinah.co.uk/wp-content/uploads/2025/08/Revive-Social-Media-Tile-2025-1.png
END:VEVENT
BEGIN:VEVENT
DTSTART;TZID=UTC:20251028T120000
DTEND;TZID=UTC:20251028T140000
DTSTAMP:20260425T132142
CREATED:20241120T122457Z
LAST-MODIFIED:20241120T122457Z
UID:10004578-1761652800-1761660000@shekinah.co.uk
SUMMARY:Shelter to support your housing needs
DESCRIPTION:Open to all with issues around housing.
URL:https://shekinah.co.uk/event/shelter-to-support-your-housing-needs-2/2025-10-28/
LOCATION:Stonehouse Creek\, Plymouth
CATEGORIES:Drop in
END:VEVENT
BEGIN:VEVENT
DTSTART;TZID=UTC:20251028T093000
DTEND;TZID=UTC:20251028T133000
DTSTAMP:20260425T132142
CREATED:20250812T094408Z
LAST-MODIFIED:20250812T094408Z
UID:10008964-1761643800-1761658200@shekinah.co.uk
SUMMARY:Re:develop
DESCRIPTION:
URL:https://shekinah.co.uk/event/redevelop-12/2025-10-28/
LOCATION:Stonehouse Creek\, Plymouth
CATEGORIES:Training
ATTACH;FMTTYPE=image/png:https://shekinah.co.uk/wp-content/uploads/2025/08/Redevelop-Social-Media-Tile-April-2025.png
END:VEVENT
BEGIN:VEVENT
DTSTART;TZID=UTC:20251027T193000
DTEND;TZID=UTC:20251027T213000
DTSTAMP:20260425T132142
CREATED:20241120T124020Z
LAST-MODIFIED:20241120T124020Z
UID:10004779-1761593400-1761600600@shekinah.co.uk
SUMMARY:Trevi Support Group for women
DESCRIPTION:This support session is open to all women.  Safe space for all.  Please if you need support come along.
URL:https://shekinah.co.uk/event/trevi-support-group-for-women-2/2025-10-27/
LOCATION:Stonehouse Creek\, Plymouth
CATEGORIES:no-event
END:VEVENT
BEGIN:VEVENT
DTSTART;TZID=UTC:20251027T143000
DTEND;TZID=UTC:20251027T170000
DTSTAMP:20260425T132142
CREATED:20250814T121123Z
LAST-MODIFIED:20250814T121123Z
UID:10009526-1761575400-1761584400@shekinah.co.uk
SUMMARY:Becoming a Tutor
DESCRIPTION:Are you interested in joining our group of workshop facilitators but feel unsure about how to develop and deliver your course? Don’t worry – we can help. \nThis workshop will provide you with the essential basics to become a tutor for the Learning Exchange. \nTo book please click here!
URL:https://shekinah.co.uk/event/becoming-a-tutor-5/
LOCATION:Stonehouse Creek\, Plymouth
CATEGORIES:Learning Exchange
END:VEVENT
BEGIN:VEVENT
DTSTART;TZID=UTC:20251027T140000
DTEND;TZID=UTC:20251027T160000
DTSTAMP:20260425T132142
CREATED:20250814T115819Z
LAST-MODIFIED:20250903T061656Z
UID:10009495-1761573600-1761580800@shekinah.co.uk
SUMMARY:Gadgets and Gizmos
DESCRIPTION:These sessions will teach you how to use computer appliances and gadgets such as smartphone\, laptop and tablets. \nIf you struggle sending pictures\, saving files\, changing a format\, or searching the web then this\ncourse is for you. \nSome functions might be a mystery to you – Brian will explain how they might be useful and make your\ndaily life easier. \nTo book please click here!
URL:https://shekinah.co.uk/event/gadgets-and-gizmos/2025-10-27/
LOCATION:Stonehouse Creek\, Plymouth
CATEGORIES:Learning Exchange
END:VEVENT
BEGIN:VEVENT
DTSTART;TZID=UTC:20251027T100000
DTEND;TZID=UTC:20251027T150000
DTSTAMP:20260425T132142
CREATED:20250812T083811Z
LAST-MODIFIED:20250812T093957Z
UID:10008951-1761559200-1761577200@shekinah.co.uk
SUMMARY:Re:Ignite
DESCRIPTION:
URL:https://shekinah.co.uk/event/reignite/2025-10-27/
LOCATION:Stonehouse Creek\, Plymouth
CATEGORIES:Training
ATTACH;FMTTYPE=image/png:https://shekinah.co.uk/wp-content/uploads/2025/08/ReIgnite-Social-Media-2025.png
END:VEVENT
BEGIN:VEVENT
DTSTART;TZID=UTC:20251024T123000
DTEND;TZID=UTC:20251024T143000
DTSTAMP:20260425T132142
CREATED:20241120T121157Z
LAST-MODIFIED:20260319T090415Z
UID:10004282-1761309000-1761316200@shekinah.co.uk
SUMMARY:DWP Drop in
DESCRIPTION:If you are looking for any support with regards Universal Credit or any other benefits please pop in to our Drop in!
URL:https://shekinah.co.uk/event/dwp-drop-in-2/2025-10-24/
LOCATION:Stonehouse Creek\, Plymouth
CATEGORIES:Drop in
END:VEVENT
BEGIN:VEVENT
DTSTART;TZID=UTC:20251023T170000
DTEND;TZID=UTC:20251023T190000
DTSTAMP:20260425T132142
CREATED:20250814T114841Z
LAST-MODIFIED:20250814T114841Z
UID:10009480-1761238800-1761246000@shekinah.co.uk
SUMMARY:Purses and Pouches
DESCRIPTION:‘No Sew Leather/faux leather or canvas purses/pouches’. \nLearn how to use poppers and rivets to create purses with NO SEWING! \nCut the material using a template\, add the holes and use rivets and poppers to secure. Perfect for storing change\, cards or even as a pencil case. \nCome along and join the fun. No experience necessary and take home your finished product. \nTo book please click here!
URL:https://shekinah.co.uk/event/purses-and-pouches/2025-10-23/
LOCATION:Stonehouse Creek\, Plymouth
CATEGORIES:Learning Exchange
END:VEVENT
BEGIN:VEVENT
DTSTART;TZID=UTC:20251023T090000
DTEND;TZID=UTC:20251023T150000
DTSTAMP:20260425T132142
CREATED:20250115T132704Z
LAST-MODIFIED:20251106T082456Z
UID:10007587-1761210000-1761231600@shekinah.co.uk
SUMMARY:Vision Care - essential eye care
DESCRIPTION:
URL:https://shekinah.co.uk/event/vision-care-essential-eye-care/2025-10-23/
LOCATION:Stonehouse Creek\, Plymouth
CATEGORIES:no-event
END:VEVENT
BEGIN:VEVENT
DTSTART;TZID=UTC:20251022T193000
DTEND;TZID=UTC:20251022T213000
DTSTAMP:20260425T132142
CREATED:20241120T124020Z
LAST-MODIFIED:20241120T124020Z
UID:10004778-1761161400-1761168600@shekinah.co.uk
SUMMARY:Trevi Support Group for women
DESCRIPTION:This support session is open to all women.  Safe space for all.  Please if you need support come along.
URL:https://shekinah.co.uk/event/trevi-support-group-for-women-2/2025-10-22/
LOCATION:Stonehouse Creek\, Plymouth
CATEGORIES:no-event
END:VEVENT
BEGIN:VEVENT
DTSTART;TZID=UTC:20251022T170000
DTEND;TZID=UTC:20251022T190000
DTSTAMP:20260425T132142
CREATED:20250814T113955Z
LAST-MODIFIED:20250814T113955Z
UID:10009465-1761152400-1761159600@shekinah.co.uk
SUMMARY:Hatha Yoga
DESCRIPTION:This will be a mixed ability class of Hatha yoga\, which will mostly focus on beginners however there will be options to make it more challenging for the more experienced. \nIt will focus on a form of and sun salutation breathing practices\, in order to provide an anchor in a busy or stressful life and help participants to feel grounded and calm. \nPlease bring a small blanket\, if you can\, as a support or for keeping warm during savasana (rest). \nTo book please click here!
URL:https://shekinah.co.uk/event/hatha-yoga-7/2025-10-22/
LOCATION:Stonehouse Creek\, Plymouth
CATEGORIES:Learning Exchange
END:VEVENT
END:VCALENDAR