BEGIN:VCALENDAR
VERSION:2.0
PRODID:-//Shekinah - ECPv6.15.18//NONSGML v1.0//EN
CALSCALE:GREGORIAN
METHOD:PUBLISH
X-WR-CALNAME:Shekinah
X-ORIGINAL-URL:https://shekinah.co.uk
X-WR-CALDESC:Events for Shekinah
REFRESH-INTERVAL;VALUE=DURATION:PT1H
X-Robots-Tag:noindex
X-PUBLISHED-TTL:PT1H
BEGIN:VTIMEZONE
TZID:UTC
BEGIN:STANDARD
TZOFFSETFROM:+0000
TZOFFSETTO:+0000
TZNAME:UTC
DTSTART:20250101T000000
END:STANDARD
END:VTIMEZONE
BEGIN:VEVENT
DTSTART;TZID=UTC:20260504T193000
DTEND;TZID=UTC:20260504T213000
DTSTAMP:20260421T140816
CREATED:20241120T124020Z
LAST-MODIFIED:20241120T124020Z
UID:10004833-1777923000-1777930200@shekinah.co.uk
SUMMARY:Trevi Support Group for women
DESCRIPTION:This support session is open to all women.  Safe space for all.  Please if you need support come along.
URL:https://shekinah.co.uk/event/trevi-support-group-for-women-2/2026-05-04/
LOCATION:Stonehouse Creek\, Plymouth
CATEGORIES:no-event
END:VEVENT
BEGIN:VEVENT
DTSTART;TZID=UTC:20260505T093000
DTEND;TZID=UTC:20260505T133000
DTSTAMP:20260421T140816
CREATED:20250812T095153Z
LAST-MODIFIED:20250812T095313Z
UID:10008985-1777973400-1777987800@shekinah.co.uk
SUMMARY:Re:develop
DESCRIPTION:
URL:https://shekinah.co.uk/event/redevelop-15/2026-05-05/
LOCATION:Stonehouse Creek\, Plymouth
CATEGORIES:Training
ATTACH;FMTTYPE=image/png:https://shekinah.co.uk/wp-content/uploads/2025/08/Redevelop-Social-Media-Tile-April-2025.png
END:VEVENT
BEGIN:VEVENT
DTSTART;TZID=UTC:20260505T130000
DTEND;TZID=UTC:20260505T150000
DTSTAMP:20260421T140816
CREATED:20260413T123102Z
LAST-MODIFIED:20260413T123102Z
UID:10011853-1777986000-1777993200@shekinah.co.uk
SUMMARY:IT & Tech Support
DESCRIPTION:Having problems with smartphone\, laptop or tablet? \nDo you struggle with functions\, files\, formats or searching the web? \nWhatever the problem or level – Brian is here to help you.
URL:https://shekinah.co.uk/event/it-tech-support-3/2026-05-05/
LOCATION:Stonehouse Creek\, Plymouth
CATEGORIES:Learning Exchange
END:VEVENT
BEGIN:VEVENT
DTSTART;TZID=UTC:20260505T140000
DTEND;TZID=UTC:20260505T160000
DTSTAMP:20260421T140816
CREATED:20260413T123231Z
LAST-MODIFIED:20260413T123231Z
UID:10011864-1777989600-1777996800@shekinah.co.uk
SUMMARY:Rag-Rugging
DESCRIPTION:Rag rugging is a traditional craft\, which involves “hooking and progging” techniques\, re-purposing\nold fabric scraps into functional home decor. \nIn session one you will have the chance to experiment with the two basic techniques and make\na flower bauble or small design. \nIn the second session you can start on a larger project that you can finish in your own time. \nAll materials will be provided\, but you are welcome to bring old t-shirts to turn into rags.
URL:https://shekinah.co.uk/event/rag-rugging/2026-05-05/
LOCATION:Stonehouse Creek\, Plymouth
CATEGORIES:Learning Exchange
END:VEVENT
BEGIN:VEVENT
DTSTART;TZID=UTC:20260505T140000
DTEND;TZID=UTC:20260505T180000
DTSTAMP:20260421T140816
CREATED:20250812T101324Z
LAST-MODIFIED:20250812T101553Z
UID:10009025-1777989600-1778004000@shekinah.co.uk
SUMMARY:Re:vive
DESCRIPTION:
URL:https://shekinah.co.uk/event/revive-13/2026-05-05/
LOCATION:Stonehouse Creek\, Plymouth
CATEGORIES:Training
ATTACH;FMTTYPE=image/png:https://shekinah.co.uk/wp-content/uploads/2025/08/Revive-Social-Media-Tile-2025-1.png
END:VEVENT
BEGIN:VEVENT
DTSTART;TZID=UTC:20260506T093000
DTEND;TZID=UTC:20260506T130000
DTSTAMP:20260421T140816
CREATED:20250812T102459Z
LAST-MODIFIED:20250812T102459Z
UID:10009065-1778059800-1778072400@shekinah.co.uk
SUMMARY:Mentoring Level 1
DESCRIPTION:
URL:https://shekinah.co.uk/event/mentoring-level-1-11/2026-05-06/
LOCATION:Stonehouse Creek\, Plymouth
CATEGORIES:Training
ATTACH;FMTTYPE=image/png:https://shekinah.co.uk/wp-content/uploads/2025/08/Mentoring-L1-Social-Media-Tile-2024.png
END:VEVENT
BEGIN:VEVENT
DTSTART;TZID=UTC:20260506T100000
DTEND;TZID=UTC:20260506T150000
DTSTAMP:20260421T140816
CREATED:20250812T103258Z
LAST-MODIFIED:20250812T103258Z
UID:10009105-1778061600-1778079600@shekinah.co.uk
SUMMARY:Carpentry
DESCRIPTION:
URL:https://shekinah.co.uk/event/carpentry-11/2026-05-06/
LOCATION:Stonehouse Creek\, Plymouth
CATEGORIES:Training
ATTACH;FMTTYPE=image/png:https://shekinah.co.uk/wp-content/uploads/2025/08/Carpentry-Social-Media-Tile-2025.png
END:VEVENT
BEGIN:VEVENT
DTSTART;TZID=UTC:20260506T110000
DTEND;TZID=UTC:20260506T130000
DTSTAMP:20260421T140816
CREATED:20260413T123341Z
LAST-MODIFIED:20260413T123341Z
UID:10011867-1778065200-1778072400@shekinah.co.uk
SUMMARY:Cabin Sessions
DESCRIPTION:Make a noise and spread some joy – Come along to our sessions to sing some classic hits with Matt and\nJon. \nBring an instrument or a shaky egg\, stylophone etc. if you want.
URL:https://shekinah.co.uk/event/cabin-sessions-2/2026-05-06/
LOCATION:Stonehouse Creek\, Plymouth
CATEGORIES:Learning Exchange
END:VEVENT
BEGIN:VEVENT
DTSTART;TZID=UTC:20260506T140000
DTEND;TZID=UTC:20260506T160000
DTSTAMP:20260421T140816
CREATED:20260413T124048Z
LAST-MODIFIED:20260413T124048Z
UID:10011887-1778076000-1778083200@shekinah.co.uk
SUMMARY:Spoken Word/Poetry - “Shekinah Speaks!”
DESCRIPTION:So\, you want to explore poetry and spoken word? All you will need for this workshop is yourself\, a pen and a notebook. \nIt is welcoming to creatives of all levels of ability. Don’t worry if you’re a newbie – this could be the\nchance you’ve been waiting for to explore the vast world of language\, which is poetry and spoken word. \nThere will also be advice how to get into open mic\, as well as a possible route towards publication. Hope\nto see you there.
URL:https://shekinah.co.uk/event/spoken-word-poetry-shekinah-speaks/2026-05-06/
LOCATION:Stonehouse Creek\, Plymouth
CATEGORIES:Learning Exchange
END:VEVENT
BEGIN:VEVENT
DTSTART;TZID=UTC:20260506T170000
DTEND;TZID=UTC:20260506T180000
DTSTAMP:20260421T140816
CREATED:20260413T124214Z
LAST-MODIFIED:20260413T124214Z
UID:10011893-1778086800-1778090400@shekinah.co.uk
SUMMARY:Hatha Yoga
DESCRIPTION:This will be a mixed ability class of Hatha yoga (1 hour sessions)\, which will mostly focus on beginners\,\nhowever there will be options to make it more challenging for the more experienced. \nIt will focus on posture work\, some breathing practices and meditation\, in order to make each\nparticipant more aware of their body and enable them to feel more comfortable in it. \nPlease bring a small blanket\, if you can\, as a support or for keeping warm during savasana (rest).
URL:https://shekinah.co.uk/event/hatha-yoga-10/2026-05-06/
LOCATION:Stonehouse Creek\, Plymouth
CATEGORIES:Learning Exchange
END:VEVENT
BEGIN:VEVENT
DTSTART;TZID=UTC:20260506T193000
DTEND;TZID=UTC:20260506T213000
DTSTAMP:20260421T140816
CREATED:20241120T124020Z
LAST-MODIFIED:20241120T124020Z
UID:10004834-1778095800-1778103000@shekinah.co.uk
SUMMARY:Trevi Support Group for women
DESCRIPTION:This support session is open to all women.  Safe space for all.  Please if you need support come along.
URL:https://shekinah.co.uk/event/trevi-support-group-for-women-2/2026-05-06/
LOCATION:Stonehouse Creek\, Plymouth
CATEGORIES:no-event
END:VEVENT
BEGIN:VEVENT
DTSTART;TZID=UTC:20260507T090000
DTEND;TZID=UTC:20260507T150000
DTSTAMP:20260421T140816
CREATED:20250115T132704Z
LAST-MODIFIED:20251106T082456Z
UID:10007615-1778144400-1778166000@shekinah.co.uk
SUMMARY:Vision Care - essential eye care
DESCRIPTION:
URL:https://shekinah.co.uk/event/vision-care-essential-eye-care/2026-05-07/
LOCATION:Stonehouse Creek\, Plymouth
CATEGORIES:no-event
END:VEVENT
BEGIN:VEVENT
DTSTART;TZID=UTC:20260507T093000
DTEND;TZID=UTC:20260507T130000
DTSTAMP:20260421T140816
CREATED:20250812T134357Z
LAST-MODIFIED:20260331T095337Z
UID:10009145-1778146200-1778158800@shekinah.co.uk
SUMMARY:Mentoring Level 2
DESCRIPTION:Develop the understanding of the role and nature of Mentoring. Utilize mentoring skills to reflect on your own performance and learn key listening and questioning techniques. \nUnderstand how to organize mentoring activities and plan for effective mentoring sessions. Reflect on your own performance and define the goals\, progress and actions you require. \nLimited space so please book to avoid disappointment.
URL:https://shekinah.co.uk/event/mentoring-level-2-12/2026-05-07/
LOCATION:Stonehouse Creek\, Plymouth
CATEGORIES:Training
ATTACH;FMTTYPE=image/png:https://shekinah.co.uk/wp-content/uploads/2025/08/Mentoring-L2-Social-Media-Tile-2024-1.png
END:VEVENT
BEGIN:VEVENT
DTSTART;TZID=UTC:20260507T100000
DTEND;TZID=UTC:20260507T120000
DTSTAMP:20260421T140816
CREATED:20260413T122835Z
LAST-MODIFIED:20260413T122928Z
UID:10011842-1778148000-1778155200@shekinah.co.uk
SUMMARY:Literacy: Having Fun With Words
DESCRIPTION:Improve your reading and writing skills through simple tasks and games. If you have difficulty to\nfocus on reading or if you have problems composing a letter or email\, this course is for you. \nEdwina will meet you at your level and support you at a speed of learning that is comfortable to you. \nMondays and Thursdays\, allocated time slots. To enquire please email Learning Exchange Team.
URL:https://shekinah.co.uk/event/literacy-having-fun-with-words-2/2026-05-07/
LOCATION:Stonehouse Creek\, Plymouth
CATEGORIES:Learning Exchange
END:VEVENT
BEGIN:VEVENT
DTSTART;TZID=UTC:20260507T140000
DTEND;TZID=UTC:20260507T180000
DTSTAMP:20260421T140816
CREATED:20250813T064649Z
LAST-MODIFIED:20250813T064649Z
UID:10009185-1778162400-1778176800@shekinah.co.uk
SUMMARY:Re:lease
DESCRIPTION:
URL:https://shekinah.co.uk/event/release-5/2026-05-07/
LOCATION:Stonehouse Creek\, Plymouth
CATEGORIES:Training
ATTACH;FMTTYPE=image/png:https://shekinah.co.uk/wp-content/uploads/2025/08/Release-Social-Media-2025.png
END:VEVENT
BEGIN:VEVENT
DTSTART;TZID=UTC:20260508T100000
DTEND;TZID=UTC:20260508T150000
DTSTAMP:20260421T140816
CREATED:20250813T065425Z
LAST-MODIFIED:20250813T065425Z
UID:10009225-1778234400-1778252400@shekinah.co.uk
SUMMARY:Re:Create
DESCRIPTION:
URL:https://shekinah.co.uk/event/recreate-6/2026-05-08/
LOCATION:Stonehouse Creek\, Plymouth
CATEGORIES:Training
ATTACH;FMTTYPE=image/png:https://shekinah.co.uk/wp-content/uploads/2025/08/Recreate-Social-Media-2025.png
END:VEVENT
BEGIN:VEVENT
DTSTART;TZID=UTC:20260508T110000
DTEND;TZID=UTC:20260508T150000
DTSTAMP:20260421T140816
CREATED:20250813T070051Z
LAST-MODIFIED:20250813T070051Z
UID:10009265-1778238000-1778252400@shekinah.co.uk
SUMMARY:Mental Health Awareness
DESCRIPTION:
URL:https://shekinah.co.uk/event/mental-health-awareness-11/2026-05-08/
LOCATION:Stonehouse Creek\, Plymouth
CATEGORIES:Training
ATTACH;FMTTYPE=image/png:https://shekinah.co.uk/wp-content/uploads/2025/08/Mental-Health-Social-Media-Tile-2025.png
END:VEVENT
BEGIN:VEVENT
DTSTART;TZID=UTC:20260508T123000
DTEND;TZID=UTC:20260508T143000
DTSTAMP:20260421T140816
CREATED:20241120T121157Z
LAST-MODIFIED:20260319T090415Z
UID:10004310-1778243400-1778250600@shekinah.co.uk
SUMMARY:DWP Drop in
DESCRIPTION:If you are looking for any support with regards Universal Credit or any other benefits please pop in to our Drop in!
URL:https://shekinah.co.uk/event/dwp-drop-in-2/2026-05-08/
LOCATION:Stonehouse Creek\, Plymouth
CATEGORIES:Drop in
END:VEVENT
BEGIN:VEVENT
DTSTART;TZID=UTC:20260508T150000
DTEND;TZID=UTC:20260508T170000
DTSTAMP:20260421T140816
CREATED:20260413T125412Z
LAST-MODIFIED:20260413T125412Z
UID:10011914-1778252400-1778259600@shekinah.co.uk
SUMMARY:Introduction to 3D Printing and Computer-Aided Design
DESCRIPTION:For this series of sessions\, it is important to have a basic understanding of computers. It would be good\nif you brought a laptop to work with\, but you can also borrow one from us if necessary. \nMatt will teach you the basics of 3D design\, show you how the printer works\, and give you an insight of\nwhat programmes are available to use. \nYou will be able to make your own design and if it is within the legal and physical parameters\, see it\nmaterialise.
URL:https://shekinah.co.uk/event/introduction-to-3d-printing-and-computer-aided-design/2026-05-08/
LOCATION:Stonehouse Creek\, Plymouth
CATEGORIES:Learning Exchange
END:VEVENT
BEGIN:VEVENT
DTSTART;TZID=UTC:20260508T150000
DTEND;TZID=UTC:20260508T170000
DTSTAMP:20260421T140816
CREATED:20260413T125530Z
LAST-MODIFIED:20260413T125530Z
UID:10011918-1778252400-1778259600@shekinah.co.uk
SUMMARY:Crochet Against Discrimination
DESCRIPTION:Crochet against discrimination and knit against oppression! This is a space to have a poke at class\,\nrace\, gender\, nationality\, ability\, ethnicity and sexuality. \nWe invite you to come join this group for storytelling and positive insurrection\, unpicking oppressive\nnarratives and weaving a strong community network.
URL:https://shekinah.co.uk/event/crochet-against-discrimination/2026-05-08/
LOCATION:Stonehouse Creek\, Plymouth
CATEGORIES:Learning Exchange
END:VEVENT
BEGIN:VEVENT
DTSTART;TZID=UTC:20260508T153000
DTEND;TZID=UTC:20260508T173000
DTSTAMP:20260421T140816
CREATED:20260413T123911Z
LAST-MODIFIED:20260413T123911Z
UID:10011884-1778254200-1778261400@shekinah.co.uk
SUMMARY:Glass Painting
DESCRIPTION:Come and paint pictures on glass! \nLearn how to paint glass in this two part workshop. In week one we will learn about the paints and how\nthey are best applied to glass. Using templates we will paint the outline image in a raised relief paint. \nIn week two we will bring them to life with colour to produce a stained glass window effect. \nDate and time: Fridays 1/5 and 8/5 or 15/5 and 22/5. 3.30pm – 5.30pm (When booking\, please specify\nwhich session pair you would prefer) Email
URL:https://shekinah.co.uk/event/glass-painting/2026-05-08/
LOCATION:Stonehouse Creek\, Plymouth
CATEGORIES:Learning Exchange
END:VEVENT
BEGIN:VEVENT
DTSTART;TZID=UTC:20260511T110000
DTEND;TZID=UTC:20260511T130000
DTSTAMP:20260421T140816
CREATED:20260413T123626Z
LAST-MODIFIED:20260413T123626Z
UID:10011881-1778497200-1778504400@shekinah.co.uk
SUMMARY:Stonehouse Stompers - Walking Group
DESCRIPTION:Gather and find out more about your local area by following a planned route\, learn about the\ncommunity resources and improve your well-being at the same time.\nWe will start each walk with a safety talk\, ensuring you know what to expect and where we are going. Each walk will have a different theme\, and you can sign up to a single walk or many.\n1) Mental Health – 1st May\n2) Marine – 8th May\n3) Music / Meditation / Movement – 15th May\n4) Foraging – 22nd May\n5) Art – 29th May\n6) Union Street – 5th June \nTeaching and Learning Approaches: Be prepared for all weathers – suitable footwear\, layers\, snacks and water. We will be stopping along the route at regular intervals and will provide teas / coffees.
URL:https://shekinah.co.uk/event/stonehouse-stompers-walking-group/2026-05-11/
LOCATION:Stonehouse Creek\, Plymouth
CATEGORIES:Learning Exchange
END:VEVENT
BEGIN:VEVENT
DTSTART;TZID=UTC:20260511T130000
DTEND;TZID=UTC:20260511T163000
DTSTAMP:20260421T140816
CREATED:20260413T124812Z
LAST-MODIFIED:20260413T124812Z
UID:10011903-1778504400-1778517000@shekinah.co.uk
SUMMARY:Simple Sewing - Pyjama Trousers
DESCRIPTION:We’ll be making loose fitting trousers with elasticated waist in your size. No zips\,\nNo buttons\, No paper patterns either. \nSew with a sewing machine. Don’t worry if you never touched a sewing machine. You will have time to practise using it first. \nChiharu will show you :\n– Basics about sewing machines\n– How to take your measurement and use it for drawing pattern\n– Cutting the material\n– How to sew the pieces together
URL:https://shekinah.co.uk/event/simple-sewing-pyjama-trousers/
LOCATION:Stonehouse Creek\, Plymouth
CATEGORIES:Learning Exchange
END:VEVENT
BEGIN:VEVENT
DTSTART;TZID=UTC:20260511T193000
DTEND;TZID=UTC:20260511T213000
DTSTAMP:20260421T140816
CREATED:20241120T124020Z
LAST-MODIFIED:20241120T124020Z
UID:10004835-1778527800-1778535000@shekinah.co.uk
SUMMARY:Trevi Support Group for women
DESCRIPTION:This support session is open to all women.  Safe space for all.  Please if you need support come along.
URL:https://shekinah.co.uk/event/trevi-support-group-for-women-2/2026-05-11/
LOCATION:Stonehouse Creek\, Plymouth
CATEGORIES:no-event
END:VEVENT
BEGIN:VEVENT
DTSTART;TZID=UTC:20260512T093000
DTEND;TZID=UTC:20260512T133000
DTSTAMP:20260421T140816
CREATED:20250812T095153Z
LAST-MODIFIED:20250812T095313Z
UID:10008986-1778578200-1778592600@shekinah.co.uk
SUMMARY:Re:develop
DESCRIPTION:
URL:https://shekinah.co.uk/event/redevelop-15/2026-05-12/
LOCATION:Stonehouse Creek\, Plymouth
CATEGORIES:Training
ATTACH;FMTTYPE=image/png:https://shekinah.co.uk/wp-content/uploads/2025/08/Redevelop-Social-Media-Tile-April-2025.png
END:VEVENT
BEGIN:VEVENT
DTSTART;TZID=UTC:20260512T120000
DTEND;TZID=UTC:20260512T140000
DTSTAMP:20260421T140816
CREATED:20241120T122457Z
LAST-MODIFIED:20241120T122457Z
UID:10004592-1778587200-1778594400@shekinah.co.uk
SUMMARY:Shelter to support your housing needs
DESCRIPTION:Open to all with issues around housing.
URL:https://shekinah.co.uk/event/shelter-to-support-your-housing-needs-2/2026-05-12/
LOCATION:Stonehouse Creek\, Plymouth
CATEGORIES:Drop in
END:VEVENT
BEGIN:VEVENT
DTSTART;TZID=UTC:20260512T130000
DTEND;TZID=UTC:20260512T150000
DTSTAMP:20260421T140816
CREATED:20260413T123102Z
LAST-MODIFIED:20260413T123102Z
UID:10011854-1778590800-1778598000@shekinah.co.uk
SUMMARY:IT & Tech Support
DESCRIPTION:Having problems with smartphone\, laptop or tablet? \nDo you struggle with functions\, files\, formats or searching the web? \nWhatever the problem or level – Brian is here to help you.
URL:https://shekinah.co.uk/event/it-tech-support-3/2026-05-12/
LOCATION:Stonehouse Creek\, Plymouth
CATEGORIES:Learning Exchange
END:VEVENT
BEGIN:VEVENT
DTSTART;TZID=UTC:20260512T140000
DTEND;TZID=UTC:20260512T180000
DTSTAMP:20260421T140816
CREATED:20250812T101324Z
LAST-MODIFIED:20250812T101553Z
UID:10009026-1778594400-1778608800@shekinah.co.uk
SUMMARY:Re:vive
DESCRIPTION:
URL:https://shekinah.co.uk/event/revive-13/2026-05-12/
LOCATION:Stonehouse Creek\, Plymouth
CATEGORIES:Training
ATTACH;FMTTYPE=image/png:https://shekinah.co.uk/wp-content/uploads/2025/08/Revive-Social-Media-Tile-2025-1.png
END:VEVENT
BEGIN:VEVENT
DTSTART;TZID=UTC:20260513T093000
DTEND;TZID=UTC:20260513T130000
DTSTAMP:20260421T140816
CREATED:20250812T102459Z
LAST-MODIFIED:20250812T102459Z
UID:10009066-1778664600-1778677200@shekinah.co.uk
SUMMARY:Mentoring Level 1
DESCRIPTION:
URL:https://shekinah.co.uk/event/mentoring-level-1-11/2026-05-13/
LOCATION:Stonehouse Creek\, Plymouth
CATEGORIES:Training
ATTACH;FMTTYPE=image/png:https://shekinah.co.uk/wp-content/uploads/2025/08/Mentoring-L1-Social-Media-Tile-2024.png
END:VEVENT
BEGIN:VEVENT
DTSTART;TZID=UTC:20260513T100000
DTEND;TZID=UTC:20260513T150000
DTSTAMP:20260421T140816
CREATED:20250812T103258Z
LAST-MODIFIED:20250812T103258Z
UID:10009106-1778666400-1778684400@shekinah.co.uk
SUMMARY:Carpentry
DESCRIPTION:
URL:https://shekinah.co.uk/event/carpentry-11/2026-05-13/
LOCATION:Stonehouse Creek\, Plymouth
CATEGORIES:Training
ATTACH;FMTTYPE=image/png:https://shekinah.co.uk/wp-content/uploads/2025/08/Carpentry-Social-Media-Tile-2025.png
END:VEVENT
END:VCALENDAR