BEGIN:VCALENDAR
VERSION:2.0
PRODID:-//Shekinah - ECPv6.15.18//NONSGML v1.0//EN
CALSCALE:GREGORIAN
METHOD:PUBLISH
X-ORIGINAL-URL:https://shekinah.co.uk
X-WR-CALDESC:Events for Shekinah
REFRESH-INTERVAL;VALUE=DURATION:PT1H
X-Robots-Tag:noindex
X-PUBLISHED-TTL:PT1H
BEGIN:VTIMEZONE
TZID:UTC
BEGIN:STANDARD
TZOFFSETFROM:+0000
TZOFFSETTO:+0000
TZNAME:UTC
DTSTART:20240101T000000
END:STANDARD
END:VTIMEZONE
BEGIN:VEVENT
DTSTART;TZID=UTC:20251020T140000
DTEND;TZID=UTC:20251020T160000
DTSTAMP:20260425T181315
CREATED:20250814T115819Z
LAST-MODIFIED:20250903T061656Z
UID:10009494-1760968800-1760976000@shekinah.co.uk
SUMMARY:Gadgets and Gizmos
DESCRIPTION:These sessions will teach you how to use computer appliances and gadgets such as smartphone\, laptop and tablets. \nIf you struggle sending pictures\, saving files\, changing a format\, or searching the web then this\ncourse is for you. \nSome functions might be a mystery to you – Brian will explain how they might be useful and make your\ndaily life easier. \nTo book please click here!
URL:https://shekinah.co.uk/event/gadgets-and-gizmos/2025-10-20/
LOCATION:Stonehouse Creek\, Plymouth
CATEGORIES:Learning Exchange
END:VEVENT
BEGIN:VEVENT
DTSTART;TZID=UTC:20251020T100000
DTEND;TZID=UTC:20251020T150000
DTSTAMP:20260425T181315
CREATED:20250812T083811Z
LAST-MODIFIED:20250812T093957Z
UID:10008950-1760954400-1760972400@shekinah.co.uk
SUMMARY:Re:Ignite
DESCRIPTION:
URL:https://shekinah.co.uk/event/reignite/2025-10-20/
LOCATION:Stonehouse Creek\, Plymouth
CATEGORIES:Training
ATTACH;FMTTYPE=image/png:https://shekinah.co.uk/wp-content/uploads/2025/08/ReIgnite-Social-Media-2025.png
END:VEVENT
BEGIN:VEVENT
DTSTART;TZID=UTC:20251017T123000
DTEND;TZID=UTC:20251017T143000
DTSTAMP:20260425T181315
CREATED:20241120T121157Z
LAST-MODIFIED:20260319T090415Z
UID:10004281-1760704200-1760711400@shekinah.co.uk
SUMMARY:DWP Drop in
DESCRIPTION:If you are looking for any support with regards Universal Credit or any other benefits please pop in to our Drop in!
URL:https://shekinah.co.uk/event/dwp-drop-in-2/2025-10-17/
LOCATION:Stonehouse Creek\, Plymouth
CATEGORIES:Drop in
END:VEVENT
BEGIN:VEVENT
DTSTART;TZID=UTC:20251017T110000
DTEND;TZID=UTC:20251017T150000
DTSTAMP:20260425T181315
CREATED:20250813T065652Z
LAST-MODIFIED:20250813T065652Z
UID:10009243-1760698800-1760713200@shekinah.co.uk
SUMMARY:Mental Health Awareness
DESCRIPTION:
URL:https://shekinah.co.uk/event/mental-health-awareness-7/2025-10-17/
LOCATION:Stonehouse Creek\, Plymouth
CATEGORIES:Training
ATTACH;FMTTYPE=image/png:https://shekinah.co.uk/wp-content/uploads/2025/08/Mental-Health-Social-Media-Tile-2025.png
END:VEVENT
BEGIN:VEVENT
DTSTART;TZID=UTC:20251017T100000
DTEND;TZID=UTC:20251017T150000
DTSTAMP:20260425T181315
CREATED:20250813T064918Z
LAST-MODIFIED:20250813T064918Z
UID:10009203-1760695200-1760713200@shekinah.co.uk
SUMMARY:Re:Create
DESCRIPTION:
URL:https://shekinah.co.uk/event/recreate-2/2025-10-17/
LOCATION:Stonehouse Creek\, Plymouth
CATEGORIES:Training
ATTACH;FMTTYPE=image/png:https://shekinah.co.uk/wp-content/uploads/2025/08/Recreate-Social-Media-2025.png
END:VEVENT
BEGIN:VEVENT
DTSTART;TZID=UTC:20251016T170000
DTEND;TZID=UTC:20251016T190000
DTSTAMP:20260425T181315
CREATED:20250814T114841Z
LAST-MODIFIED:20250814T114841Z
UID:10009479-1760634000-1760641200@shekinah.co.uk
SUMMARY:Purses and Pouches
DESCRIPTION:‘No Sew Leather/faux leather or canvas purses/pouches’. \nLearn how to use poppers and rivets to create purses with NO SEWING! \nCut the material using a template\, add the holes and use rivets and poppers to secure. Perfect for storing change\, cards or even as a pencil case. \nCome along and join the fun. No experience necessary and take home your finished product. \nTo book please click here!
URL:https://shekinah.co.uk/event/purses-and-pouches/2025-10-16/
LOCATION:Stonehouse Creek\, Plymouth
CATEGORIES:Learning Exchange
END:VEVENT
BEGIN:VEVENT
DTSTART;TZID=UTC:20251016T140000
DTEND;TZID=UTC:20251016T180000
DTSTAMP:20260425T181315
CREATED:20250813T064212Z
LAST-MODIFIED:20250813T064212Z
UID:10009163-1760623200-1760637600@shekinah.co.uk
SUMMARY:Re:lease
DESCRIPTION:
URL:https://shekinah.co.uk/event/release/2025-10-16/
LOCATION:Stonehouse Creek\, Plymouth
CATEGORIES:Training
ATTACH;FMTTYPE=image/png:https://shekinah.co.uk/wp-content/uploads/2025/08/Release-Social-Media-2025.png
END:VEVENT
BEGIN:VEVENT
DTSTART;TZID=UTC:20251016T093000
DTEND;TZID=UTC:20251016T130000
DTSTAMP:20260425T181315
CREATED:20250812T133927Z
LAST-MODIFIED:20250812T133927Z
UID:10009123-1760607000-1760619600@shekinah.co.uk
SUMMARY:Mentoring Level 2
DESCRIPTION:
URL:https://shekinah.co.uk/event/mentoring-level-2-8/2025-10-16/
LOCATION:Stonehouse Creek\, Plymouth
CATEGORIES:Training
ATTACH;FMTTYPE=image/png:https://shekinah.co.uk/wp-content/uploads/2025/08/Mentoring-L2-Social-Media-Tile-2024-1.png
END:VEVENT
BEGIN:VEVENT
DTSTART;TZID=UTC:20251016T090000
DTEND;TZID=UTC:20251016T150000
DTSTAMP:20260425T181315
CREATED:20250115T132704Z
LAST-MODIFIED:20251106T082456Z
UID:10007586-1760605200-1760626800@shekinah.co.uk
SUMMARY:Vision Care - essential eye care
DESCRIPTION:
URL:https://shekinah.co.uk/event/vision-care-essential-eye-care/2025-10-16/
LOCATION:Stonehouse Creek\, Plymouth
CATEGORIES:no-event
END:VEVENT
BEGIN:VEVENT
DTSTART;TZID=UTC:20251015T193000
DTEND;TZID=UTC:20251015T213000
DTSTAMP:20260425T181315
CREATED:20241120T124020Z
LAST-MODIFIED:20241120T124020Z
UID:10004776-1760556600-1760563800@shekinah.co.uk
SUMMARY:Trevi Support Group for women
DESCRIPTION:This support session is open to all women.  Safe space for all.  Please if you need support come along.
URL:https://shekinah.co.uk/event/trevi-support-group-for-women-2/2025-10-15/
LOCATION:Stonehouse Creek\, Plymouth
CATEGORIES:no-event
END:VEVENT
BEGIN:VEVENT
DTSTART;TZID=UTC:20251015T170000
DTEND;TZID=UTC:20251015T190000
DTSTAMP:20260425T181315
CREATED:20250814T113955Z
LAST-MODIFIED:20250814T113955Z
UID:10009464-1760547600-1760554800@shekinah.co.uk
SUMMARY:Hatha Yoga
DESCRIPTION:This will be a mixed ability class of Hatha yoga\, which will mostly focus on beginners however there will be options to make it more challenging for the more experienced. \nIt will focus on a form of and sun salutation breathing practices\, in order to provide an anchor in a busy or stressful life and help participants to feel grounded and calm. \nPlease bring a small blanket\, if you can\, as a support or for keeping warm during savasana (rest). \nTo book please click here!
URL:https://shekinah.co.uk/event/hatha-yoga-7/2025-10-15/
LOCATION:Stonehouse Creek\, Plymouth
CATEGORIES:Learning Exchange
END:VEVENT
BEGIN:VEVENT
DTSTART;TZID=UTC:20251015T140000
DTEND;TZID=UTC:20251015T160000
DTSTAMP:20260425T181315
CREATED:20250814T115949Z
LAST-MODIFIED:20250814T115949Z
UID:10009507-1760536800-1760544000@shekinah.co.uk
SUMMARY:Gadgets and Gizmos
DESCRIPTION:These sessions will teach you how to use computer appliances and gadgets such as smartphone\, laptop and tablets. \nIf you struggle sending pictures\, saving files\, changing a format\, or searching the web then this\ncourse is for you. \nSome functions might be a mystery to you – Brian will explain how they might be useful and make your\ndaily life easier. \nTo book please click here!
URL:https://shekinah.co.uk/event/gadgets-and-gizmos-2/2025-10-15/
LOCATION:Stonehouse Creek\, Plymouth
CATEGORIES:Learning Exchange
END:VEVENT
BEGIN:VEVENT
DTSTART;TZID=UTC:20251015T140000
DTEND;TZID=UTC:20251015T160000
DTSTAMP:20260425T181315
CREATED:20250814T113353Z
LAST-MODIFIED:20250903T061254Z
UID:10009455-1760536800-1760544000@shekinah.co.uk
SUMMARY:Everyday Happiness
DESCRIPTION:An introduction to two free online resources\, exploring how making regular small changes can enrich our everyday experience. \nLooking at the website of “ Action for happiness “ and an introduction to meditation and kindness by\nrenowned teacher Sharon Salzberg. \nTake it at your own pace\, from dipping into it to see how it feels\, to committing to the whole course and\nworking together to try out some new ideas. It’s all free online so you can also explore for yourself\nduring and beyond the course. \nTogether we might explore the wealth of personal growth material that’s out there. The supportive\nconnections we make between us being just as important as the material. \nTo book please click here.
URL:https://shekinah.co.uk/event/everyday-happiness/2025-10-15/
LOCATION:Stonehouse Creek\, Plymouth
CATEGORIES:Learning Exchange
END:VEVENT
BEGIN:VEVENT
DTSTART;TZID=UTC:20251015T130000
DTEND;TZID=UTC:20251015T160000
DTSTAMP:20260425T181315
CREATED:20250814T104228Z
LAST-MODIFIED:20250814T104228Z
UID:10009437-1760533200-1760544000@shekinah.co.uk
SUMMARY:Spoon Carving
DESCRIPTION:The course will be a series of sessions\, each building on the previous one. \nSession 1: Introduction to safely using an axe to produce a billet ready for carving a spoon.\nSession 2: Introduction to safely using a knife to carve a spoon from a pre-prepared billet.\nSession 3: Finishing and oiling your spoon. \nAt the end of the last session\, you will hopefully have a spoon you can take home and enjoy. \nTo book please click here!
URL:https://shekinah.co.uk/event/spoon-carving-4/2025-10-15/
LOCATION:Stonehouse Creek\, Plymouth
CATEGORIES:Learning Exchange
END:VEVENT
BEGIN:VEVENT
DTSTART;TZID=UTC:20251015T100000
DTEND;TZID=UTC:20251015T150000
DTSTAMP:20260425T181315
CREATED:20250812T102806Z
LAST-MODIFIED:20250812T102806Z
UID:10009083-1760522400-1760540400@shekinah.co.uk
SUMMARY:Carpentry
DESCRIPTION:
URL:https://shekinah.co.uk/event/carpentry-7/2025-10-15/
LOCATION:Stonehouse Creek\, Plymouth
CATEGORIES:Training
ATTACH;FMTTYPE=image/png:https://shekinah.co.uk/wp-content/uploads/2025/08/Carpentry-Social-Media-Tile-2025.png
END:VEVENT
BEGIN:VEVENT
DTSTART;TZID=UTC:20251015T093000
DTEND;TZID=UTC:20251015T130000
DTSTAMP:20260425T181315
CREATED:20250812T101940Z
LAST-MODIFIED:20250812T101940Z
UID:10009043-1760520600-1760533200@shekinah.co.uk
SUMMARY:Mentoring Level 1
DESCRIPTION:
URL:https://shekinah.co.uk/event/mentoring-level-1-7/2025-10-15/
LOCATION:Stonehouse Creek\, Plymouth
CATEGORIES:Training
ATTACH;FMTTYPE=image/png:https://shekinah.co.uk/wp-content/uploads/2025/08/Mentoring-L1-Social-Media-Tile-2024.png
END:VEVENT
BEGIN:VEVENT
DTSTART;TZID=UTC:20251014T170000
DTEND;TZID=UTC:20251014T190000
DTSTAMP:20260425T181315
CREATED:20250814T103838Z
LAST-MODIFIED:20250814T103838Z
UID:10009426-1760461200-1760468400@shekinah.co.uk
SUMMARY:Creative Speaking Club – Art & English for Beginners
DESCRIPTION:Each week\, participants will practice speaking English through guided conversation and creative workshops. Every session will introduce a new artistic technique (painting\, jewellery making\, origami etc.)\, providing both language exposure and a fun\, supportive space for self-expression. \nEnglish natives are also welcome to this course to help with practicing the language and indulging into\ncultural exchange. \nTo book please click here.
URL:https://shekinah.co.uk/event/creative-speaking-club-art-english-for-beginners/2025-10-14/
LOCATION:Stonehouse Creek\, Plymouth
CATEGORIES:Learning Exchange
END:VEVENT
BEGIN:VEVENT
DTSTART;TZID=UTC:20251014T140000
DTEND;TZID=UTC:20251014T180000
DTSTAMP:20260425T181315
CREATED:20250812T100123Z
LAST-MODIFIED:20250812T100123Z
UID:10009003-1760450400-1760464800@shekinah.co.uk
SUMMARY:Re:vive
DESCRIPTION:
URL:https://shekinah.co.uk/event/revive-9/2025-10-14/
LOCATION:Stonehouse Creek\, Plymouth
CATEGORIES:Training
ATTACH;FMTTYPE=image/png:https://shekinah.co.uk/wp-content/uploads/2025/08/Revive-Social-Media-Tile-2025-1.png
END:VEVENT
BEGIN:VEVENT
DTSTART;TZID=UTC:20251014T140000
DTEND;TZID=UTC:20251014T160000
DTSTAMP:20260425T181315
CREATED:20250814T113049Z
LAST-MODIFIED:20250814T113049Z
UID:10009449-1760450400-1760457600@shekinah.co.uk
SUMMARY:Start a Worm Farm
DESCRIPTION:We will build a worm farm for the garden of Shekinah using worms for breaking down kitchen scraps and making nutritious compost and fertilizer. \nWe will learn about worms\, what they need to stay wriggly and happy (worm husbandry)\, and how they\ncan benefit our garden. \nShould you make your own wormery at home\, you will be able to adopt some Shekinah worms. \nTo book please click here.
URL:https://shekinah.co.uk/event/start-a-worm-farm/
LOCATION:Stonehouse Creek\, Plymouth
CATEGORIES:Learning Exchange
END:VEVENT
BEGIN:VEVENT
DTSTART;TZID=UTC:20251014T120000
DTEND;TZID=UTC:20251014T140000
DTSTAMP:20260425T181315
CREATED:20241120T122457Z
LAST-MODIFIED:20241120T122457Z
UID:10004577-1760443200-1760450400@shekinah.co.uk
SUMMARY:Shelter to support your housing needs
DESCRIPTION:Open to all with issues around housing.
URL:https://shekinah.co.uk/event/shelter-to-support-your-housing-needs-2/2025-10-14/
LOCATION:Stonehouse Creek\, Plymouth
CATEGORIES:Drop in
END:VEVENT
BEGIN:VEVENT
DTSTART;TZID=UTC:20251014T093000
DTEND;TZID=UTC:20251014T133000
DTSTAMP:20260425T181315
CREATED:20250812T094200Z
LAST-MODIFIED:20250812T094200Z
UID:10008963-1760434200-1760448600@shekinah.co.uk
SUMMARY:Re:develop
DESCRIPTION:
URL:https://shekinah.co.uk/event/redevelop-11/2025-10-14/
LOCATION:Stonehouse Creek\, Plymouth
CATEGORIES:Training
ATTACH;FMTTYPE=image/png:https://shekinah.co.uk/wp-content/uploads/2025/08/Redevelop-Social-Media-Tile-April-2025.png
END:VEVENT
BEGIN:VEVENT
DTSTART;TZID=UTC:20251013T193000
DTEND;TZID=UTC:20251013T213000
DTSTAMP:20260425T181315
CREATED:20241120T124020Z
LAST-MODIFIED:20241120T124020Z
UID:10004775-1760383800-1760391000@shekinah.co.uk
SUMMARY:Trevi Support Group for women
DESCRIPTION:This support session is open to all women.  Safe space for all.  Please if you need support come along.
URL:https://shekinah.co.uk/event/trevi-support-group-for-women-2/2025-10-13/
LOCATION:Stonehouse Creek\, Plymouth
CATEGORIES:no-event
END:VEVENT
BEGIN:VEVENT
DTSTART;TZID=UTC:20251013T173000
DTEND;TZID=UTC:20251013T190000
DTSTAMP:20260425T181315
CREATED:20250814T115222Z
LAST-MODIFIED:20250814T115222Z
UID:10009486-1760376600-1760382000@shekinah.co.uk
SUMMARY:Watercolour
DESCRIPTION:Informal watercolour painting classes\, with input from tutor Robert Turner\, on\nvarious techniques – but with the emphasis on you creating art that you are happy with\, and in your own\nstyle. \nThere will be an emphasis on practical work\, and there should be time to compare traditional\napproaches to more modern ones\, especially regarding colour mixing and the use of gouache. \nIt is hoped that there will be a guest artist for the last session. \nTo book please click here!
URL:https://shekinah.co.uk/event/watercolour-5/2025-10-13/
LOCATION:Stonehouse Creek\, Plymouth
CATEGORIES:Learning Exchange
END:VEVENT
BEGIN:VEVENT
DTSTART;TZID=UTC:20251013T140000
DTEND;TZID=UTC:20251013T160000
DTSTAMP:20260425T181315
CREATED:20250814T115819Z
LAST-MODIFIED:20250903T061656Z
UID:10009493-1760364000-1760371200@shekinah.co.uk
SUMMARY:Gadgets and Gizmos
DESCRIPTION:These sessions will teach you how to use computer appliances and gadgets such as smartphone\, laptop and tablets. \nIf you struggle sending pictures\, saving files\, changing a format\, or searching the web then this\ncourse is for you. \nSome functions might be a mystery to you – Brian will explain how they might be useful and make your\ndaily life easier. \nTo book please click here!
URL:https://shekinah.co.uk/event/gadgets-and-gizmos/2025-10-13/
LOCATION:Stonehouse Creek\, Plymouth
CATEGORIES:Learning Exchange
END:VEVENT
BEGIN:VEVENT
DTSTART;TZID=UTC:20251013T100000
DTEND;TZID=UTC:20251013T150000
DTSTAMP:20260425T181315
CREATED:20250812T083811Z
LAST-MODIFIED:20250812T093957Z
UID:10008949-1760349600-1760367600@shekinah.co.uk
SUMMARY:Re:Ignite
DESCRIPTION:
URL:https://shekinah.co.uk/event/reignite/2025-10-13/
LOCATION:Stonehouse Creek\, Plymouth
CATEGORIES:Training
ATTACH;FMTTYPE=image/png:https://shekinah.co.uk/wp-content/uploads/2025/08/ReIgnite-Social-Media-2025.png
END:VEVENT
BEGIN:VEVENT
DTSTART;TZID=UTC:20251010T123000
DTEND;TZID=UTC:20251010T143000
DTSTAMP:20260425T181315
CREATED:20241120T121157Z
LAST-MODIFIED:20260319T090415Z
UID:10004280-1760099400-1760106600@shekinah.co.uk
SUMMARY:DWP Drop in
DESCRIPTION:If you are looking for any support with regards Universal Credit or any other benefits please pop in to our Drop in!
URL:https://shekinah.co.uk/event/dwp-drop-in-2/2025-10-10/
LOCATION:Stonehouse Creek\, Plymouth
CATEGORIES:Drop in
END:VEVENT
BEGIN:VEVENT
DTSTART;TZID=UTC:20251010T110000
DTEND;TZID=UTC:20251010T150000
DTSTAMP:20260425T181315
CREATED:20250813T065652Z
LAST-MODIFIED:20250813T065652Z
UID:10009242-1760094000-1760108400@shekinah.co.uk
SUMMARY:Mental Health Awareness
DESCRIPTION:
URL:https://shekinah.co.uk/event/mental-health-awareness-7/2025-10-10/
LOCATION:Stonehouse Creek\, Plymouth
CATEGORIES:Training
ATTACH;FMTTYPE=image/png:https://shekinah.co.uk/wp-content/uploads/2025/08/Mental-Health-Social-Media-Tile-2025.png
END:VEVENT
BEGIN:VEVENT
DTSTART;TZID=UTC:20251010T100000
DTEND;TZID=UTC:20251010T150000
DTSTAMP:20260425T181315
CREATED:20250813T064918Z
LAST-MODIFIED:20250813T064918Z
UID:10009202-1760090400-1760108400@shekinah.co.uk
SUMMARY:Re:Create
DESCRIPTION:
URL:https://shekinah.co.uk/event/recreate-2/2025-10-10/
LOCATION:Stonehouse Creek\, Plymouth
CATEGORIES:Training
ATTACH;FMTTYPE=image/png:https://shekinah.co.uk/wp-content/uploads/2025/08/Recreate-Social-Media-2025.png
END:VEVENT
BEGIN:VEVENT
DTSTART;TZID=UTC:20251009T140000
DTEND;TZID=UTC:20251009T180000
DTSTAMP:20260425T181315
CREATED:20250813T064212Z
LAST-MODIFIED:20250813T064212Z
UID:10009162-1760018400-1760032800@shekinah.co.uk
SUMMARY:Re:lease
DESCRIPTION:
URL:https://shekinah.co.uk/event/release/2025-10-09/
LOCATION:Stonehouse Creek\, Plymouth
CATEGORIES:Training
ATTACH;FMTTYPE=image/png:https://shekinah.co.uk/wp-content/uploads/2025/08/Release-Social-Media-2025.png
END:VEVENT
BEGIN:VEVENT
DTSTART;TZID=UTC:20251009T140000
DTEND;TZID=UTC:20251009T170000
DTSTAMP:20260425T181315
CREATED:20250814T120835Z
LAST-MODIFIED:20250814T120835Z
UID:10009524-1760018400-1760029200@shekinah.co.uk
SUMMARY:Paper Making
DESCRIPTION:Each session is stand-alone and will cover collecting & shredding paper\, soaking & making pulp\, then forming sheets which will then be left to dry. \nParticipants will then be free to collect the paper a couple of days later. \nTo book please click here!
URL:https://shekinah.co.uk/event/paper-making/2025-10-09/
LOCATION:Stonehouse Creek\, Plymouth
CATEGORIES:Learning Exchange
END:VEVENT
END:VCALENDAR