BEGIN:VCALENDAR
VERSION:2.0
PRODID:-//Shekinah - ECPv6.15.18//NONSGML v1.0//EN
CALSCALE:GREGORIAN
METHOD:PUBLISH
X-ORIGINAL-URL:https://shekinah.co.uk
X-WR-CALDESC:Events for Shekinah
REFRESH-INTERVAL;VALUE=DURATION:PT1H
X-Robots-Tag:noindex
X-PUBLISHED-TTL:PT1H
BEGIN:VTIMEZONE
TZID:UTC
BEGIN:STANDARD
TZOFFSETFROM:+0000
TZOFFSETTO:+0000
TZNAME:UTC
DTSTART:20240101T000000
END:STANDARD
END:VTIMEZONE
BEGIN:VEVENT
DTSTART;TZID=UTC:20251003T123000
DTEND;TZID=UTC:20251003T143000
DTSTAMP:20260426T003722
CREATED:20241120T121157Z
LAST-MODIFIED:20260319T090415Z
UID:10004279-1759494600-1759501800@shekinah.co.uk
SUMMARY:DWP Drop in
DESCRIPTION:If you are looking for any support with regards Universal Credit or any other benefits please pop in to our Drop in!
URL:https://shekinah.co.uk/event/dwp-drop-in-2/2025-10-03/
LOCATION:Stonehouse Creek\, Plymouth
CATEGORIES:Drop in
END:VEVENT
BEGIN:VEVENT
DTSTART;TZID=UTC:20251003T110000
DTEND;TZID=UTC:20251003T150000
DTSTAMP:20260426T003722
CREATED:20250813T065652Z
LAST-MODIFIED:20250813T065652Z
UID:10009241-1759489200-1759503600@shekinah.co.uk
SUMMARY:Mental Health Awareness
DESCRIPTION:
URL:https://shekinah.co.uk/event/mental-health-awareness-7/2025-10-03/
LOCATION:Stonehouse Creek\, Plymouth
CATEGORIES:Training
ATTACH;FMTTYPE=image/png:https://shekinah.co.uk/wp-content/uploads/2025/08/Mental-Health-Social-Media-Tile-2025.png
END:VEVENT
BEGIN:VEVENT
DTSTART;TZID=UTC:20251003T110000
DTEND;TZID=UTC:20251003T140000
DTSTAMP:20260426T003722
CREATED:20250814T120538Z
LAST-MODIFIED:20250814T120538Z
UID:10009521-1759489200-1759500000@shekinah.co.uk
SUMMARY:Pallet Benches
DESCRIPTION:During these sessions we will take 3 old pallets\, sand them down\, cut them up and fix them together to change them into a beautiful garden bench. \nAfterwards\, you can either keep the bench or donate it to Shekinah for their new centre. \nWe will provide all the tools you need and explain in easy steps what you need to do. \nPlease click here to book!
URL:https://shekinah.co.uk/event/pallet-benches/2025-10-03/
LOCATION:Stonehouse Creek\, Plymouth
CATEGORIES:Learning Exchange
END:VEVENT
BEGIN:VEVENT
DTSTART;TZID=UTC:20251003T100000
DTEND;TZID=UTC:20251003T150000
DTSTAMP:20260426T003722
CREATED:20250813T064918Z
LAST-MODIFIED:20250813T064918Z
UID:10009201-1759485600-1759503600@shekinah.co.uk
SUMMARY:Re:Create
DESCRIPTION:
URL:https://shekinah.co.uk/event/recreate-2/2025-10-03/
LOCATION:Stonehouse Creek\, Plymouth
CATEGORIES:Training
ATTACH;FMTTYPE=image/png:https://shekinah.co.uk/wp-content/uploads/2025/08/Recreate-Social-Media-2025.png
END:VEVENT
BEGIN:VEVENT
DTSTART;TZID=UTC:20251002T140000
DTEND;TZID=UTC:20251002T180000
DTSTAMP:20260426T003722
CREATED:20250813T064212Z
LAST-MODIFIED:20250813T064212Z
UID:10009161-1759413600-1759428000@shekinah.co.uk
SUMMARY:Re:lease
DESCRIPTION:
URL:https://shekinah.co.uk/event/release/2025-10-02/
LOCATION:Stonehouse Creek\, Plymouth
CATEGORIES:Training
ATTACH;FMTTYPE=image/png:https://shekinah.co.uk/wp-content/uploads/2025/08/Release-Social-Media-2025.png
END:VEVENT
BEGIN:VEVENT
DTSTART;TZID=UTC:20251002T140000
DTEND;TZID=UTC:20251002T170000
DTSTAMP:20260426T003722
CREATED:20250814T120110Z
LAST-MODIFIED:20250814T120110Z
UID:10009516-1759413600-1759424400@shekinah.co.uk
SUMMARY:Wild Weaving
DESCRIPTION:In this session we will make a beautiful basket out of natural materials that can be found anywhere – we will be using brambles and ivy. \nThese skills are a great introduction into weaving. \nAll materials will be provided. \nTo book please click here!
URL:https://shekinah.co.uk/event/wild-weaving-2/
LOCATION:Stonehouse Creek\, Plymouth
CATEGORIES:Learning Exchange
END:VEVENT
BEGIN:VEVENT
DTSTART;TZID=UTC:20251002T093000
DTEND;TZID=UTC:20251002T130000
DTSTAMP:20260426T003722
CREATED:20250812T133927Z
LAST-MODIFIED:20250812T133927Z
UID:10009121-1759397400-1759410000@shekinah.co.uk
SUMMARY:Mentoring Level 2
DESCRIPTION:
URL:https://shekinah.co.uk/event/mentoring-level-2-8/2025-10-02/
LOCATION:Stonehouse Creek\, Plymouth
CATEGORIES:Training
ATTACH;FMTTYPE=image/png:https://shekinah.co.uk/wp-content/uploads/2025/08/Mentoring-L2-Social-Media-Tile-2024-1.png
END:VEVENT
BEGIN:VEVENT
DTSTART;TZID=UTC:20251002T090000
DTEND;TZID=UTC:20251002T150000
DTSTAMP:20260426T003722
CREATED:20250115T132704Z
LAST-MODIFIED:20251106T082456Z
UID:10007584-1759395600-1759417200@shekinah.co.uk
SUMMARY:Vision Care - essential eye care
DESCRIPTION:
URL:https://shekinah.co.uk/event/vision-care-essential-eye-care/2025-10-02/
LOCATION:Stonehouse Creek\, Plymouth
CATEGORIES:no-event
END:VEVENT
BEGIN:VEVENT
DTSTART;TZID=UTC:20251001T193000
DTEND;TZID=UTC:20251001T213000
DTSTAMP:20260426T003722
CREATED:20241120T124020Z
LAST-MODIFIED:20241120T124020Z
UID:10004772-1759347000-1759354200@shekinah.co.uk
SUMMARY:Trevi Support Group for women
DESCRIPTION:This support session is open to all women.  Safe space for all.  Please if you need support come along.
URL:https://shekinah.co.uk/event/trevi-support-group-for-women-2/2025-10-01/
LOCATION:Stonehouse Creek\, Plymouth
CATEGORIES:no-event
END:VEVENT
BEGIN:VEVENT
DTSTART;TZID=UTC:20251001T170000
DTEND;TZID=UTC:20251001T190000
DTSTAMP:20260426T003722
CREATED:20250814T113955Z
LAST-MODIFIED:20250814T113955Z
UID:10009462-1759338000-1759345200@shekinah.co.uk
SUMMARY:Hatha Yoga
DESCRIPTION:This will be a mixed ability class of Hatha yoga\, which will mostly focus on beginners however there will be options to make it more challenging for the more experienced. \nIt will focus on a form of and sun salutation breathing practices\, in order to provide an anchor in a busy or stressful life and help participants to feel grounded and calm. \nPlease bring a small blanket\, if you can\, as a support or for keeping warm during savasana (rest). \nTo book please click here!
URL:https://shekinah.co.uk/event/hatha-yoga-7/2025-10-01/
LOCATION:Stonehouse Creek\, Plymouth
CATEGORIES:Learning Exchange
END:VEVENT
BEGIN:VEVENT
DTSTART;TZID=UTC:20251001T140000
DTEND;TZID=UTC:20251001T160000
DTSTAMP:20260426T003722
CREATED:20250814T115949Z
LAST-MODIFIED:20250814T115949Z
UID:10009505-1759327200-1759334400@shekinah.co.uk
SUMMARY:Gadgets and Gizmos
DESCRIPTION:These sessions will teach you how to use computer appliances and gadgets such as smartphone\, laptop and tablets. \nIf you struggle sending pictures\, saving files\, changing a format\, or searching the web then this\ncourse is for you. \nSome functions might be a mystery to you – Brian will explain how they might be useful and make your\ndaily life easier. \nTo book please click here!
URL:https://shekinah.co.uk/event/gadgets-and-gizmos-2/2025-10-01/
LOCATION:Stonehouse Creek\, Plymouth
CATEGORIES:Learning Exchange
END:VEVENT
BEGIN:VEVENT
DTSTART;TZID=UTC:20251001T140000
DTEND;TZID=UTC:20251001T160000
DTSTAMP:20260426T003722
CREATED:20250814T113353Z
LAST-MODIFIED:20250903T061254Z
UID:10009453-1759327200-1759334400@shekinah.co.uk
SUMMARY:Everyday Happiness
DESCRIPTION:An introduction to two free online resources\, exploring how making regular small changes can enrich our everyday experience. \nLooking at the website of “ Action for happiness “ and an introduction to meditation and kindness by\nrenowned teacher Sharon Salzberg. \nTake it at your own pace\, from dipping into it to see how it feels\, to committing to the whole course and\nworking together to try out some new ideas. It’s all free online so you can also explore for yourself\nduring and beyond the course. \nTogether we might explore the wealth of personal growth material that’s out there. The supportive\nconnections we make between us being just as important as the material. \nTo book please click here.
URL:https://shekinah.co.uk/event/everyday-happiness/2025-10-01/
LOCATION:Stonehouse Creek\, Plymouth
CATEGORIES:Learning Exchange
END:VEVENT
BEGIN:VEVENT
DTSTART;TZID=UTC:20251001T100000
DTEND;TZID=UTC:20251001T150000
DTSTAMP:20260426T003722
CREATED:20250812T102806Z
LAST-MODIFIED:20250812T102806Z
UID:10009081-1759312800-1759330800@shekinah.co.uk
SUMMARY:Carpentry
DESCRIPTION:
URL:https://shekinah.co.uk/event/carpentry-7/2025-10-01/
LOCATION:Stonehouse Creek\, Plymouth
CATEGORIES:Training
ATTACH;FMTTYPE=image/png:https://shekinah.co.uk/wp-content/uploads/2025/08/Carpentry-Social-Media-Tile-2025.png
END:VEVENT
BEGIN:VEVENT
DTSTART;TZID=UTC:20251001T093000
DTEND;TZID=UTC:20251001T130000
DTSTAMP:20260426T003722
CREATED:20250812T101940Z
LAST-MODIFIED:20250812T101940Z
UID:10009041-1759311000-1759323600@shekinah.co.uk
SUMMARY:Mentoring Level 1
DESCRIPTION:
URL:https://shekinah.co.uk/event/mentoring-level-1-7/2025-10-01/
LOCATION:Stonehouse Creek\, Plymouth
CATEGORIES:Training
ATTACH;FMTTYPE=image/png:https://shekinah.co.uk/wp-content/uploads/2025/08/Mentoring-L1-Social-Media-Tile-2024.png
END:VEVENT
BEGIN:VEVENT
DTSTART;TZID=UTC:20250930T170000
DTEND;TZID=UTC:20250930T190000
DTSTAMP:20260426T003722
CREATED:20250814T103838Z
LAST-MODIFIED:20250814T103838Z
UID:10009424-1759251600-1759258800@shekinah.co.uk
SUMMARY:Creative Speaking Club – Art & English for Beginners
DESCRIPTION:Each week\, participants will practice speaking English through guided conversation and creative workshops. Every session will introduce a new artistic technique (painting\, jewellery making\, origami etc.)\, providing both language exposure and a fun\, supportive space for self-expression. \nEnglish natives are also welcome to this course to help with practicing the language and indulging into\ncultural exchange. \nTo book please click here.
URL:https://shekinah.co.uk/event/creative-speaking-club-art-english-for-beginners/2025-09-30/
LOCATION:Stonehouse Creek\, Plymouth
CATEGORIES:Learning Exchange
END:VEVENT
BEGIN:VEVENT
DTSTART;TZID=UTC:20250930T140000
DTEND;TZID=UTC:20250930T180000
DTSTAMP:20260426T003722
CREATED:20250812T100123Z
LAST-MODIFIED:20250812T100123Z
UID:10009001-1759240800-1759255200@shekinah.co.uk
SUMMARY:Re:vive
DESCRIPTION:
URL:https://shekinah.co.uk/event/revive-9/2025-09-30/
LOCATION:Stonehouse Creek\, Plymouth
CATEGORIES:Training
ATTACH;FMTTYPE=image/png:https://shekinah.co.uk/wp-content/uploads/2025/08/Revive-Social-Media-Tile-2025-1.png
END:VEVENT
BEGIN:VEVENT
DTSTART;TZID=UTC:20250930T140000
DTEND;TZID=UTC:20250930T160000
DTSTAMP:20260426T003722
CREATED:20250814T104015Z
LAST-MODIFIED:20250814T104015Z
UID:10009435-1759240800-1759248000@shekinah.co.uk
SUMMARY:Holistic Practices for Wellbeing
DESCRIPTION:A set of sessions enabling Peace\, Love\, Harmony and Wellbeing. \nThis will encompass: Enhancing Life force energy and Awareness of the Human Energy Field chakras\,\nFood and Nutrition for optimum health\, Qi Gong\, Mindful Meditation and Laughter Yoga. \nTo book please click here.
URL:https://shekinah.co.uk/event/holistic-practices-for-wellbeing/2025-09-30/
LOCATION:Stonehouse Creek\, Plymouth
CATEGORIES:Learning Exchange
END:VEVENT
BEGIN:VEVENT
DTSTART;TZID=UTC:20250930T120000
DTEND;TZID=UTC:20250930T140000
DTSTAMP:20260426T003722
CREATED:20241120T122457Z
LAST-MODIFIED:20241120T122457Z
UID:10004576-1759233600-1759240800@shekinah.co.uk
SUMMARY:Shelter to support your housing needs
DESCRIPTION:Open to all with issues around housing.
URL:https://shekinah.co.uk/event/shelter-to-support-your-housing-needs-2/2025-09-30/
LOCATION:Stonehouse Creek\, Plymouth
CATEGORIES:Drop in
END:VEVENT
BEGIN:VEVENT
DTSTART;TZID=UTC:20250930T093000
DTEND;TZID=UTC:20250930T133000
DTSTAMP:20260426T003722
CREATED:20250812T094200Z
LAST-MODIFIED:20250812T094200Z
UID:10008961-1759224600-1759239000@shekinah.co.uk
SUMMARY:Re:develop
DESCRIPTION:
URL:https://shekinah.co.uk/event/redevelop-11/2025-09-30/
LOCATION:Stonehouse Creek\, Plymouth
CATEGORIES:Training
ATTACH;FMTTYPE=image/png:https://shekinah.co.uk/wp-content/uploads/2025/08/Redevelop-Social-Media-Tile-April-2025.png
END:VEVENT
BEGIN:VEVENT
DTSTART;TZID=UTC:20250929T193000
DTEND;TZID=UTC:20250929T213000
DTSTAMP:20260426T003722
CREATED:20241120T124020Z
LAST-MODIFIED:20241120T124020Z
UID:10004771-1759174200-1759181400@shekinah.co.uk
SUMMARY:Trevi Support Group for women
DESCRIPTION:This support session is open to all women.  Safe space for all.  Please if you need support come along.
URL:https://shekinah.co.uk/event/trevi-support-group-for-women-2/2025-09-29/
LOCATION:Stonehouse Creek\, Plymouth
CATEGORIES:no-event
END:VEVENT
BEGIN:VEVENT
DTSTART;TZID=UTC:20250929T173000
DTEND;TZID=UTC:20250929T190000
DTSTAMP:20260426T003722
CREATED:20250814T115222Z
LAST-MODIFIED:20250814T115222Z
UID:10009484-1759167000-1759172400@shekinah.co.uk
SUMMARY:Watercolour
DESCRIPTION:Informal watercolour painting classes\, with input from tutor Robert Turner\, on\nvarious techniques – but with the emphasis on you creating art that you are happy with\, and in your own\nstyle. \nThere will be an emphasis on practical work\, and there should be time to compare traditional\napproaches to more modern ones\, especially regarding colour mixing and the use of gouache. \nIt is hoped that there will be a guest artist for the last session. \nTo book please click here!
URL:https://shekinah.co.uk/event/watercolour-5/2025-09-29/
LOCATION:Stonehouse Creek\, Plymouth
CATEGORIES:Learning Exchange
END:VEVENT
BEGIN:VEVENT
DTSTART;TZID=UTC:20250929T140000
DTEND;TZID=UTC:20250929T160000
DTSTAMP:20260426T003722
CREATED:20250814T115819Z
LAST-MODIFIED:20250903T061656Z
UID:10009491-1759154400-1759161600@shekinah.co.uk
SUMMARY:Gadgets and Gizmos
DESCRIPTION:These sessions will teach you how to use computer appliances and gadgets such as smartphone\, laptop and tablets. \nIf you struggle sending pictures\, saving files\, changing a format\, or searching the web then this\ncourse is for you. \nSome functions might be a mystery to you – Brian will explain how they might be useful and make your\ndaily life easier. \nTo book please click here!
URL:https://shekinah.co.uk/event/gadgets-and-gizmos/2025-09-29/
LOCATION:Stonehouse Creek\, Plymouth
CATEGORIES:Learning Exchange
END:VEVENT
BEGIN:VEVENT
DTSTART;TZID=UTC:20250929T140000
DTEND;TZID=UTC:20250929T160000
DTSTAMP:20260426T003722
CREATED:20250814T102933Z
LAST-MODIFIED:20250814T102933Z
UID:10009415-1759154400-1759161600@shekinah.co.uk
SUMMARY:Bored by the Bard?
DESCRIPTION:For-sooth! Gadzooks! \nCome along and have a look at Shakespeare’s plays! \nComedies (e.g. A Midsummer Night’s Dream)\nTragedies (e.g. Hamlet; Othello)\nHistories (e.g. Richard II; King John) \nWe will look at the plots\, the characters\, the backgrounds of the plays and read famous quotes\nwe all know (“Alas\, poor Yorick!”\, “A horse! a horse! my kingdom for a horse!”\, “Romeo\, Romeo…”). \nWe will watch how the plays have been portrayed in film and the theatre. Quizzes and games will be\nincluded. \nTo book please click here!
URL:https://shekinah.co.uk/event/bored-by-the-bard/2025-09-29/
LOCATION:Stonehouse Creek\, Plymouth
CATEGORIES:Learning Exchange
END:VEVENT
BEGIN:VEVENT
DTSTART;TZID=UTC:20250929T100000
DTEND;TZID=UTC:20250929T150000
DTSTAMP:20260426T003722
CREATED:20250812T083811Z
LAST-MODIFIED:20250812T093957Z
UID:10008947-1759140000-1759158000@shekinah.co.uk
SUMMARY:Re:Ignite
DESCRIPTION:
URL:https://shekinah.co.uk/event/reignite/2025-09-29/
LOCATION:Stonehouse Creek\, Plymouth
CATEGORIES:Training
ATTACH;FMTTYPE=image/png:https://shekinah.co.uk/wp-content/uploads/2025/08/ReIgnite-Social-Media-2025.png
END:VEVENT
BEGIN:VEVENT
DTSTART;TZID=UTC:20250926T123000
DTEND;TZID=UTC:20250926T143000
DTSTAMP:20260426T003722
CREATED:20241120T121157Z
LAST-MODIFIED:20260319T090415Z
UID:10004278-1758889800-1758897000@shekinah.co.uk
SUMMARY:DWP Drop in
DESCRIPTION:If you are looking for any support with regards Universal Credit or any other benefits please pop in to our Drop in!
URL:https://shekinah.co.uk/event/dwp-drop-in-2/2025-09-26/
LOCATION:Stonehouse Creek\, Plymouth
CATEGORIES:Drop in
END:VEVENT
BEGIN:VEVENT
DTSTART;TZID=UTC:20250926T110000
DTEND;TZID=UTC:20250926T150000
DTSTAMP:20260426T003722
CREATED:20250813T065652Z
LAST-MODIFIED:20250813T065652Z
UID:10009240-1758884400-1758898800@shekinah.co.uk
SUMMARY:Mental Health Awareness
DESCRIPTION:
URL:https://shekinah.co.uk/event/mental-health-awareness-7/2025-09-26/
LOCATION:Stonehouse Creek\, Plymouth
CATEGORIES:Training
ATTACH;FMTTYPE=image/png:https://shekinah.co.uk/wp-content/uploads/2025/08/Mental-Health-Social-Media-Tile-2025.png
END:VEVENT
BEGIN:VEVENT
DTSTART;TZID=UTC:20250926T110000
DTEND;TZID=UTC:20250926T140000
DTSTAMP:20260426T003722
CREATED:20250814T120538Z
LAST-MODIFIED:20250814T120538Z
UID:10009520-1758884400-1758895200@shekinah.co.uk
SUMMARY:Pallet Benches
DESCRIPTION:During these sessions we will take 3 old pallets\, sand them down\, cut them up and fix them together to change them into a beautiful garden bench. \nAfterwards\, you can either keep the bench or donate it to Shekinah for their new centre. \nWe will provide all the tools you need and explain in easy steps what you need to do. \nPlease click here to book!
URL:https://shekinah.co.uk/event/pallet-benches/2025-09-26/
LOCATION:Stonehouse Creek\, Plymouth
CATEGORIES:Learning Exchange
END:VEVENT
BEGIN:VEVENT
DTSTART;TZID=UTC:20250926T100000
DTEND;TZID=UTC:20250926T150000
DTSTAMP:20260426T003722
CREATED:20250813T064918Z
LAST-MODIFIED:20250813T064918Z
UID:10009200-1758880800-1758898800@shekinah.co.uk
SUMMARY:Re:Create
DESCRIPTION:
URL:https://shekinah.co.uk/event/recreate-2/2025-09-26/
LOCATION:Stonehouse Creek\, Plymouth
CATEGORIES:Training
ATTACH;FMTTYPE=image/png:https://shekinah.co.uk/wp-content/uploads/2025/08/Recreate-Social-Media-2025.png
END:VEVENT
BEGIN:VEVENT
DTSTART;TZID=UTC:20250925T140000
DTEND;TZID=UTC:20250925T180000
DTSTAMP:20260426T003722
CREATED:20250813T064212Z
LAST-MODIFIED:20250813T064212Z
UID:10009160-1758808800-1758823200@shekinah.co.uk
SUMMARY:Re:lease
DESCRIPTION:
URL:https://shekinah.co.uk/event/release/2025-09-25/
LOCATION:Stonehouse Creek\, Plymouth
CATEGORIES:Training
ATTACH;FMTTYPE=image/png:https://shekinah.co.uk/wp-content/uploads/2025/08/Release-Social-Media-2025.png
END:VEVENT
BEGIN:VEVENT
DTSTART;TZID=UTC:20250925T140000
DTEND;TZID=UTC:20250925T170000
DTSTAMP:20260426T003722
CREATED:20250814T120835Z
LAST-MODIFIED:20250814T120835Z
UID:10009523-1758808800-1758819600@shekinah.co.uk
SUMMARY:Paper Making
DESCRIPTION:Each session is stand-alone and will cover collecting & shredding paper\, soaking & making pulp\, then forming sheets which will then be left to dry. \nParticipants will then be free to collect the paper a couple of days later. \nTo book please click here!
URL:https://shekinah.co.uk/event/paper-making/2025-09-25/
LOCATION:Stonehouse Creek\, Plymouth
CATEGORIES:Learning Exchange
END:VEVENT
END:VCALENDAR