BEGIN:VCALENDAR
VERSION:2.0
PRODID:-//Shekinah - ECPv6.15.18//NONSGML v1.0//EN
CALSCALE:GREGORIAN
METHOD:PUBLISH
X-ORIGINAL-URL:https://shekinah.co.uk
X-WR-CALDESC:Events for Shekinah
REFRESH-INTERVAL;VALUE=DURATION:PT1H
X-Robots-Tag:noindex
X-PUBLISHED-TTL:PT1H
BEGIN:VTIMEZONE
TZID:UTC
BEGIN:STANDARD
TZOFFSETFROM:+0000
TZOFFSETTO:+0000
TZNAME:UTC
DTSTART:20250101T000000
END:STANDARD
END:VTIMEZONE
BEGIN:VEVENT
DTSTART;TZID=UTC:20260514T163000
DTEND;TZID=UTC:20260514T180000
DTSTAMP:20260421T185606
CREATED:20260413T125054Z
LAST-MODIFIED:20260413T125054Z
UID:10011910-1778776200-1778781600@shekinah.co.uk
SUMMARY:Self-Defence
DESCRIPTION:This session is accessible and available to everyone. \nIt includes fun activities\, pad work\, open discussion and practical introduction to self-defence that will\ngive everyone something to take away.
URL:https://shekinah.co.uk/event/self-defence-2/
LOCATION:Stonehouse Creek\, Plymouth
CATEGORIES:Learning Exchange
END:VEVENT
BEGIN:VEVENT
DTSTART;TZID=UTC:20260515T100000
DTEND;TZID=UTC:20260515T150000
DTSTAMP:20260421T185606
CREATED:20250813T065425Z
LAST-MODIFIED:20250813T065425Z
UID:10009226-1778839200-1778857200@shekinah.co.uk
SUMMARY:Re:Create
DESCRIPTION:
URL:https://shekinah.co.uk/event/recreate-6/2026-05-15/
LOCATION:Stonehouse Creek\, Plymouth
CATEGORIES:Training
ATTACH;FMTTYPE=image/png:https://shekinah.co.uk/wp-content/uploads/2025/08/Recreate-Social-Media-2025.png
END:VEVENT
BEGIN:VEVENT
DTSTART;TZID=UTC:20260515T110000
DTEND;TZID=UTC:20260515T150000
DTSTAMP:20260421T185606
CREATED:20250813T070051Z
LAST-MODIFIED:20250813T070051Z
UID:10009266-1778842800-1778857200@shekinah.co.uk
SUMMARY:Mental Health Awareness
DESCRIPTION:
URL:https://shekinah.co.uk/event/mental-health-awareness-11/2026-05-15/
LOCATION:Stonehouse Creek\, Plymouth
CATEGORIES:Training
ATTACH;FMTTYPE=image/png:https://shekinah.co.uk/wp-content/uploads/2025/08/Mental-Health-Social-Media-Tile-2025.png
END:VEVENT
BEGIN:VEVENT
DTSTART;TZID=UTC:20260515T123000
DTEND;TZID=UTC:20260515T143000
DTSTAMP:20260421T185606
CREATED:20241120T121157Z
LAST-MODIFIED:20260319T090415Z
UID:10004311-1778848200-1778855400@shekinah.co.uk
SUMMARY:DWP Drop in
DESCRIPTION:If you are looking for any support with regards Universal Credit or any other benefits please pop in to our Drop in!
URL:https://shekinah.co.uk/event/dwp-drop-in-2/2026-05-15/
LOCATION:Stonehouse Creek\, Plymouth
CATEGORIES:Drop in
END:VEVENT
BEGIN:VEVENT
DTSTART;TZID=UTC:20260515T150000
DTEND;TZID=UTC:20260515T170000
DTSTAMP:20260421T185606
CREATED:20260413T125412Z
LAST-MODIFIED:20260413T125412Z
UID:10011915-1778857200-1778864400@shekinah.co.uk
SUMMARY:Introduction to 3D Printing and Computer-Aided Design
DESCRIPTION:For this series of sessions\, it is important to have a basic understanding of computers. It would be good\nif you brought a laptop to work with\, but you can also borrow one from us if necessary. \nMatt will teach you the basics of 3D design\, show you how the printer works\, and give you an insight of\nwhat programmes are available to use. \nYou will be able to make your own design and if it is within the legal and physical parameters\, see it\nmaterialise.
URL:https://shekinah.co.uk/event/introduction-to-3d-printing-and-computer-aided-design/2026-05-15/
LOCATION:Stonehouse Creek\, Plymouth
CATEGORIES:Learning Exchange
END:VEVENT
BEGIN:VEVENT
DTSTART;TZID=UTC:20260515T150000
DTEND;TZID=UTC:20260515T170000
DTSTAMP:20260421T185606
CREATED:20260413T125530Z
LAST-MODIFIED:20260413T125530Z
UID:10011919-1778857200-1778864400@shekinah.co.uk
SUMMARY:Crochet Against Discrimination
DESCRIPTION:Crochet against discrimination and knit against oppression! This is a space to have a poke at class\,\nrace\, gender\, nationality\, ability\, ethnicity and sexuality. \nWe invite you to come join this group for storytelling and positive insurrection\, unpicking oppressive\nnarratives and weaving a strong community network.
URL:https://shekinah.co.uk/event/crochet-against-discrimination/2026-05-15/
LOCATION:Stonehouse Creek\, Plymouth
CATEGORIES:Learning Exchange
END:VEVENT
BEGIN:VEVENT
DTSTART;TZID=UTC:20260515T153000
DTEND;TZID=UTC:20260515T173000
DTSTAMP:20260421T185606
CREATED:20260413T123911Z
LAST-MODIFIED:20260413T123911Z
UID:10011885-1778859000-1778866200@shekinah.co.uk
SUMMARY:Glass Painting
DESCRIPTION:Come and paint pictures on glass! \nLearn how to paint glass in this two part workshop. In week one we will learn about the paints and how\nthey are best applied to glass. Using templates we will paint the outline image in a raised relief paint. \nIn week two we will bring them to life with colour to produce a stained glass window effect. \nDate and time: Fridays 1/5 and 8/5 or 15/5 and 22/5. 3.30pm – 5.30pm (When booking\, please specify\nwhich session pair you would prefer) Email
URL:https://shekinah.co.uk/event/glass-painting/2026-05-15/
LOCATION:Stonehouse Creek\, Plymouth
CATEGORIES:Learning Exchange
END:VEVENT
BEGIN:VEVENT
DTSTART;TZID=UTC:20260518T100000
DTEND;TZID=UTC:20260518T120000
DTSTAMP:20260421T185606
CREATED:20260413T122835Z
LAST-MODIFIED:20260413T122928Z
UID:10011843-1779098400-1779105600@shekinah.co.uk
SUMMARY:Literacy: Having Fun With Words
DESCRIPTION:Improve your reading and writing skills through simple tasks and games. If you have difficulty to\nfocus on reading or if you have problems composing a letter or email\, this course is for you. \nEdwina will meet you at your level and support you at a speed of learning that is comfortable to you. \nMondays and Thursdays\, allocated time slots. To enquire please email Learning Exchange Team.
URL:https://shekinah.co.uk/event/literacy-having-fun-with-words-2/2026-05-18/
LOCATION:Stonehouse Creek\, Plymouth
CATEGORIES:Learning Exchange
END:VEVENT
BEGIN:VEVENT
DTSTART;TZID=UTC:20260518T110000
DTEND;TZID=UTC:20260518T130000
DTSTAMP:20260421T185606
CREATED:20260413T123626Z
LAST-MODIFIED:20260413T123626Z
UID:10011882-1779102000-1779109200@shekinah.co.uk
SUMMARY:Stonehouse Stompers - Walking Group
DESCRIPTION:Gather and find out more about your local area by following a planned route\, learn about the\ncommunity resources and improve your well-being at the same time.\nWe will start each walk with a safety talk\, ensuring you know what to expect and where we are going. Each walk will have a different theme\, and you can sign up to a single walk or many.\n1) Mental Health – 1st May\n2) Marine – 8th May\n3) Music / Meditation / Movement – 15th May\n4) Foraging – 22nd May\n5) Art – 29th May\n6) Union Street – 5th June \nTeaching and Learning Approaches: Be prepared for all weathers – suitable footwear\, layers\, snacks and water. We will be stopping along the route at regular intervals and will provide teas / coffees.
URL:https://shekinah.co.uk/event/stonehouse-stompers-walking-group/2026-05-18/
LOCATION:Stonehouse Creek\, Plymouth
CATEGORIES:Learning Exchange
END:VEVENT
BEGIN:VEVENT
DTSTART;TZID=UTC:20260518T193000
DTEND;TZID=UTC:20260518T213000
DTSTAMP:20260421T185606
CREATED:20241120T124020Z
LAST-MODIFIED:20241120T124020Z
UID:10004837-1779132600-1779139800@shekinah.co.uk
SUMMARY:Trevi Support Group for women
DESCRIPTION:This support session is open to all women.  Safe space for all.  Please if you need support come along.
URL:https://shekinah.co.uk/event/trevi-support-group-for-women-2/2026-05-18/
LOCATION:Stonehouse Creek\, Plymouth
CATEGORIES:no-event
END:VEVENT
BEGIN:VEVENT
DTSTART;TZID=UTC:20260519T093000
DTEND;TZID=UTC:20260519T133000
DTSTAMP:20260421T185606
CREATED:20250812T095153Z
LAST-MODIFIED:20250812T095313Z
UID:10008987-1779183000-1779197400@shekinah.co.uk
SUMMARY:Re:develop
DESCRIPTION:
URL:https://shekinah.co.uk/event/redevelop-15/2026-05-19/
LOCATION:Stonehouse Creek\, Plymouth
CATEGORIES:Training
ATTACH;FMTTYPE=image/png:https://shekinah.co.uk/wp-content/uploads/2025/08/Redevelop-Social-Media-Tile-April-2025.png
END:VEVENT
BEGIN:VEVENT
DTSTART;TZID=UTC:20260519T130000
DTEND;TZID=UTC:20260519T150000
DTSTAMP:20260421T185606
CREATED:20260413T123102Z
LAST-MODIFIED:20260413T123102Z
UID:10011855-1779195600-1779202800@shekinah.co.uk
SUMMARY:IT & Tech Support
DESCRIPTION:Having problems with smartphone\, laptop or tablet? \nDo you struggle with functions\, files\, formats or searching the web? \nWhatever the problem or level – Brian is here to help you.
URL:https://shekinah.co.uk/event/it-tech-support-3/2026-05-19/
LOCATION:Stonehouse Creek\, Plymouth
CATEGORIES:Learning Exchange
END:VEVENT
BEGIN:VEVENT
DTSTART;TZID=UTC:20260519T140000
DTEND;TZID=UTC:20260519T180000
DTSTAMP:20260421T185606
CREATED:20250812T101324Z
LAST-MODIFIED:20250812T101553Z
UID:10009027-1779199200-1779213600@shekinah.co.uk
SUMMARY:Re:vive
DESCRIPTION:
URL:https://shekinah.co.uk/event/revive-13/2026-05-19/
LOCATION:Stonehouse Creek\, Plymouth
CATEGORIES:Training
ATTACH;FMTTYPE=image/png:https://shekinah.co.uk/wp-content/uploads/2025/08/Revive-Social-Media-Tile-2025-1.png
END:VEVENT
BEGIN:VEVENT
DTSTART;TZID=UTC:20260520T093000
DTEND;TZID=UTC:20260520T130000
DTSTAMP:20260421T185606
CREATED:20250812T102459Z
LAST-MODIFIED:20250812T102459Z
UID:10009067-1779269400-1779282000@shekinah.co.uk
SUMMARY:Mentoring Level 1
DESCRIPTION:
URL:https://shekinah.co.uk/event/mentoring-level-1-11/2026-05-20/
LOCATION:Stonehouse Creek\, Plymouth
CATEGORIES:Training
ATTACH;FMTTYPE=image/png:https://shekinah.co.uk/wp-content/uploads/2025/08/Mentoring-L1-Social-Media-Tile-2024.png
END:VEVENT
BEGIN:VEVENT
DTSTART;TZID=UTC:20260520T100000
DTEND;TZID=UTC:20260520T150000
DTSTAMP:20260421T185606
CREATED:20250812T103258Z
LAST-MODIFIED:20250812T103258Z
UID:10009107-1779271200-1779289200@shekinah.co.uk
SUMMARY:Carpentry
DESCRIPTION:
URL:https://shekinah.co.uk/event/carpentry-11/2026-05-20/
LOCATION:Stonehouse Creek\, Plymouth
CATEGORIES:Training
ATTACH;FMTTYPE=image/png:https://shekinah.co.uk/wp-content/uploads/2025/08/Carpentry-Social-Media-Tile-2025.png
END:VEVENT
BEGIN:VEVENT
DTSTART;TZID=UTC:20260520T110000
DTEND;TZID=UTC:20260520T130000
DTSTAMP:20260421T185606
CREATED:20260413T123341Z
LAST-MODIFIED:20260413T123341Z
UID:10011869-1779274800-1779282000@shekinah.co.uk
SUMMARY:Cabin Sessions
DESCRIPTION:Make a noise and spread some joy – Come along to our sessions to sing some classic hits with Matt and\nJon. \nBring an instrument or a shaky egg\, stylophone etc. if you want.
URL:https://shekinah.co.uk/event/cabin-sessions-2/2026-05-20/
LOCATION:Stonehouse Creek\, Plymouth
CATEGORIES:Learning Exchange
END:VEVENT
BEGIN:VEVENT
DTSTART;TZID=UTC:20260520T130000
DTEND;TZID=UTC:20260520T150000
DTSTAMP:20260421T185606
CREATED:20260413T125237Z
LAST-MODIFIED:20260413T125237Z
UID:10011911-1779282000-1779289200@shekinah.co.uk
SUMMARY:Spoon Carving
DESCRIPTION:The course will be a series of sessions\, each building on the previous one. \nSession 1: Introduction to safely using an axe to produce a billet ready for carving a spoon.\nSession 2: Introduction to safely using a knife to carve a spoon from a pre-prepared billet.\nSession 3: Finishing and oiling your spoon. \nAt the end of the last session\, you will hopefully have a spoon you can take home and enjoy.
URL:https://shekinah.co.uk/event/spoon-carving-6/2026-05-20/
LOCATION:Stonehouse Creek\, Plymouth
CATEGORIES:Learning Exchange
END:VEVENT
BEGIN:VEVENT
DTSTART;TZID=UTC:20260520T140000
DTEND;TZID=UTC:20260520T160000
DTSTAMP:20260421T185606
CREATED:20260413T124048Z
LAST-MODIFIED:20260413T124048Z
UID:10011889-1779285600-1779292800@shekinah.co.uk
SUMMARY:Spoken Word/Poetry - “Shekinah Speaks!”
DESCRIPTION:So\, you want to explore poetry and spoken word? All you will need for this workshop is yourself\, a pen and a notebook. \nIt is welcoming to creatives of all levels of ability. Don’t worry if you’re a newbie – this could be the\nchance you’ve been waiting for to explore the vast world of language\, which is poetry and spoken word. \nThere will also be advice how to get into open mic\, as well as a possible route towards publication. Hope\nto see you there.
URL:https://shekinah.co.uk/event/spoken-word-poetry-shekinah-speaks/2026-05-20/
LOCATION:Stonehouse Creek\, Plymouth
CATEGORIES:Learning Exchange
END:VEVENT
BEGIN:VEVENT
DTSTART;TZID=UTC:20260520T170000
DTEND;TZID=UTC:20260520T180000
DTSTAMP:20260421T185606
CREATED:20260413T124214Z
LAST-MODIFIED:20260413T124214Z
UID:10011895-1779296400-1779300000@shekinah.co.uk
SUMMARY:Hatha Yoga
DESCRIPTION:This will be a mixed ability class of Hatha yoga (1 hour sessions)\, which will mostly focus on beginners\,\nhowever there will be options to make it more challenging for the more experienced. \nIt will focus on posture work\, some breathing practices and meditation\, in order to make each\nparticipant more aware of their body and enable them to feel more comfortable in it. \nPlease bring a small blanket\, if you can\, as a support or for keeping warm during savasana (rest).
URL:https://shekinah.co.uk/event/hatha-yoga-10/2026-05-20/
LOCATION:Stonehouse Creek\, Plymouth
CATEGORIES:Learning Exchange
END:VEVENT
BEGIN:VEVENT
DTSTART;TZID=UTC:20260520T193000
DTEND;TZID=UTC:20260520T213000
DTSTAMP:20260421T185606
CREATED:20241120T124020Z
LAST-MODIFIED:20241120T124020Z
UID:10004838-1779305400-1779312600@shekinah.co.uk
SUMMARY:Trevi Support Group for women
DESCRIPTION:This support session is open to all women.  Safe space for all.  Please if you need support come along.
URL:https://shekinah.co.uk/event/trevi-support-group-for-women-2/2026-05-20/
LOCATION:Stonehouse Creek\, Plymouth
CATEGORIES:no-event
END:VEVENT
BEGIN:VEVENT
DTSTART;TZID=UTC:20260521T090000
DTEND;TZID=UTC:20260521T150000
DTSTAMP:20260421T185606
CREATED:20250115T132704Z
LAST-MODIFIED:20251106T082456Z
UID:10007617-1779354000-1779375600@shekinah.co.uk
SUMMARY:Vision Care - essential eye care
DESCRIPTION:
URL:https://shekinah.co.uk/event/vision-care-essential-eye-care/2026-05-21/
LOCATION:Stonehouse Creek\, Plymouth
CATEGORIES:no-event
END:VEVENT
BEGIN:VEVENT
DTSTART;TZID=UTC:20260521T093000
DTEND;TZID=UTC:20260521T130000
DTSTAMP:20260421T185606
CREATED:20250812T134357Z
LAST-MODIFIED:20260331T095337Z
UID:10009147-1779355800-1779368400@shekinah.co.uk
SUMMARY:Mentoring Level 2
DESCRIPTION:Develop the understanding of the role and nature of Mentoring. Utilize mentoring skills to reflect on your own performance and learn key listening and questioning techniques. \nUnderstand how to organize mentoring activities and plan for effective mentoring sessions. Reflect on your own performance and define the goals\, progress and actions you require. \nLimited space so please book to avoid disappointment.
URL:https://shekinah.co.uk/event/mentoring-level-2-12/2026-05-21/
LOCATION:Stonehouse Creek\, Plymouth
CATEGORIES:Training
ATTACH;FMTTYPE=image/png:https://shekinah.co.uk/wp-content/uploads/2025/08/Mentoring-L2-Social-Media-Tile-2024-1.png
END:VEVENT
BEGIN:VEVENT
DTSTART;TZID=UTC:20260521T100000
DTEND;TZID=UTC:20260521T120000
DTSTAMP:20260421T185606
CREATED:20260413T122835Z
LAST-MODIFIED:20260413T122928Z
UID:10011844-1779357600-1779364800@shekinah.co.uk
SUMMARY:Literacy: Having Fun With Words
DESCRIPTION:Improve your reading and writing skills through simple tasks and games. If you have difficulty to\nfocus on reading or if you have problems composing a letter or email\, this course is for you. \nEdwina will meet you at your level and support you at a speed of learning that is comfortable to you. \nMondays and Thursdays\, allocated time slots. To enquire please email Learning Exchange Team.
URL:https://shekinah.co.uk/event/literacy-having-fun-with-words-2/2026-05-21/
LOCATION:Stonehouse Creek\, Plymouth
CATEGORIES:Learning Exchange
END:VEVENT
BEGIN:VEVENT
DTSTART;TZID=UTC:20260521T110000
DTEND;TZID=UTC:20260521T123000
DTSTAMP:20260421T185606
CREATED:20260413T124952Z
LAST-MODIFIED:20260413T124952Z
UID:10011905-1779361200-1779366600@shekinah.co.uk
SUMMARY:Guitar Lessons
DESCRIPTION:In this course you will learn several chords and strumming techniques. Also\, tuning a guitar\, care\nand maintenance. \nYou will find a new way of expression\, improve your hand-eye coordination and listening skills\, and enter the community of musicians. \nALL LEVELS WELCOME! \nGuitars will be supplied if needed.
URL:https://shekinah.co.uk/event/guitar-lessons/2026-05-21/
LOCATION:Stonehouse Creek\, Plymouth
CATEGORIES:Learning Exchange
END:VEVENT
BEGIN:VEVENT
DTSTART;TZID=UTC:20260521T140000
DTEND;TZID=UTC:20260521T180000
DTSTAMP:20260421T185606
CREATED:20250813T064649Z
LAST-MODIFIED:20250813T064649Z
UID:10009187-1779372000-1779386400@shekinah.co.uk
SUMMARY:Re:lease
DESCRIPTION:
URL:https://shekinah.co.uk/event/release-5/2026-05-21/
LOCATION:Stonehouse Creek\, Plymouth
CATEGORIES:Training
ATTACH;FMTTYPE=image/png:https://shekinah.co.uk/wp-content/uploads/2025/08/Release-Social-Media-2025.png
END:VEVENT
BEGIN:VEVENT
DTSTART;TZID=UTC:20260522T100000
DTEND;TZID=UTC:20260522T150000
DTSTAMP:20260421T185606
CREATED:20250813T065425Z
LAST-MODIFIED:20250813T065425Z
UID:10009227-1779444000-1779462000@shekinah.co.uk
SUMMARY:Re:Create
DESCRIPTION:
URL:https://shekinah.co.uk/event/recreate-6/2026-05-22/
LOCATION:Stonehouse Creek\, Plymouth
CATEGORIES:Training
ATTACH;FMTTYPE=image/png:https://shekinah.co.uk/wp-content/uploads/2025/08/Recreate-Social-Media-2025.png
END:VEVENT
BEGIN:VEVENT
DTSTART;TZID=UTC:20260522T110000
DTEND;TZID=UTC:20260522T150000
DTSTAMP:20260421T185606
CREATED:20250813T070051Z
LAST-MODIFIED:20250813T070051Z
UID:10009267-1779447600-1779462000@shekinah.co.uk
SUMMARY:Mental Health Awareness
DESCRIPTION:
URL:https://shekinah.co.uk/event/mental-health-awareness-11/2026-05-22/
LOCATION:Stonehouse Creek\, Plymouth
CATEGORIES:Training
ATTACH;FMTTYPE=image/png:https://shekinah.co.uk/wp-content/uploads/2025/08/Mental-Health-Social-Media-Tile-2025.png
END:VEVENT
BEGIN:VEVENT
DTSTART;TZID=UTC:20260522T123000
DTEND;TZID=UTC:20260522T143000
DTSTAMP:20260421T185606
CREATED:20241120T121157Z
LAST-MODIFIED:20260319T090415Z
UID:10004312-1779453000-1779460200@shekinah.co.uk
SUMMARY:DWP Drop in
DESCRIPTION:If you are looking for any support with regards Universal Credit or any other benefits please pop in to our Drop in!
URL:https://shekinah.co.uk/event/dwp-drop-in-2/2026-05-22/
LOCATION:Stonehouse Creek\, Plymouth
CATEGORIES:Drop in
END:VEVENT
BEGIN:VEVENT
DTSTART;TZID=UTC:20260522T150000
DTEND;TZID=UTC:20260522T170000
DTSTAMP:20260421T185606
CREATED:20260413T125412Z
LAST-MODIFIED:20260413T125412Z
UID:10011916-1779462000-1779469200@shekinah.co.uk
SUMMARY:Introduction to 3D Printing and Computer-Aided Design
DESCRIPTION:For this series of sessions\, it is important to have a basic understanding of computers. It would be good\nif you brought a laptop to work with\, but you can also borrow one from us if necessary. \nMatt will teach you the basics of 3D design\, show you how the printer works\, and give you an insight of\nwhat programmes are available to use. \nYou will be able to make your own design and if it is within the legal and physical parameters\, see it\nmaterialise.
URL:https://shekinah.co.uk/event/introduction-to-3d-printing-and-computer-aided-design/2026-05-22/
LOCATION:Stonehouse Creek\, Plymouth
CATEGORIES:Learning Exchange
END:VEVENT
BEGIN:VEVENT
DTSTART;TZID=UTC:20260522T150000
DTEND;TZID=UTC:20260522T170000
DTSTAMP:20260421T185606
CREATED:20260413T125530Z
LAST-MODIFIED:20260413T125530Z
UID:10011920-1779462000-1779469200@shekinah.co.uk
SUMMARY:Crochet Against Discrimination
DESCRIPTION:Crochet against discrimination and knit against oppression! This is a space to have a poke at class\,\nrace\, gender\, nationality\, ability\, ethnicity and sexuality. \nWe invite you to come join this group for storytelling and positive insurrection\, unpicking oppressive\nnarratives and weaving a strong community network.
URL:https://shekinah.co.uk/event/crochet-against-discrimination/2026-05-22/
LOCATION:Stonehouse Creek\, Plymouth
CATEGORIES:Learning Exchange
END:VEVENT
END:VCALENDAR